BEGIN:VCALENDAR
VERSION:2.0
PRODID:-//I Love Lake Arrowhead - ECPv6.15.20//NONSGML v1.0//EN
CALSCALE:GREGORIAN
METHOD:PUBLISH
X-ORIGINAL-URL:https://ilovelakearrowhead.com
X-WR-CALDESC:Events for I Love Lake Arrowhead
REFRESH-INTERVAL;VALUE=DURATION:PT1H
X-Robots-Tag:noindex
X-PUBLISHED-TTL:PT1H
BEGIN:VTIMEZONE
TZID:America/Los_Angeles
BEGIN:DAYLIGHT
TZOFFSETFROM:-0800
TZOFFSETTO:-0700
TZNAME:PDT
DTSTART:20240310T100000
END:DAYLIGHT
BEGIN:STANDARD
TZOFFSETFROM:-0700
TZOFFSETTO:-0800
TZNAME:PST
DTSTART:20241103T090000
END:STANDARD
BEGIN:DAYLIGHT
TZOFFSETFROM:-0800
TZOFFSETTO:-0700
TZNAME:PDT
DTSTART:20250309T100000
END:DAYLIGHT
BEGIN:STANDARD
TZOFFSETFROM:-0700
TZOFFSETTO:-0800
TZNAME:PST
DTSTART:20251102T090000
END:STANDARD
BEGIN:DAYLIGHT
TZOFFSETFROM:-0800
TZOFFSETTO:-0700
TZNAME:PDT
DTSTART:20260308T100000
END:DAYLIGHT
BEGIN:STANDARD
TZOFFSETFROM:-0700
TZOFFSETTO:-0800
TZNAME:PST
DTSTART:20261101T090000
END:STANDARD
END:VTIMEZONE
BEGIN:VEVENT
DTSTART;TZID=America/Los_Angeles:20250919T100000
DTEND;TZID=America/Los_Angeles:20250919T130000
DTSTAMP:20260425T182838
CREATED:20250910T013636Z
LAST-MODIFIED:20250910T013636Z
UID:10005854-1758276000-1758286800@ilovelakearrowhead.com
SUMMARY:Ribbon Cutting Invitation - Mackay Pickleball Courts
DESCRIPTION:Please join San Bernardino County Public Works\, Special Districts for the ribbon cutting of the new MacKay Park Pickleball Court Friday\, September 19th at 10am! Celebrate and stick around for some fun pickleball games after the ceremony.\nPlease share this invitation\, everyone welcome. It’ll be a smash hit.\n\nLocation:\nMackay Park\n321 Rouse Ranch Road\, Lake Arrowhead\, CA 92352
URL:https://ilovelakearrowhead.com/event/ribbon-cutting-invitation-mackay-pickleball-courts/
LOCATION:MacKay Park\, 321 Rouse Ranch Road\, San Bernardino\, CA\, 92402\, United States
ATTACH;FMTTYPE=image/jpeg:https://ilovelakearrowhead.com/wp-content/uploads/pickleballSB.jpg
END:VEVENT
END:VCALENDAR