BEGIN:VCALENDAR
VERSION:2.0
PRODID:-//I Love Lake Arrowhead - ECPv6.15.20//NONSGML v1.0//EN
CALSCALE:GREGORIAN
METHOD:PUBLISH
X-WR-CALNAME:I Love Lake Arrowhead
X-ORIGINAL-URL:https://ilovelakearrowhead.com
X-WR-CALDESC:Events for I Love Lake Arrowhead
REFRESH-INTERVAL;VALUE=DURATION:PT1H
X-Robots-Tag:noindex
X-PUBLISHED-TTL:PT1H
BEGIN:VTIMEZONE
TZID:America/Los_Angeles
BEGIN:DAYLIGHT
TZOFFSETFROM:-0800
TZOFFSETTO:-0700
TZNAME:PDT
DTSTART:20250309T100000
END:DAYLIGHT
BEGIN:STANDARD
TZOFFSETFROM:-0700
TZOFFSETTO:-0800
TZNAME:PST
DTSTART:20251102T090000
END:STANDARD
BEGIN:DAYLIGHT
TZOFFSETFROM:-0800
TZOFFSETTO:-0700
TZNAME:PDT
DTSTART:20260308T100000
END:DAYLIGHT
BEGIN:STANDARD
TZOFFSETFROM:-0700
TZOFFSETTO:-0800
TZNAME:PST
DTSTART:20261101T090000
END:STANDARD
BEGIN:DAYLIGHT
TZOFFSETFROM:-0800
TZOFFSETTO:-0700
TZNAME:PDT
DTSTART:20270314T100000
END:DAYLIGHT
BEGIN:STANDARD
TZOFFSETFROM:-0700
TZOFFSETTO:-0800
TZNAME:PST
DTSTART:20271107T090000
END:STANDARD
END:VTIMEZONE
BEGIN:VEVENT
DTSTART;TZID=America/Los_Angeles:20260422T080000
DTEND;TZID=America/Los_Angeles:20260422T103000
DTSTAMP:20260425T090650
CREATED:20260412T203958Z
LAST-MODIFIED:20260412T203958Z
UID:10008435-1776844800-1776853800@ilovelakearrowhead.com
SUMMARY:Paddle to Untangle
DESCRIPTION:Help us in continuing to keep our lake clean! Volunteers invited to paddle out to remove litter and fishing line.\nRSVP 👉   Here
URL:https://ilovelakearrowhead.com/event/paddle-to-untangle/
LOCATION:Lake Gregory\, 24640 San Moritz Drive\, Crestline\, CA\, 92325
ATTACH;FMTTYPE=image/jpeg:https://ilovelakearrowhead.com/wp-content/uploads/lakegregory.jpg
END:VEVENT
BEGIN:VEVENT
DTSTART;TZID=America/Los_Angeles:20260418T070000
DTEND;TZID=America/Los_Angeles:20260418T133000
DTSTAMP:20260425T090650
CREATED:20260412T202533Z
LAST-MODIFIED:20260412T202807Z
UID:10008434-1776495600-1776519000@ilovelakearrowhead.com
SUMMARY:Trout Derby
DESCRIPTION:Tickets are now live for our 2nd Annual Trout Derby!\nGrab your tickets\, bring your gear\, and we’ll see you at the lake. 🎣 \n📍 Lake Gregory\n☀ Rain or shine\nFood and merchant vendors\n🧑‍🧑‍🧒 All ages welcome \nPurchase tickets at lakegregory.com/fishing\nBe sure to register online before 9pm on April 17th\, 2026 to secure your spot.
URL:https://ilovelakearrowhead.com/event/trout-derby/
LOCATION:Lake Gregory\, 24640 San Moritz Drive\, Crestline\, CA\, 92325
ATTACH;FMTTYPE=image/jpeg:https://ilovelakearrowhead.com/wp-content/uploads/Troutderby-1.jpg
END:VEVENT
END:VCALENDAR