BEGIN:VCALENDAR
VERSION:2.0
PRODID:-//I Love Lake Arrowhead - ECPv6.15.20//NONSGML v1.0//EN
CALSCALE:GREGORIAN
METHOD:PUBLISH
X-WR-CALNAME:I Love Lake Arrowhead
X-ORIGINAL-URL:https://ilovelakearrowhead.com
X-WR-CALDESC:Events for I Love Lake Arrowhead
REFRESH-INTERVAL;VALUE=DURATION:PT1H
X-Robots-Tag:noindex
X-PUBLISHED-TTL:PT1H
BEGIN:VTIMEZONE
TZID:America/Los_Angeles
BEGIN:DAYLIGHT
TZOFFSETFROM:-0800
TZOFFSETTO:-0700
TZNAME:PDT
DTSTART:20250309T100000
END:DAYLIGHT
BEGIN:STANDARD
TZOFFSETFROM:-0700
TZOFFSETTO:-0800
TZNAME:PST
DTSTART:20251102T090000
END:STANDARD
BEGIN:DAYLIGHT
TZOFFSETFROM:-0800
TZOFFSETTO:-0700
TZNAME:PDT
DTSTART:20260308T100000
END:DAYLIGHT
BEGIN:STANDARD
TZOFFSETFROM:-0700
TZOFFSETTO:-0800
TZNAME:PST
DTSTART:20261101T090000
END:STANDARD
BEGIN:DAYLIGHT
TZOFFSETFROM:-0800
TZOFFSETTO:-0700
TZNAME:PDT
DTSTART:20270314T100000
END:DAYLIGHT
BEGIN:STANDARD
TZOFFSETFROM:-0700
TZOFFSETTO:-0800
TZNAME:PST
DTSTART:20271107T090000
END:STANDARD
BEGIN:DAYLIGHT
TZOFFSETFROM:-0800
TZOFFSETTO:-0700
TZNAME:PDT
DTSTART:20280312T100000
END:DAYLIGHT
BEGIN:STANDARD
TZOFFSETFROM:-0700
TZOFFSETTO:-0800
TZNAME:PST
DTSTART:20281105T090000
END:STANDARD
END:VTIMEZONE
BEGIN:VEVENT
DTSTART;TZID=America/Los_Angeles:20261123T080000
DTEND;TZID=America/Los_Angeles:20261123T170000
DTSTAMP:20260425T082402
CREATED:20250122T183719Z
LAST-MODIFIED:20250122T183719Z
UID:10003830-1795420800-1795453200@ilovelakearrowhead.com
SUMMARY:Live Music at Saddleback Inn
DESCRIPTION:Live music Monday’s and Wednesday’s at Saddleback Inn in Lake Arrowhead from 4:30-7:30pm! Take advantage of happy hour pricing before 6pm. All ages welcome. \nLocation: Saddleback Inn | 300 CA-173\, Lake Arrowhead\, CA 92352 \ntime: 4:30-7:30pm \ndays: Monday and Wednesday’s
URL:https://ilovelakearrowhead.com/event/live-music-at-saddleback-inn/2026-11-23/
LOCATION:CA
ATTACH;FMTTYPE=image/jpeg:https://ilovelakearrowhead.com/wp-content/uploads/IMG_7074.jpg
END:VEVENT
BEGIN:VEVENT
DTSTART;TZID=America/Los_Angeles:20261123T180000
DTEND;TZID=America/Los_Angeles:20261123T210000
DTSTAMP:20260425T082402
CREATED:20260422T021532Z
LAST-MODIFIED:20260422T022212Z
UID:10008482-1795456800-1795467600@ilovelakearrowhead.com
SUMMARY:Live Music at BIN 189
DESCRIPTION:Ease into the week with live music at Bin 189 in a relaxed lounge setting. Sip\, snack\, and enjoy local sounds that set the tone for a cozy mountain evening. \n🗓️ Daily on Monday \n⏱️ 6:00 PM – 9:00PM \nCall 800-800-6769 for reservations or visit Website Here
URL:https://ilovelakearrowhead.com/event/live-music-at-bin-189/2026-11-23/
LOCATION:Lake Arrowhead Resort and Spa\, 27984 HWY 189\, Lake Arrowhead\, CA\, 92352\, United States
CATEGORIES:Lake Arrowhead Resort & Spa
ATTACH;FMTTYPE=image/jpeg:https://ilovelakearrowhead.com/wp-content/uploads/livemusic-2.jpg
END:VEVENT
BEGIN:VEVENT
DTSTART;TZID=America/Los_Angeles:20261125T080000
DTEND;TZID=America/Los_Angeles:20261125T170000
DTSTAMP:20260425T082402
CREATED:20250122T183719Z
LAST-MODIFIED:20250122T183719Z
UID:10003831-1795593600-1795626000@ilovelakearrowhead.com
SUMMARY:Live Music at Saddleback Inn
DESCRIPTION:Live music Monday’s and Wednesday’s at Saddleback Inn in Lake Arrowhead from 4:30-7:30pm! Take advantage of happy hour pricing before 6pm. All ages welcome. \nLocation: Saddleback Inn | 300 CA-173\, Lake Arrowhead\, CA 92352 \ntime: 4:30-7:30pm \ndays: Monday and Wednesday’s
URL:https://ilovelakearrowhead.com/event/live-music-at-saddleback-inn/2026-11-25/
LOCATION:CA
ATTACH;FMTTYPE=image/jpeg:https://ilovelakearrowhead.com/wp-content/uploads/IMG_7074.jpg
END:VEVENT
BEGIN:VEVENT
DTSTART;TZID=America/Los_Angeles:20261130T180000
DTEND;TZID=America/Los_Angeles:20261130T210000
DTSTAMP:20260425T082402
CREATED:20260422T021532Z
LAST-MODIFIED:20260422T022212Z
UID:10008483-1796061600-1796072400@ilovelakearrowhead.com
SUMMARY:Live Music at BIN 189
DESCRIPTION:Ease into the week with live music at Bin 189 in a relaxed lounge setting. Sip\, snack\, and enjoy local sounds that set the tone for a cozy mountain evening. \n🗓️ Daily on Monday \n⏱️ 6:00 PM – 9:00PM \nCall 800-800-6769 for reservations or visit Website Here
URL:https://ilovelakearrowhead.com/event/live-music-at-bin-189/2026-11-30/
LOCATION:Lake Arrowhead Resort and Spa\, 27984 HWY 189\, Lake Arrowhead\, CA\, 92352\, United States
CATEGORIES:Lake Arrowhead Resort & Spa
ATTACH;FMTTYPE=image/jpeg:https://ilovelakearrowhead.com/wp-content/uploads/livemusic-2.jpg
END:VEVENT
BEGIN:VEVENT
DTSTART;TZID=America/Los_Angeles:20261207T080000
DTEND;TZID=America/Los_Angeles:20261207T170000
DTSTAMP:20260425T082402
CREATED:20250122T183719Z
LAST-MODIFIED:20250122T183719Z
UID:10003832-1796630400-1796662800@ilovelakearrowhead.com
SUMMARY:Live Music at Saddleback Inn
DESCRIPTION:Live music Monday’s and Wednesday’s at Saddleback Inn in Lake Arrowhead from 4:30-7:30pm! Take advantage of happy hour pricing before 6pm. All ages welcome. \nLocation: Saddleback Inn | 300 CA-173\, Lake Arrowhead\, CA 92352 \ntime: 4:30-7:30pm \ndays: Monday and Wednesday’s
URL:https://ilovelakearrowhead.com/event/live-music-at-saddleback-inn/2026-12-07/
LOCATION:CA
ATTACH;FMTTYPE=image/jpeg:https://ilovelakearrowhead.com/wp-content/uploads/IMG_7074.jpg
END:VEVENT
BEGIN:VEVENT
DTSTART;TZID=America/Los_Angeles:20261207T180000
DTEND;TZID=America/Los_Angeles:20261207T210000
DTSTAMP:20260425T082402
CREATED:20260422T021532Z
LAST-MODIFIED:20260422T022212Z
UID:10008484-1796666400-1796677200@ilovelakearrowhead.com
SUMMARY:Live Music at BIN 189
DESCRIPTION:Ease into the week with live music at Bin 189 in a relaxed lounge setting. Sip\, snack\, and enjoy local sounds that set the tone for a cozy mountain evening. \n🗓️ Daily on Monday \n⏱️ 6:00 PM – 9:00PM \nCall 800-800-6769 for reservations or visit Website Here
URL:https://ilovelakearrowhead.com/event/live-music-at-bin-189/2026-12-07/
LOCATION:Lake Arrowhead Resort and Spa\, 27984 HWY 189\, Lake Arrowhead\, CA\, 92352\, United States
CATEGORIES:Lake Arrowhead Resort & Spa
ATTACH;FMTTYPE=image/jpeg:https://ilovelakearrowhead.com/wp-content/uploads/livemusic-2.jpg
END:VEVENT
BEGIN:VEVENT
DTSTART;TZID=America/Los_Angeles:20261209T080000
DTEND;TZID=America/Los_Angeles:20261209T170000
DTSTAMP:20260425T082402
CREATED:20250122T183719Z
LAST-MODIFIED:20250122T183719Z
UID:10003833-1796803200-1796835600@ilovelakearrowhead.com
SUMMARY:Live Music at Saddleback Inn
DESCRIPTION:Live music Monday’s and Wednesday’s at Saddleback Inn in Lake Arrowhead from 4:30-7:30pm! Take advantage of happy hour pricing before 6pm. All ages welcome. \nLocation: Saddleback Inn | 300 CA-173\, Lake Arrowhead\, CA 92352 \ntime: 4:30-7:30pm \ndays: Monday and Wednesday’s
URL:https://ilovelakearrowhead.com/event/live-music-at-saddleback-inn/2026-12-09/
LOCATION:CA
ATTACH;FMTTYPE=image/jpeg:https://ilovelakearrowhead.com/wp-content/uploads/IMG_7074.jpg
END:VEVENT
BEGIN:VEVENT
DTSTART;TZID=America/Los_Angeles:20261214T180000
DTEND;TZID=America/Los_Angeles:20261214T210000
DTSTAMP:20260425T082402
CREATED:20260422T021532Z
LAST-MODIFIED:20260422T022212Z
UID:10008485-1797271200-1797282000@ilovelakearrowhead.com
SUMMARY:Live Music at BIN 189
DESCRIPTION:Ease into the week with live music at Bin 189 in a relaxed lounge setting. Sip\, snack\, and enjoy local sounds that set the tone for a cozy mountain evening. \n🗓️ Daily on Monday \n⏱️ 6:00 PM – 9:00PM \nCall 800-800-6769 for reservations or visit Website Here
URL:https://ilovelakearrowhead.com/event/live-music-at-bin-189/2026-12-14/
LOCATION:Lake Arrowhead Resort and Spa\, 27984 HWY 189\, Lake Arrowhead\, CA\, 92352\, United States
CATEGORIES:Lake Arrowhead Resort & Spa
ATTACH;FMTTYPE=image/jpeg:https://ilovelakearrowhead.com/wp-content/uploads/livemusic-2.jpg
END:VEVENT
BEGIN:VEVENT
DTSTART;TZID=America/Los_Angeles:20261221T080000
DTEND;TZID=America/Los_Angeles:20261221T170000
DTSTAMP:20260425T082402
CREATED:20250122T183719Z
LAST-MODIFIED:20250122T183719Z
UID:10003834-1797840000-1797872400@ilovelakearrowhead.com
SUMMARY:Live Music at Saddleback Inn
DESCRIPTION:Live music Monday’s and Wednesday’s at Saddleback Inn in Lake Arrowhead from 4:30-7:30pm! Take advantage of happy hour pricing before 6pm. All ages welcome. \nLocation: Saddleback Inn | 300 CA-173\, Lake Arrowhead\, CA 92352 \ntime: 4:30-7:30pm \ndays: Monday and Wednesday’s
URL:https://ilovelakearrowhead.com/event/live-music-at-saddleback-inn/2026-12-21/
LOCATION:CA
ATTACH;FMTTYPE=image/jpeg:https://ilovelakearrowhead.com/wp-content/uploads/IMG_7074.jpg
END:VEVENT
BEGIN:VEVENT
DTSTART;TZID=America/Los_Angeles:20261221T180000
DTEND;TZID=America/Los_Angeles:20261221T210000
DTSTAMP:20260425T082402
CREATED:20260422T021532Z
LAST-MODIFIED:20260422T022212Z
UID:10008486-1797876000-1797886800@ilovelakearrowhead.com
SUMMARY:Live Music at BIN 189
DESCRIPTION:Ease into the week with live music at Bin 189 in a relaxed lounge setting. Sip\, snack\, and enjoy local sounds that set the tone for a cozy mountain evening. \n🗓️ Daily on Monday \n⏱️ 6:00 PM – 9:00PM \nCall 800-800-6769 for reservations or visit Website Here
URL:https://ilovelakearrowhead.com/event/live-music-at-bin-189/2026-12-21/
LOCATION:Lake Arrowhead Resort and Spa\, 27984 HWY 189\, Lake Arrowhead\, CA\, 92352\, United States
CATEGORIES:Lake Arrowhead Resort & Spa
ATTACH;FMTTYPE=image/jpeg:https://ilovelakearrowhead.com/wp-content/uploads/livemusic-2.jpg
END:VEVENT
BEGIN:VEVENT
DTSTART;TZID=America/Los_Angeles:20261223T080000
DTEND;TZID=America/Los_Angeles:20261223T170000
DTSTAMP:20260425T082402
CREATED:20250122T183719Z
LAST-MODIFIED:20250122T183719Z
UID:10003835-1798012800-1798045200@ilovelakearrowhead.com
SUMMARY:Live Music at Saddleback Inn
DESCRIPTION:Live music Monday’s and Wednesday’s at Saddleback Inn in Lake Arrowhead from 4:30-7:30pm! Take advantage of happy hour pricing before 6pm. All ages welcome. \nLocation: Saddleback Inn | 300 CA-173\, Lake Arrowhead\, CA 92352 \ntime: 4:30-7:30pm \ndays: Monday and Wednesday’s
URL:https://ilovelakearrowhead.com/event/live-music-at-saddleback-inn/2026-12-23/
LOCATION:CA
ATTACH;FMTTYPE=image/jpeg:https://ilovelakearrowhead.com/wp-content/uploads/IMG_7074.jpg
END:VEVENT
BEGIN:VEVENT
DTSTART;TZID=America/Los_Angeles:20261228T180000
DTEND;TZID=America/Los_Angeles:20261228T210000
DTSTAMP:20260425T082402
CREATED:20260422T021532Z
LAST-MODIFIED:20260422T022212Z
UID:10008487-1798480800-1798491600@ilovelakearrowhead.com
SUMMARY:Live Music at BIN 189
DESCRIPTION:Ease into the week with live music at Bin 189 in a relaxed lounge setting. Sip\, snack\, and enjoy local sounds that set the tone for a cozy mountain evening. \n🗓️ Daily on Monday \n⏱️ 6:00 PM – 9:00PM \nCall 800-800-6769 for reservations or visit Website Here
URL:https://ilovelakearrowhead.com/event/live-music-at-bin-189/2026-12-28/
LOCATION:Lake Arrowhead Resort and Spa\, 27984 HWY 189\, Lake Arrowhead\, CA\, 92352\, United States
CATEGORIES:Lake Arrowhead Resort & Spa
ATTACH;FMTTYPE=image/jpeg:https://ilovelakearrowhead.com/wp-content/uploads/livemusic-2.jpg
END:VEVENT
BEGIN:VEVENT
DTSTART;TZID=America/Los_Angeles:20270104T080000
DTEND;TZID=America/Los_Angeles:20270104T170000
DTSTAMP:20260425T082402
CREATED:20250122T183719Z
LAST-MODIFIED:20250122T183719Z
UID:10003836-1799049600-1799082000@ilovelakearrowhead.com
SUMMARY:Live Music at Saddleback Inn
DESCRIPTION:Live music Monday’s and Wednesday’s at Saddleback Inn in Lake Arrowhead from 4:30-7:30pm! Take advantage of happy hour pricing before 6pm. All ages welcome. \nLocation: Saddleback Inn | 300 CA-173\, Lake Arrowhead\, CA 92352 \ntime: 4:30-7:30pm \ndays: Monday and Wednesday’s
URL:https://ilovelakearrowhead.com/event/live-music-at-saddleback-inn/2027-01-04/
LOCATION:CA
ATTACH;FMTTYPE=image/jpeg:https://ilovelakearrowhead.com/wp-content/uploads/IMG_7074.jpg
END:VEVENT
BEGIN:VEVENT
DTSTART;TZID=America/Los_Angeles:20270104T180000
DTEND;TZID=America/Los_Angeles:20270104T210000
DTSTAMP:20260425T082402
CREATED:20260422T021532Z
LAST-MODIFIED:20260422T022212Z
UID:10008488-1799085600-1799096400@ilovelakearrowhead.com
SUMMARY:Live Music at BIN 189
DESCRIPTION:Ease into the week with live music at Bin 189 in a relaxed lounge setting. Sip\, snack\, and enjoy local sounds that set the tone for a cozy mountain evening. \n🗓️ Daily on Monday \n⏱️ 6:00 PM – 9:00PM \nCall 800-800-6769 for reservations or visit Website Here
URL:https://ilovelakearrowhead.com/event/live-music-at-bin-189/2027-01-04/
LOCATION:Lake Arrowhead Resort and Spa\, 27984 HWY 189\, Lake Arrowhead\, CA\, 92352\, United States
CATEGORIES:Lake Arrowhead Resort & Spa
ATTACH;FMTTYPE=image/jpeg:https://ilovelakearrowhead.com/wp-content/uploads/livemusic-2.jpg
END:VEVENT
BEGIN:VEVENT
DTSTART;TZID=America/Los_Angeles:20270106T080000
DTEND;TZID=America/Los_Angeles:20270106T170000
DTSTAMP:20260425T082402
CREATED:20250122T183719Z
LAST-MODIFIED:20250122T183719Z
UID:10003837-1799222400-1799254800@ilovelakearrowhead.com
SUMMARY:Live Music at Saddleback Inn
DESCRIPTION:Live music Monday’s and Wednesday’s at Saddleback Inn in Lake Arrowhead from 4:30-7:30pm! Take advantage of happy hour pricing before 6pm. All ages welcome. \nLocation: Saddleback Inn | 300 CA-173\, Lake Arrowhead\, CA 92352 \ntime: 4:30-7:30pm \ndays: Monday and Wednesday’s
URL:https://ilovelakearrowhead.com/event/live-music-at-saddleback-inn/2027-01-06/
LOCATION:CA
ATTACH;FMTTYPE=image/jpeg:https://ilovelakearrowhead.com/wp-content/uploads/IMG_7074.jpg
END:VEVENT
BEGIN:VEVENT
DTSTART;TZID=America/Los_Angeles:20270111T180000
DTEND;TZID=America/Los_Angeles:20270111T210000
DTSTAMP:20260425T082402
CREATED:20260422T021532Z
LAST-MODIFIED:20260422T022212Z
UID:10008489-1799690400-1799701200@ilovelakearrowhead.com
SUMMARY:Live Music at BIN 189
DESCRIPTION:Ease into the week with live music at Bin 189 in a relaxed lounge setting. Sip\, snack\, and enjoy local sounds that set the tone for a cozy mountain evening. \n🗓️ Daily on Monday \n⏱️ 6:00 PM – 9:00PM \nCall 800-800-6769 for reservations or visit Website Here
URL:https://ilovelakearrowhead.com/event/live-music-at-bin-189/2027-01-11/
LOCATION:Lake Arrowhead Resort and Spa\, 27984 HWY 189\, Lake Arrowhead\, CA\, 92352\, United States
CATEGORIES:Lake Arrowhead Resort & Spa
ATTACH;FMTTYPE=image/jpeg:https://ilovelakearrowhead.com/wp-content/uploads/livemusic-2.jpg
END:VEVENT
BEGIN:VEVENT
DTSTART;TZID=America/Los_Angeles:20270118T080000
DTEND;TZID=America/Los_Angeles:20270118T170000
DTSTAMP:20260425T082402
CREATED:20250122T183719Z
LAST-MODIFIED:20250122T183719Z
UID:10003838-1800259200-1800291600@ilovelakearrowhead.com
SUMMARY:Live Music at Saddleback Inn
DESCRIPTION:Live music Monday’s and Wednesday’s at Saddleback Inn in Lake Arrowhead from 4:30-7:30pm! Take advantage of happy hour pricing before 6pm. All ages welcome. \nLocation: Saddleback Inn | 300 CA-173\, Lake Arrowhead\, CA 92352 \ntime: 4:30-7:30pm \ndays: Monday and Wednesday’s
URL:https://ilovelakearrowhead.com/event/live-music-at-saddleback-inn/2027-01-18/
LOCATION:CA
ATTACH;FMTTYPE=image/jpeg:https://ilovelakearrowhead.com/wp-content/uploads/IMG_7074.jpg
END:VEVENT
BEGIN:VEVENT
DTSTART;TZID=America/Los_Angeles:20270118T180000
DTEND;TZID=America/Los_Angeles:20270118T210000
DTSTAMP:20260425T082402
CREATED:20260422T021532Z
LAST-MODIFIED:20260422T022212Z
UID:10008490-1800295200-1800306000@ilovelakearrowhead.com
SUMMARY:Live Music at BIN 189
DESCRIPTION:Ease into the week with live music at Bin 189 in a relaxed lounge setting. Sip\, snack\, and enjoy local sounds that set the tone for a cozy mountain evening. \n🗓️ Daily on Monday \n⏱️ 6:00 PM – 9:00PM \nCall 800-800-6769 for reservations or visit Website Here
URL:https://ilovelakearrowhead.com/event/live-music-at-bin-189/2027-01-18/
LOCATION:Lake Arrowhead Resort and Spa\, 27984 HWY 189\, Lake Arrowhead\, CA\, 92352\, United States
CATEGORIES:Lake Arrowhead Resort & Spa
ATTACH;FMTTYPE=image/jpeg:https://ilovelakearrowhead.com/wp-content/uploads/livemusic-2.jpg
END:VEVENT
BEGIN:VEVENT
DTSTART;TZID=America/Los_Angeles:20270120T080000
DTEND;TZID=America/Los_Angeles:20270120T170000
DTSTAMP:20260425T082402
CREATED:20250122T183719Z
LAST-MODIFIED:20250122T183719Z
UID:10003839-1800432000-1800464400@ilovelakearrowhead.com
SUMMARY:Live Music at Saddleback Inn
DESCRIPTION:Live music Monday’s and Wednesday’s at Saddleback Inn in Lake Arrowhead from 4:30-7:30pm! Take advantage of happy hour pricing before 6pm. All ages welcome. \nLocation: Saddleback Inn | 300 CA-173\, Lake Arrowhead\, CA 92352 \ntime: 4:30-7:30pm \ndays: Monday and Wednesday’s
URL:https://ilovelakearrowhead.com/event/live-music-at-saddleback-inn/2027-01-20/
LOCATION:CA
ATTACH;FMTTYPE=image/jpeg:https://ilovelakearrowhead.com/wp-content/uploads/IMG_7074.jpg
END:VEVENT
BEGIN:VEVENT
DTSTART;TZID=America/Los_Angeles:20270125T180000
DTEND;TZID=America/Los_Angeles:20270125T210000
DTSTAMP:20260425T082402
CREATED:20260422T021532Z
LAST-MODIFIED:20260422T022212Z
UID:10008491-1800900000-1800910800@ilovelakearrowhead.com
SUMMARY:Live Music at BIN 189
DESCRIPTION:Ease into the week with live music at Bin 189 in a relaxed lounge setting. Sip\, snack\, and enjoy local sounds that set the tone for a cozy mountain evening. \n🗓️ Daily on Monday \n⏱️ 6:00 PM – 9:00PM \nCall 800-800-6769 for reservations or visit Website Here
URL:https://ilovelakearrowhead.com/event/live-music-at-bin-189/2027-01-25/
LOCATION:Lake Arrowhead Resort and Spa\, 27984 HWY 189\, Lake Arrowhead\, CA\, 92352\, United States
CATEGORIES:Lake Arrowhead Resort & Spa
ATTACH;FMTTYPE=image/jpeg:https://ilovelakearrowhead.com/wp-content/uploads/livemusic-2.jpg
END:VEVENT
BEGIN:VEVENT
DTSTART;TZID=America/Los_Angeles:20270201T080000
DTEND;TZID=America/Los_Angeles:20270201T170000
DTSTAMP:20260425T082402
CREATED:20250122T183719Z
LAST-MODIFIED:20250122T183719Z
UID:10003840-1801468800-1801501200@ilovelakearrowhead.com
SUMMARY:Live Music at Saddleback Inn
DESCRIPTION:Live music Monday’s and Wednesday’s at Saddleback Inn in Lake Arrowhead from 4:30-7:30pm! Take advantage of happy hour pricing before 6pm. All ages welcome. \nLocation: Saddleback Inn | 300 CA-173\, Lake Arrowhead\, CA 92352 \ntime: 4:30-7:30pm \ndays: Monday and Wednesday’s
URL:https://ilovelakearrowhead.com/event/live-music-at-saddleback-inn/2027-02-01/
LOCATION:CA
ATTACH;FMTTYPE=image/jpeg:https://ilovelakearrowhead.com/wp-content/uploads/IMG_7074.jpg
END:VEVENT
BEGIN:VEVENT
DTSTART;TZID=America/Los_Angeles:20270201T180000
DTEND;TZID=America/Los_Angeles:20270201T210000
DTSTAMP:20260425T082402
CREATED:20260422T021532Z
LAST-MODIFIED:20260422T022212Z
UID:10008492-1801504800-1801515600@ilovelakearrowhead.com
SUMMARY:Live Music at BIN 189
DESCRIPTION:Ease into the week with live music at Bin 189 in a relaxed lounge setting. Sip\, snack\, and enjoy local sounds that set the tone for a cozy mountain evening. \n🗓️ Daily on Monday \n⏱️ 6:00 PM – 9:00PM \nCall 800-800-6769 for reservations or visit Website Here
URL:https://ilovelakearrowhead.com/event/live-music-at-bin-189/2027-02-01/
LOCATION:Lake Arrowhead Resort and Spa\, 27984 HWY 189\, Lake Arrowhead\, CA\, 92352\, United States
CATEGORIES:Lake Arrowhead Resort & Spa
ATTACH;FMTTYPE=image/jpeg:https://ilovelakearrowhead.com/wp-content/uploads/livemusic-2.jpg
END:VEVENT
BEGIN:VEVENT
DTSTART;TZID=America/Los_Angeles:20270203T080000
DTEND;TZID=America/Los_Angeles:20270203T170000
DTSTAMP:20260425T082402
CREATED:20250122T183719Z
LAST-MODIFIED:20250122T183719Z
UID:10003841-1801641600-1801674000@ilovelakearrowhead.com
SUMMARY:Live Music at Saddleback Inn
DESCRIPTION:Live music Monday’s and Wednesday’s at Saddleback Inn in Lake Arrowhead from 4:30-7:30pm! Take advantage of happy hour pricing before 6pm. All ages welcome. \nLocation: Saddleback Inn | 300 CA-173\, Lake Arrowhead\, CA 92352 \ntime: 4:30-7:30pm \ndays: Monday and Wednesday’s
URL:https://ilovelakearrowhead.com/event/live-music-at-saddleback-inn/2027-02-03/
LOCATION:CA
ATTACH;FMTTYPE=image/jpeg:https://ilovelakearrowhead.com/wp-content/uploads/IMG_7074.jpg
END:VEVENT
BEGIN:VEVENT
DTSTART;TZID=America/Los_Angeles:20270208T180000
DTEND;TZID=America/Los_Angeles:20270208T210000
DTSTAMP:20260425T082402
CREATED:20260422T021532Z
LAST-MODIFIED:20260422T022212Z
UID:10008493-1802109600-1802120400@ilovelakearrowhead.com
SUMMARY:Live Music at BIN 189
DESCRIPTION:Ease into the week with live music at Bin 189 in a relaxed lounge setting. Sip\, snack\, and enjoy local sounds that set the tone for a cozy mountain evening. \n🗓️ Daily on Monday \n⏱️ 6:00 PM – 9:00PM \nCall 800-800-6769 for reservations or visit Website Here
URL:https://ilovelakearrowhead.com/event/live-music-at-bin-189/2027-02-08/
LOCATION:Lake Arrowhead Resort and Spa\, 27984 HWY 189\, Lake Arrowhead\, CA\, 92352\, United States
CATEGORIES:Lake Arrowhead Resort & Spa
ATTACH;FMTTYPE=image/jpeg:https://ilovelakearrowhead.com/wp-content/uploads/livemusic-2.jpg
END:VEVENT
BEGIN:VEVENT
DTSTART;TZID=America/Los_Angeles:20270215T080000
DTEND;TZID=America/Los_Angeles:20270215T170000
DTSTAMP:20260425T082402
CREATED:20250122T183719Z
LAST-MODIFIED:20250122T183719Z
UID:10003842-1802678400-1802710800@ilovelakearrowhead.com
SUMMARY:Live Music at Saddleback Inn
DESCRIPTION:Live music Monday’s and Wednesday’s at Saddleback Inn in Lake Arrowhead from 4:30-7:30pm! Take advantage of happy hour pricing before 6pm. All ages welcome. \nLocation: Saddleback Inn | 300 CA-173\, Lake Arrowhead\, CA 92352 \ntime: 4:30-7:30pm \ndays: Monday and Wednesday’s
URL:https://ilovelakearrowhead.com/event/live-music-at-saddleback-inn/2027-02-15/
LOCATION:CA
ATTACH;FMTTYPE=image/jpeg:https://ilovelakearrowhead.com/wp-content/uploads/IMG_7074.jpg
END:VEVENT
BEGIN:VEVENT
DTSTART;TZID=America/Los_Angeles:20270215T180000
DTEND;TZID=America/Los_Angeles:20270215T210000
DTSTAMP:20260425T082402
CREATED:20260422T021532Z
LAST-MODIFIED:20260422T022212Z
UID:10008494-1802714400-1802725200@ilovelakearrowhead.com
SUMMARY:Live Music at BIN 189
DESCRIPTION:Ease into the week with live music at Bin 189 in a relaxed lounge setting. Sip\, snack\, and enjoy local sounds that set the tone for a cozy mountain evening. \n🗓️ Daily on Monday \n⏱️ 6:00 PM – 9:00PM \nCall 800-800-6769 for reservations or visit Website Here
URL:https://ilovelakearrowhead.com/event/live-music-at-bin-189/2027-02-15/
LOCATION:Lake Arrowhead Resort and Spa\, 27984 HWY 189\, Lake Arrowhead\, CA\, 92352\, United States
CATEGORIES:Lake Arrowhead Resort & Spa
ATTACH;FMTTYPE=image/jpeg:https://ilovelakearrowhead.com/wp-content/uploads/livemusic-2.jpg
END:VEVENT
BEGIN:VEVENT
DTSTART;TZID=America/Los_Angeles:20270217T080000
DTEND;TZID=America/Los_Angeles:20270217T170000
DTSTAMP:20260425T082402
CREATED:20250122T183719Z
LAST-MODIFIED:20250122T183719Z
UID:10003843-1802851200-1802883600@ilovelakearrowhead.com
SUMMARY:Live Music at Saddleback Inn
DESCRIPTION:Live music Monday’s and Wednesday’s at Saddleback Inn in Lake Arrowhead from 4:30-7:30pm! Take advantage of happy hour pricing before 6pm. All ages welcome. \nLocation: Saddleback Inn | 300 CA-173\, Lake Arrowhead\, CA 92352 \ntime: 4:30-7:30pm \ndays: Monday and Wednesday’s
URL:https://ilovelakearrowhead.com/event/live-music-at-saddleback-inn/2027-02-17/
LOCATION:CA
ATTACH;FMTTYPE=image/jpeg:https://ilovelakearrowhead.com/wp-content/uploads/IMG_7074.jpg
END:VEVENT
BEGIN:VEVENT
DTSTART;TZID=America/Los_Angeles:20270222T180000
DTEND;TZID=America/Los_Angeles:20270222T210000
DTSTAMP:20260425T082402
CREATED:20260422T021532Z
LAST-MODIFIED:20260422T022212Z
UID:10008495-1803319200-1803330000@ilovelakearrowhead.com
SUMMARY:Live Music at BIN 189
DESCRIPTION:Ease into the week with live music at Bin 189 in a relaxed lounge setting. Sip\, snack\, and enjoy local sounds that set the tone for a cozy mountain evening. \n🗓️ Daily on Monday \n⏱️ 6:00 PM – 9:00PM \nCall 800-800-6769 for reservations or visit Website Here
URL:https://ilovelakearrowhead.com/event/live-music-at-bin-189/2027-02-22/
LOCATION:Lake Arrowhead Resort and Spa\, 27984 HWY 189\, Lake Arrowhead\, CA\, 92352\, United States
CATEGORIES:Lake Arrowhead Resort & Spa
ATTACH;FMTTYPE=image/jpeg:https://ilovelakearrowhead.com/wp-content/uploads/livemusic-2.jpg
END:VEVENT
BEGIN:VEVENT
DTSTART;TZID=America/Los_Angeles:20270301T080000
DTEND;TZID=America/Los_Angeles:20270301T170000
DTSTAMP:20260425T082402
CREATED:20250122T183719Z
LAST-MODIFIED:20250122T183719Z
UID:10003844-1803888000-1803920400@ilovelakearrowhead.com
SUMMARY:Live Music at Saddleback Inn
DESCRIPTION:Live music Monday’s and Wednesday’s at Saddleback Inn in Lake Arrowhead from 4:30-7:30pm! Take advantage of happy hour pricing before 6pm. All ages welcome. \nLocation: Saddleback Inn | 300 CA-173\, Lake Arrowhead\, CA 92352 \ntime: 4:30-7:30pm \ndays: Monday and Wednesday’s
URL:https://ilovelakearrowhead.com/event/live-music-at-saddleback-inn/2027-03-01/
LOCATION:CA
ATTACH;FMTTYPE=image/jpeg:https://ilovelakearrowhead.com/wp-content/uploads/IMG_7074.jpg
END:VEVENT
BEGIN:VEVENT
DTSTART;TZID=America/Los_Angeles:20270301T180000
DTEND;TZID=America/Los_Angeles:20270301T210000
DTSTAMP:20260425T082402
CREATED:20260422T021532Z
LAST-MODIFIED:20260422T022212Z
UID:10008496-1803924000-1803934800@ilovelakearrowhead.com
SUMMARY:Live Music at BIN 189
DESCRIPTION:Ease into the week with live music at Bin 189 in a relaxed lounge setting. Sip\, snack\, and enjoy local sounds that set the tone for a cozy mountain evening. \n🗓️ Daily on Monday \n⏱️ 6:00 PM – 9:00PM \nCall 800-800-6769 for reservations or visit Website Here
URL:https://ilovelakearrowhead.com/event/live-music-at-bin-189/2027-03-01/
LOCATION:Lake Arrowhead Resort and Spa\, 27984 HWY 189\, Lake Arrowhead\, CA\, 92352\, United States
CATEGORIES:Lake Arrowhead Resort & Spa
ATTACH;FMTTYPE=image/jpeg:https://ilovelakearrowhead.com/wp-content/uploads/livemusic-2.jpg
END:VEVENT
END:VCALENDAR