BEGIN:VCALENDAR
VERSION:2.0
PRODID:-//I Love Lake Arrowhead - ECPv6.15.20//NONSGML v1.0//EN
CALSCALE:GREGORIAN
METHOD:PUBLISH
X-ORIGINAL-URL:https://ilovelakearrowhead.com
X-WR-CALDESC:Events for I Love Lake Arrowhead
REFRESH-INTERVAL;VALUE=DURATION:PT1H
X-Robots-Tag:noindex
X-PUBLISHED-TTL:PT1H
BEGIN:VTIMEZONE
TZID:America/Los_Angeles
BEGIN:DAYLIGHT
TZOFFSETFROM:-0800
TZOFFSETTO:-0700
TZNAME:PDT
DTSTART:20250309T100000
END:DAYLIGHT
BEGIN:STANDARD
TZOFFSETFROM:-0700
TZOFFSETTO:-0800
TZNAME:PST
DTSTART:20251102T090000
END:STANDARD
BEGIN:DAYLIGHT
TZOFFSETFROM:-0800
TZOFFSETTO:-0700
TZNAME:PDT
DTSTART:20260308T100000
END:DAYLIGHT
BEGIN:STANDARD
TZOFFSETFROM:-0700
TZOFFSETTO:-0800
TZNAME:PST
DTSTART:20261101T090000
END:STANDARD
BEGIN:DAYLIGHT
TZOFFSETFROM:-0800
TZOFFSETTO:-0700
TZNAME:PDT
DTSTART:20270314T100000
END:DAYLIGHT
BEGIN:STANDARD
TZOFFSETFROM:-0700
TZOFFSETTO:-0800
TZNAME:PST
DTSTART:20271107T090000
END:STANDARD
END:VTIMEZONE
BEGIN:VEVENT
DTSTART;TZID=America/Los_Angeles:20260706T080000
DTEND;TZID=America/Los_Angeles:20260706T170000
DTSTAMP:20260425T052457
CREATED:20250122T183719Z
LAST-MODIFIED:20250122T183719Z
UID:10003810-1783324800-1783357200@ilovelakearrowhead.com
SUMMARY:Live Music at Saddleback Inn
DESCRIPTION:Live music Monday’s and Wednesday’s at Saddleback Inn in Lake Arrowhead from 4:30-7:30pm! Take advantage of happy hour pricing before 6pm. All ages welcome. \nLocation: Saddleback Inn | 300 CA-173\, Lake Arrowhead\, CA 92352 \ntime: 4:30-7:30pm \ndays: Monday and Wednesday’s
URL:https://ilovelakearrowhead.com/event/live-music-at-saddleback-inn/2026-07-06/
LOCATION:CA
ATTACH;FMTTYPE=image/jpeg:https://ilovelakearrowhead.com/wp-content/uploads/IMG_7074.jpg
END:VEVENT
BEGIN:VEVENT
DTSTART;TZID=America/Los_Angeles:20260706T180000
DTEND;TZID=America/Los_Angeles:20260706T210000
DTSTAMP:20260425T052457
CREATED:20260422T021532Z
LAST-MODIFIED:20260422T022212Z
UID:10008462-1783360800-1783371600@ilovelakearrowhead.com
SUMMARY:Live Music at BIN 189
DESCRIPTION:Ease into the week with live music at Bin 189 in a relaxed lounge setting. Sip\, snack\, and enjoy local sounds that set the tone for a cozy mountain evening. \n🗓️ Daily on Monday \n⏱️ 6:00 PM – 9:00PM \nCall 800-800-6769 for reservations or visit Website Here
URL:https://ilovelakearrowhead.com/event/live-music-at-bin-189/2026-07-06/
LOCATION:Lake Arrowhead Resort and Spa\, 27984 HWY 189\, Lake Arrowhead\, CA\, 92352\, United States
CATEGORIES:Lake Arrowhead Resort & Spa
ATTACH;FMTTYPE=image/jpeg:https://ilovelakearrowhead.com/wp-content/uploads/livemusic-2.jpg
END:VEVENT
BEGIN:VEVENT
DTSTART;TZID=America/Los_Angeles:20260708T080000
DTEND;TZID=America/Los_Angeles:20260708T170000
DTSTAMP:20260425T052457
CREATED:20250122T183719Z
LAST-MODIFIED:20250122T183719Z
UID:10003811-1783497600-1783530000@ilovelakearrowhead.com
SUMMARY:Live Music at Saddleback Inn
DESCRIPTION:Live music Monday’s and Wednesday’s at Saddleback Inn in Lake Arrowhead from 4:30-7:30pm! Take advantage of happy hour pricing before 6pm. All ages welcome. \nLocation: Saddleback Inn | 300 CA-173\, Lake Arrowhead\, CA 92352 \ntime: 4:30-7:30pm \ndays: Monday and Wednesday’s
URL:https://ilovelakearrowhead.com/event/live-music-at-saddleback-inn/2026-07-08/
LOCATION:CA
ATTACH;FMTTYPE=image/jpeg:https://ilovelakearrowhead.com/wp-content/uploads/IMG_7074.jpg
END:VEVENT
BEGIN:VEVENT
DTSTART;TZID=America/Los_Angeles:20260713T180000
DTEND;TZID=America/Los_Angeles:20260713T210000
DTSTAMP:20260425T052457
CREATED:20260422T021532Z
LAST-MODIFIED:20260422T022212Z
UID:10008463-1783965600-1783976400@ilovelakearrowhead.com
SUMMARY:Live Music at BIN 189
DESCRIPTION:Ease into the week with live music at Bin 189 in a relaxed lounge setting. Sip\, snack\, and enjoy local sounds that set the tone for a cozy mountain evening. \n🗓️ Daily on Monday \n⏱️ 6:00 PM – 9:00PM \nCall 800-800-6769 for reservations or visit Website Here
URL:https://ilovelakearrowhead.com/event/live-music-at-bin-189/2026-07-13/
LOCATION:Lake Arrowhead Resort and Spa\, 27984 HWY 189\, Lake Arrowhead\, CA\, 92352\, United States
CATEGORIES:Lake Arrowhead Resort & Spa
ATTACH;FMTTYPE=image/jpeg:https://ilovelakearrowhead.com/wp-content/uploads/livemusic-2.jpg
END:VEVENT
BEGIN:VEVENT
DTSTART;TZID=America/Los_Angeles:20260720T080000
DTEND;TZID=America/Los_Angeles:20260720T170000
DTSTAMP:20260425T052457
CREATED:20250122T183719Z
LAST-MODIFIED:20250122T183719Z
UID:10003812-1784534400-1784566800@ilovelakearrowhead.com
SUMMARY:Live Music at Saddleback Inn
DESCRIPTION:Live music Monday’s and Wednesday’s at Saddleback Inn in Lake Arrowhead from 4:30-7:30pm! Take advantage of happy hour pricing before 6pm. All ages welcome. \nLocation: Saddleback Inn | 300 CA-173\, Lake Arrowhead\, CA 92352 \ntime: 4:30-7:30pm \ndays: Monday and Wednesday’s
URL:https://ilovelakearrowhead.com/event/live-music-at-saddleback-inn/2026-07-20/
LOCATION:CA
ATTACH;FMTTYPE=image/jpeg:https://ilovelakearrowhead.com/wp-content/uploads/IMG_7074.jpg
END:VEVENT
BEGIN:VEVENT
DTSTART;TZID=America/Los_Angeles:20260720T180000
DTEND;TZID=America/Los_Angeles:20260720T210000
DTSTAMP:20260425T052457
CREATED:20260422T021532Z
LAST-MODIFIED:20260422T022212Z
UID:10008464-1784570400-1784581200@ilovelakearrowhead.com
SUMMARY:Live Music at BIN 189
DESCRIPTION:Ease into the week with live music at Bin 189 in a relaxed lounge setting. Sip\, snack\, and enjoy local sounds that set the tone for a cozy mountain evening. \n🗓️ Daily on Monday \n⏱️ 6:00 PM – 9:00PM \nCall 800-800-6769 for reservations or visit Website Here
URL:https://ilovelakearrowhead.com/event/live-music-at-bin-189/2026-07-20/
LOCATION:Lake Arrowhead Resort and Spa\, 27984 HWY 189\, Lake Arrowhead\, CA\, 92352\, United States
CATEGORIES:Lake Arrowhead Resort & Spa
ATTACH;FMTTYPE=image/jpeg:https://ilovelakearrowhead.com/wp-content/uploads/livemusic-2.jpg
END:VEVENT
BEGIN:VEVENT
DTSTART;TZID=America/Los_Angeles:20260722T080000
DTEND;TZID=America/Los_Angeles:20260722T170000
DTSTAMP:20260425T052457
CREATED:20250122T183719Z
LAST-MODIFIED:20250122T183719Z
UID:10003813-1784707200-1784739600@ilovelakearrowhead.com
SUMMARY:Live Music at Saddleback Inn
DESCRIPTION:Live music Monday’s and Wednesday’s at Saddleback Inn in Lake Arrowhead from 4:30-7:30pm! Take advantage of happy hour pricing before 6pm. All ages welcome. \nLocation: Saddleback Inn | 300 CA-173\, Lake Arrowhead\, CA 92352 \ntime: 4:30-7:30pm \ndays: Monday and Wednesday’s
URL:https://ilovelakearrowhead.com/event/live-music-at-saddleback-inn/2026-07-22/
LOCATION:CA
ATTACH;FMTTYPE=image/jpeg:https://ilovelakearrowhead.com/wp-content/uploads/IMG_7074.jpg
END:VEVENT
BEGIN:VEVENT
DTSTART;TZID=America/Los_Angeles:20260727T180000
DTEND;TZID=America/Los_Angeles:20260727T210000
DTSTAMP:20260425T052457
CREATED:20260422T021532Z
LAST-MODIFIED:20260422T022212Z
UID:10008465-1785175200-1785186000@ilovelakearrowhead.com
SUMMARY:Live Music at BIN 189
DESCRIPTION:Ease into the week with live music at Bin 189 in a relaxed lounge setting. Sip\, snack\, and enjoy local sounds that set the tone for a cozy mountain evening. \n🗓️ Daily on Monday \n⏱️ 6:00 PM – 9:00PM \nCall 800-800-6769 for reservations or visit Website Here
URL:https://ilovelakearrowhead.com/event/live-music-at-bin-189/2026-07-27/
LOCATION:Lake Arrowhead Resort and Spa\, 27984 HWY 189\, Lake Arrowhead\, CA\, 92352\, United States
CATEGORIES:Lake Arrowhead Resort & Spa
ATTACH;FMTTYPE=image/jpeg:https://ilovelakearrowhead.com/wp-content/uploads/livemusic-2.jpg
END:VEVENT
END:VCALENDAR