BEGIN:VCALENDAR
VERSION:2.0
PRODID:-//I Love Lake Arrowhead - ECPv6.15.20//NONSGML v1.0//EN
CALSCALE:GREGORIAN
METHOD:PUBLISH
X-WR-CALNAME:I Love Lake Arrowhead
X-ORIGINAL-URL:https://ilovelakearrowhead.com
X-WR-CALDESC:Events for I Love Lake Arrowhead
REFRESH-INTERVAL;VALUE=DURATION:PT1H
X-Robots-Tag:noindex
X-PUBLISHED-TTL:PT1H
BEGIN:VTIMEZONE
TZID:America/Los_Angeles
BEGIN:DAYLIGHT
TZOFFSETFROM:-0800
TZOFFSETTO:-0700
TZNAME:PDT
DTSTART:20240310T100000
END:DAYLIGHT
BEGIN:STANDARD
TZOFFSETFROM:-0700
TZOFFSETTO:-0800
TZNAME:PST
DTSTART:20241103T090000
END:STANDARD
BEGIN:DAYLIGHT
TZOFFSETFROM:-0800
TZOFFSETTO:-0700
TZNAME:PDT
DTSTART:20250309T100000
END:DAYLIGHT
BEGIN:STANDARD
TZOFFSETFROM:-0700
TZOFFSETTO:-0800
TZNAME:PST
DTSTART:20251102T090000
END:STANDARD
BEGIN:DAYLIGHT
TZOFFSETFROM:-0800
TZOFFSETTO:-0700
TZNAME:PDT
DTSTART:20260308T100000
END:DAYLIGHT
BEGIN:STANDARD
TZOFFSETFROM:-0700
TZOFFSETTO:-0800
TZNAME:PST
DTSTART:20261101T090000
END:STANDARD
END:VTIMEZONE
BEGIN:VEVENT
DTSTART;TZID=America/Los_Angeles:20251110T080000
DTEND;TZID=America/Los_Angeles:20251110T170000
DTSTAMP:20260421T100949
CREATED:20250122T183719Z
LAST-MODIFIED:20250122T183719Z
UID:10003776-1762761600-1762794000@ilovelakearrowhead.com
SUMMARY:Live Music at Saddleback Inn
DESCRIPTION:Live music Monday’s and Wednesday’s at Saddleback Inn in Lake Arrowhead from 4:30-7:30pm! Take advantage of happy hour pricing before 6pm. All ages welcome. \nLocation: Saddleback Inn | 300 CA-173\, Lake Arrowhead\, CA 92352 \ntime: 4:30-7:30pm \ndays: Monday and Wednesday’s
URL:https://ilovelakearrowhead.com/event/live-music-at-saddleback-inn/2025-11-10/
ATTACH;FMTTYPE=image/jpeg:https://ilovelakearrowhead.com/wp-content/uploads/IMG_7074.jpg
END:VEVENT
BEGIN:VEVENT
DTSTART;TZID=America/Los_Angeles:20251112T080000
DTEND;TZID=America/Los_Angeles:20251112T170000
DTSTAMP:20260421T100949
CREATED:20250122T183719Z
LAST-MODIFIED:20250122T183719Z
UID:10003777-1762934400-1762966800@ilovelakearrowhead.com
SUMMARY:Live Music at Saddleback Inn
DESCRIPTION:Live music Monday’s and Wednesday’s at Saddleback Inn in Lake Arrowhead from 4:30-7:30pm! Take advantage of happy hour pricing before 6pm. All ages welcome. \nLocation: Saddleback Inn | 300 CA-173\, Lake Arrowhead\, CA 92352 \ntime: 4:30-7:30pm \ndays: Monday and Wednesday’s
URL:https://ilovelakearrowhead.com/event/live-music-at-saddleback-inn/2025-11-12/
ATTACH;FMTTYPE=image/jpeg:https://ilovelakearrowhead.com/wp-content/uploads/IMG_7074.jpg
END:VEVENT
BEGIN:VEVENT
DTSTART;TZID=America/Los_Angeles:20251124T080000
DTEND;TZID=America/Los_Angeles:20251124T170000
DTSTAMP:20260421T100949
CREATED:20250122T183719Z
LAST-MODIFIED:20250122T183719Z
UID:10003778-1763971200-1764003600@ilovelakearrowhead.com
SUMMARY:Live Music at Saddleback Inn
DESCRIPTION:Live music Monday’s and Wednesday’s at Saddleback Inn in Lake Arrowhead from 4:30-7:30pm! Take advantage of happy hour pricing before 6pm. All ages welcome. \nLocation: Saddleback Inn | 300 CA-173\, Lake Arrowhead\, CA 92352 \ntime: 4:30-7:30pm \ndays: Monday and Wednesday’s
URL:https://ilovelakearrowhead.com/event/live-music-at-saddleback-inn/2025-11-24/
ATTACH;FMTTYPE=image/jpeg:https://ilovelakearrowhead.com/wp-content/uploads/IMG_7074.jpg
END:VEVENT
BEGIN:VEVENT
DTSTART;TZID=America/Los_Angeles:20251126T080000
DTEND;TZID=America/Los_Angeles:20251126T170000
DTSTAMP:20260421T100949
CREATED:20250122T183719Z
LAST-MODIFIED:20250122T183719Z
UID:10003779-1764144000-1764176400@ilovelakearrowhead.com
SUMMARY:Live Music at Saddleback Inn
DESCRIPTION:Live music Monday’s and Wednesday’s at Saddleback Inn in Lake Arrowhead from 4:30-7:30pm! Take advantage of happy hour pricing before 6pm. All ages welcome. \nLocation: Saddleback Inn | 300 CA-173\, Lake Arrowhead\, CA 92352 \ntime: 4:30-7:30pm \ndays: Monday and Wednesday’s
URL:https://ilovelakearrowhead.com/event/live-music-at-saddleback-inn/2025-11-26/
ATTACH;FMTTYPE=image/jpeg:https://ilovelakearrowhead.com/wp-content/uploads/IMG_7074.jpg
END:VEVENT
END:VCALENDAR