BEGIN:VCALENDAR
VERSION:2.0
PRODID:-//I Love Lake Arrowhead - ECPv6.15.20//NONSGML v1.0//EN
CALSCALE:GREGORIAN
METHOD:PUBLISH
X-WR-CALNAME:I Love Lake Arrowhead
X-ORIGINAL-URL:https://ilovelakearrowhead.com
X-WR-CALDESC:Events for I Love Lake Arrowhead
REFRESH-INTERVAL;VALUE=DURATION:PT1H
X-Robots-Tag:noindex
X-PUBLISHED-TTL:PT1H
BEGIN:VTIMEZONE
TZID:America/Los_Angeles
BEGIN:DAYLIGHT
TZOFFSETFROM:-0800
TZOFFSETTO:-0700
TZNAME:PDT
DTSTART:20250309T100000
END:DAYLIGHT
BEGIN:STANDARD
TZOFFSETFROM:-0700
TZOFFSETTO:-0800
TZNAME:PST
DTSTART:20251102T090000
END:STANDARD
BEGIN:DAYLIGHT
TZOFFSETFROM:-0800
TZOFFSETTO:-0700
TZNAME:PDT
DTSTART:20260308T100000
END:DAYLIGHT
BEGIN:STANDARD
TZOFFSETFROM:-0700
TZOFFSETTO:-0800
TZNAME:PST
DTSTART:20261101T090000
END:STANDARD
BEGIN:DAYLIGHT
TZOFFSETFROM:-0800
TZOFFSETTO:-0700
TZNAME:PDT
DTSTART:20270314T100000
END:DAYLIGHT
BEGIN:STANDARD
TZOFFSETFROM:-0700
TZOFFSETTO:-0800
TZNAME:PST
DTSTART:20271107T090000
END:STANDARD
END:VTIMEZONE
BEGIN:VEVENT
DTSTART;TZID=America/Los_Angeles:20260425T190000
DTEND;TZID=America/Los_Angeles:20260425T230000
DTSTAMP:20260423T042531
CREATED:20250515T053249Z
LAST-MODIFIED:20250610T041546Z
UID:10005059-1777143600-1777158000@ilovelakearrowhead.com
SUMMARY:Black Dog Social Club Live Music Every Weekend
DESCRIPTION:Stop by Black Dog Social Club for live music every weekend! Plus $5drafts happy hour Fridays from 5-7pm! \n📍 Black Dog Social Club🗓 Friday and Saturday 7pm\, Sunday 12 noon📍 33231 Green Valley Lake Rd\, Green Valley Lake\, CA 92341 \nhttps://blackdogsocialclub.com/
URL:https://ilovelakearrowhead.com/event/black-dog-social-club-live-music-every-weekend/2026-04-25/
LOCATION:CA
ATTACH;FMTTYPE=image/jpeg:https://ilovelakearrowhead.com/wp-content/uploads/Screenshot-2025-06-09-at-9.10.40 PM.jpg
END:VEVENT
BEGIN:VEVENT
DTSTART;TZID=America/Los_Angeles:20260425T193000
DTEND;TZID=America/Los_Angeles:20260425T203000
DTSTAMP:20260423T042531
CREATED:20260203T021638Z
LAST-MODIFIED:20260415T012054Z
UID:10008112-1777145400-1777149000@ilovelakearrowhead.com
SUMMARY:First Dibs Comedy
DESCRIPTION:Hey babe\, add new First Dibs’ dates to the calendar — there’s more whimsy to be had!🪿🌸 \n• April 25 – We’re soooo back\, mixing locals with touring headliners!\n• May 16 – Mom’s Rule is the theme 💞\n• June 13 – With Father’s Day around the corner\, we’ll have a “Dad Joke” competition to kick off the show🏆 \nThis year is gonna be our best season yet\, join us! \nLocated at Lake Arrowhead Brewery\, 329 Villa Way🍺
URL:https://ilovelakearrowhead.com/event/first-dibs-comedy/2026-04-25/
LOCATION:Lake Arrowhead Brewing Co.\, 329 Villa Way\, Lake Arrowhead\, CA\, 92352\, United States
CATEGORIES:Lake Arrowhead
ATTACH;FMTTYPE=image/jpeg:https://ilovelakearrowhead.com/wp-content/uploads/firstdibscomedy2.jpg
END:VEVENT
BEGIN:VEVENT
DTSTART;TZID=America/Los_Angeles:20260425T200000
DTEND;TZID=America/Los_Angeles:20260425T220000
DTSTAMP:20260423T042531
CREATED:20260421T011724Z
LAST-MODIFIED:20260421T011925Z
UID:10008447-1777147200-1777154400@ilovelakearrowhead.com
SUMMARY:Comedy Show at the Tudor House
DESCRIPTION:Fritz Coleman is headlining a professional comedy show at the Tudor House in Lake Arrowhead. This event also features comedian Richard Weiss\, hosted by Donna Maine\, and special guest Darrell Goss Jr.. \nCheck HERE to get tickets.
URL:https://ilovelakearrowhead.com/event/comedy-show-at-the-tudor-house/
LOCATION:Tudor House\, 800 Arrowhead Villa Rd\, Lake Arrowhead\, CA\, 92352\, United States
CATEGORIES:Lake Arrowhead
ATTACH;FMTTYPE=image/jpeg:https://ilovelakearrowhead.com/wp-content/uploads/tudorhouse_comedyshow.jpg
END:VEVENT
BEGIN:VEVENT
DTSTART;TZID=America/Los_Angeles:20260425T203000
DTEND;TZID=America/Los_Angeles:20260425T213000
DTSTAMP:20260423T042531
CREATED:20260415T011927Z
LAST-MODIFIED:20260415T011928Z
UID:10008440-1777149000-1777152600@ilovelakearrowhead.com
SUMMARY:First Dibs Comedy
DESCRIPTION:Hey babe\, add new First Dibs’ dates to the calendar — there’s more whimsy to be had!🪿🌸 \n• April 25 – We’re soooo back\, mixing locals with touring headliners!\n• May 16 – Mom’s Rule is the theme 💞\n• June 13 – With Father’s Day around the corner\, we’ll have a “Dad Joke” competition to kick off the show🏆 \nThis year is gonna be our best season yet\, join us! \nLocated at Lake Arrowhead Brewery\, 329 Villa Way🍺
URL:https://ilovelakearrowhead.com/event/first-dibs-comedy-2/
LOCATION:Lake Arrowhead Brewing Co.\, 329 Villa Way\, Lake Arrowhead\, CA\, 92352\, United States
CATEGORIES:Lake Arrowhead
ATTACH;FMTTYPE=image/jpeg:https://ilovelakearrowhead.com/wp-content/uploads/firstdibscomedy2.jpg
END:VEVENT
BEGIN:VEVENT
DTSTART;TZID=America/Los_Angeles:20260426T100000
DTEND;TZID=America/Los_Angeles:20260426T123000
DTSTAMP:20260423T042531
CREATED:20260121T020235Z
LAST-MODIFIED:20260121T020235Z
UID:10006856-1777197600-1777206600@ilovelakearrowhead.com
SUMMARY:UCLA Craft Studio
DESCRIPTION:Relax\, create\, and learn new skills in our Art & Craft Studio! \nPerfect for kids\, teens\, and adults – no experience needed. \n  \nFor more information contact: \ntpattison@ha.ucla.edu  |  aturner@ha.ucla.edu
URL:https://ilovelakearrowhead.com/event/ucla-craft-studio/2026-04-26/
LOCATION:UCLA Lake Arrowhead Lodge\, 850 Willow Creek Road\, Lake Arrowhead\, CA\, 92352\, United States
ATTACH;FMTTYPE=image/jpeg:https://ilovelakearrowhead.com/wp-content/uploads/artcraftUCLA.jpg
END:VEVENT
BEGIN:VEVENT
DTSTART;TZID=America/Los_Angeles:20260426T100000
DTEND;TZID=America/Los_Angeles:20260426T140000
DTSTAMP:20260423T042531
CREATED:20260127T030332Z
LAST-MODIFIED:20260127T030530Z
UID:10008028-1777197600-1777212000@ilovelakearrowhead.com
SUMMARY:Weekend Brunch at Sunsets Island Bar & Grill
DESCRIPTION:IE FOODIES has named Sunsets Island Bar & Grill as Best Brunch & Best Cocktail in the IE. See for yourself every Saturday & Sunday 10a-2p.
URL:https://ilovelakearrowhead.com/event/weekend-brunch-at-sunsets-island-bar-grill/2026-04-26/
LOCATION:Sunsets Island Bar & Grill\, 28200 CA-189 Suite R-210\, Lake Arrowhead\, CA\, 92352\, United States
CATEGORIES:Lake Arrowhead Village
ATTACH;FMTTYPE=image/jpeg:https://ilovelakearrowhead.com/wp-content/uploads/weekendbrunch2.jpg
END:VEVENT
BEGIN:VEVENT
DTSTART;TZID=America/Los_Angeles:20260426T100000
DTEND;TZID=America/Los_Angeles:20260426T150000
DTSTAMP:20260423T042531
CREATED:20260331T033938Z
LAST-MODIFIED:20260401T014526Z
UID:10008194-1777197600-1777215600@ilovelakearrowhead.com
SUMMARY:Rim of the World Farmers Market
DESCRIPTION:Rim of the World Farmers Market is back! 🌲🥕✨\nSundays just got better again 💛 \nFresh produce\, yummy eats\, artisanal goods & that mountain community we love so much 🌿 \nJoin us every Sunday starting April 12! \n⏰ 10 AM – 3 PM\n📍 Rim of the World High School
URL:https://ilovelakearrowhead.com/event/rim-of-the-world-farmers-market-2/2026-04-26/
LOCATION:Rim of the World Farmers Market\, 27400 CA-18\, Lake Arrowhead\, CA\, 92352\, United States
ATTACH;FMTTYPE=image/jpeg:https://ilovelakearrowhead.com/wp-content/uploads/rimoftheworldfarmersmarket.jpg
END:VEVENT
BEGIN:VEVENT
DTSTART;TZID=America/Los_Angeles:20260426T130000
DTEND;TZID=America/Los_Angeles:20260426T150000
DTSTAMP:20260423T042531
CREATED:20260413T043151Z
LAST-MODIFIED:20260413T043151Z
UID:10008436-1777208400-1777215600@ilovelakearrowhead.com
SUMMARY:Volunteering at ROWHS Mountain Museum
DESCRIPTION:Interested in Volunteering with Rim of the World Historical Society Mountain Museum?\nCome to our Volunteer Orientation Event!\n📍At the museum: 27176 Peninsula Dr\, Lake Arrowhead \n**If you can’t make the event\, but are interested in volunteering\, email us at museum@mtnmuseum.org!
URL:https://ilovelakearrowhead.com/event/volunteering-at-rowhs-mountain-museum/
LOCATION:Mountain History Museum\, 27176 Peninsula Dr\, Lake Arrowhead\, CA\, 92352
CATEGORIES:Lake Arrowhead
ATTACH;FMTTYPE=image/jpeg:https://ilovelakearrowhead.com/wp-content/uploads/volunteeringRIM.jpg
END:VEVENT
BEGIN:VEVENT
DTSTART;TZID=America/Los_Angeles:20260426T160000
DTEND;TZID=America/Los_Angeles:20260426T210000
DTSTAMP:20260423T042531
CREATED:20241206T030811Z
LAST-MODIFIED:20260127T024922Z
UID:10007754-1777219200-1777237200@ilovelakearrowhead.com
SUMMARY:Happy Hour at Tiki Republik
DESCRIPTION:Happy Hour at Tiki Republik Thursday’s – 4-9pm \n$5 draft beers\, $2 off Tiki Drinks and Cocktails + fun raffle prizes every hour! \n\n\n\n\n\n\n 
URL:https://ilovelakearrowhead.com/event/happy-hour-at-tiki-republik/2026-04-26/
LOCATION:Tiki Republik\, 28200 CA-189 Suite R-210\, Lake Arrowhead\, CA\, 92352\, United States
CATEGORIES:Lake Arrowhead Village,Lake Arrowhead
ATTACH;FMTTYPE=image/png:https://ilovelakearrowhead.com/wp-content/uploads/tikialoha.png
END:VEVENT
BEGIN:VEVENT
DTSTART;TZID=America/Los_Angeles:20260426T190000
DTEND;TZID=America/Los_Angeles:20260426T230000
DTSTAMP:20260423T042531
CREATED:20250515T053249Z
LAST-MODIFIED:20250610T041546Z
UID:10005060-1777230000-1777244400@ilovelakearrowhead.com
SUMMARY:Black Dog Social Club Live Music Every Weekend
DESCRIPTION:Stop by Black Dog Social Club for live music every weekend! Plus $5drafts happy hour Fridays from 5-7pm! \n📍 Black Dog Social Club🗓 Friday and Saturday 7pm\, Sunday 12 noon📍 33231 Green Valley Lake Rd\, Green Valley Lake\, CA 92341 \nhttps://blackdogsocialclub.com/
URL:https://ilovelakearrowhead.com/event/black-dog-social-club-live-music-every-weekend/2026-04-26/
LOCATION:CA
ATTACH;FMTTYPE=image/jpeg:https://ilovelakearrowhead.com/wp-content/uploads/Screenshot-2025-06-09-at-9.10.40 PM.jpg
END:VEVENT
BEGIN:VEVENT
DTSTART;TZID=America/Los_Angeles:20260427T080000
DTEND;TZID=America/Los_Angeles:20260427T170000
DTSTAMP:20260423T042531
CREATED:20250122T183719Z
LAST-MODIFIED:20250122T183719Z
UID:10003800-1777276800-1777309200@ilovelakearrowhead.com
SUMMARY:Live Music at Saddleback Inn
DESCRIPTION:Live music Monday’s and Wednesday’s at Saddleback Inn in Lake Arrowhead from 4:30-7:30pm! Take advantage of happy hour pricing before 6pm. All ages welcome. \nLocation: Saddleback Inn | 300 CA-173\, Lake Arrowhead\, CA 92352 \ntime: 4:30-7:30pm \ndays: Monday and Wednesday’s
URL:https://ilovelakearrowhead.com/event/live-music-at-saddleback-inn/2026-04-27/
LOCATION:CA
ATTACH;FMTTYPE=image/jpeg:https://ilovelakearrowhead.com/wp-content/uploads/IMG_7074.jpg
END:VEVENT
BEGIN:VEVENT
DTSTART;TZID=America/Los_Angeles:20260427T180000
DTEND;TZID=America/Los_Angeles:20260427T210000
DTSTAMP:20260423T042531
CREATED:20260422T021532Z
LAST-MODIFIED:20260422T022212Z
UID:10008452-1777312800-1777323600@ilovelakearrowhead.com
SUMMARY:Live Music at BIN 189
DESCRIPTION:Ease into the week with live music at Bin 189 in a relaxed lounge setting. Sip\, snack\, and enjoy local sounds that set the tone for a cozy mountain evening. \n🗓️ Daily on Monday \n⏱️ 6:00 PM – 9:00PM \nCall 800-800-6769 for reservations or visit Website Here
URL:https://ilovelakearrowhead.com/event/live-music-at-bin-189/2026-04-27/
LOCATION:Lake Arrowhead Resort and Spa\, 27984 HWY 189\, Lake Arrowhead\, CA\, 92352\, United States
CATEGORIES:Lake Arrowhead Resort & Spa
ATTACH;FMTTYPE=image/jpeg:https://ilovelakearrowhead.com/wp-content/uploads/livemusic-2.jpg
END:VEVENT
BEGIN:VEVENT
DTSTART;TZID=America/Los_Angeles:20260428T110000
DTEND;TZID=America/Los_Angeles:20260428T210000
DTSTAMP:20260423T042531
CREATED:20260422T033855Z
LAST-MODIFIED:20260422T033855Z
UID:10008713-1777374000-1777410000@ilovelakearrowhead.com
SUMMARY:Martini Tuesday at Bin 189
DESCRIPTION:🍸 Shake things up with a custom well martini for $12. \nChoose one mixer and one fruit garnish and craft your perfect sip\, available during bar hours. \nFor reservations 👉 Click Here \n 
URL:https://ilovelakearrowhead.com/event/martini-tuesday-at-bin-189/2026-04-28/
LOCATION:Lake Arrowhead Resort and Spa\, 27984 HWY 189\, Lake Arrowhead\, CA\, 92352\, United States
CATEGORIES:Lake Arrowhead Resort & Spa
ATTACH;FMTTYPE=image/jpeg:https://ilovelakearrowhead.com/wp-content/uploads/martiniTuesday.jpg
END:VEVENT
BEGIN:VEVENT
DTSTART;TZID=America/Los_Angeles:20260428T183000
DTEND;TZID=America/Los_Angeles:20260428T210000
DTSTAMP:20260423T042531
CREATED:20260421T014323Z
LAST-MODIFIED:20260421T014323Z
UID:10008448-1777401000-1777410000@ilovelakearrowhead.com
SUMMARY:Trivia Night
DESCRIPTION:We are going to start doing trivia night\, every last Tuesday of the month.\n👉🏼 Come out next Tuesday the 28th and test your knowledge!\nLive host\, pizza\, beers\, good times.\n🍕🍻\nSee you there! \n 
URL:https://ilovelakearrowhead.com/event/trivia-night-2/2026-04-28/
LOCATION:Lake Arrowhead Village Pizza\, 28200 CA-189 #140\, Lake Arrowhead\, CA\, 92352
CATEGORIES:Lake Arrowhead
ATTACH;FMTTYPE=image/jpeg:https://ilovelakearrowhead.com/wp-content/uploads/trivianight_new.jpg
END:VEVENT
BEGIN:VEVENT
DTSTART;TZID=America/Los_Angeles:20260429T080000
DTEND;TZID=America/Los_Angeles:20260429T170000
DTSTAMP:20260423T042531
CREATED:20250122T183719Z
LAST-MODIFIED:20250122T183719Z
UID:10003801-1777449600-1777482000@ilovelakearrowhead.com
SUMMARY:Live Music at Saddleback Inn
DESCRIPTION:Live music Monday’s and Wednesday’s at Saddleback Inn in Lake Arrowhead from 4:30-7:30pm! Take advantage of happy hour pricing before 6pm. All ages welcome. \nLocation: Saddleback Inn | 300 CA-173\, Lake Arrowhead\, CA 92352 \ntime: 4:30-7:30pm \ndays: Monday and Wednesday’s
URL:https://ilovelakearrowhead.com/event/live-music-at-saddleback-inn/2026-04-29/
LOCATION:CA
ATTACH;FMTTYPE=image/jpeg:https://ilovelakearrowhead.com/wp-content/uploads/IMG_7074.jpg
END:VEVENT
BEGIN:VEVENT
DTSTART;TZID=America/Los_Angeles:20260429T150000
DTEND;TZID=America/Los_Angeles:20260429T150000
DTSTAMP:20260423T042531
CREATED:20241206T025343Z
LAST-MODIFIED:20241206T025436Z
UID:10001563-1777474800-1777474800@ilovelakearrowhead.com
SUMMARY:Prime Rib Wednesdays at RB's Steakhouse
DESCRIPTION:Indulge in Prime Rib Wednesdays at RB’s Steakhouse! 12 ounces prime rib with side option every Wednesday while supplies last\, 3-9pm. \n29020 Oak Terrace\, Cedar Glen
URL:https://ilovelakearrowhead.com/event/prime-rib-wednesdays-at-rbs-steakhouse-2/2026-04-29/
LOCATION:CA
CATEGORIES:Cedar Glen
ATTACH;FMTTYPE=image/jpeg:https://ilovelakearrowhead.com/wp-content/uploads/rb_steakhouse_ilovelakearrowhead-7516.jpg
END:VEVENT
BEGIN:VEVENT
DTSTART;TZID=America/Los_Angeles:20260430T140000
DTEND;TZID=America/Los_Angeles:20260430T190000
DTSTAMP:20260423T042531
CREATED:20241022T000121Z
LAST-MODIFIED:20241115T054914Z
UID:10000944-1777557600-1777575600@ilovelakearrowhead.com
SUMMARY:Twin Peak's Farmer's Market Every Thursday
DESCRIPTION:100% LOCAL /  PESTICIDE – FREE \n\n\nThursdays   /  YEAR ROUND   /   2-Dusk \n\n\n26012 CA-189 Twin Peaks CA \nhttps://www.twinpeaksfarmersmarket.com/
URL:https://ilovelakearrowhead.com/event/twin-peaks-farmers-market-every-thursday/2026-04-30/
LOCATION:CA
CATEGORIES:Twin Peaks Farmer's Market
ATTACH;FMTTYPE=image/png:https://ilovelakearrowhead.com/wp-content/uploads/farmersemarket.png
END:VEVENT
BEGIN:VEVENT
DTSTART;TZID=America/Los_Angeles:20260430T160000
DTEND;TZID=America/Los_Angeles:20260430T210000
DTSTAMP:20260423T042531
CREATED:20241206T030811Z
LAST-MODIFIED:20260127T024922Z
UID:10002957-1777564800-1777582800@ilovelakearrowhead.com
SUMMARY:Happy Hour at Tiki Republik
DESCRIPTION:Happy Hour at Tiki Republik Thursday’s – 4-9pm \n$5 draft beers\, $2 off Tiki Drinks and Cocktails + fun raffle prizes every hour! \n\n\n\n\n\n\n 
URL:https://ilovelakearrowhead.com/event/happy-hour-at-tiki-republik/2026-04-30/
LOCATION:Tiki Republik\, 28200 CA-189 Suite R-210\, Lake Arrowhead\, CA\, 92352\, United States
CATEGORIES:Lake Arrowhead Village,Lake Arrowhead
ATTACH;FMTTYPE=image/png:https://ilovelakearrowhead.com/wp-content/uploads/tikialoha.png
END:VEVENT
BEGIN:VEVENT
DTSTART;TZID=America/Los_Angeles:20260430T160000
DTEND;TZID=America/Los_Angeles:20260430T210000
DTSTAMP:20260423T042531
CREATED:20241031T174244Z
LAST-MODIFIED:20250508T041357Z
UID:10001827-1777564800-1777582800@ilovelakearrowhead.com
SUMMARY:Local's Night Every Thursday at Lakefront Taproom
DESCRIPTION:Local’s Night Every Thursday at Lakefront Taproom \nLive music | Great Food | Mingle with local mountain folks! \n4pm-close \n28200 CA-189 E-200\, Lake Arrowhead\, CA 92352
URL:https://ilovelakearrowhead.com/event/locals-night-every-thursday-at-lakefront-taproom/2026-04-30/
LOCATION:CA
ATTACH;FMTTYPE=image/jpeg:https://ilovelakearrowhead.com/wp-content/uploads/Screenshot-2025-05-07-at-9.12.10 PM.jpg
END:VEVENT
BEGIN:VEVENT
DTSTART;TZID=America/Los_Angeles:20260430T160000
DTEND;TZID=America/Los_Angeles:20260430T210000
DTSTAMP:20260423T042531
CREATED:20241206T031543Z
LAST-MODIFIED:20241206T031543Z
UID:10003406-1777564800-1777582800@ilovelakearrowhead.com
SUMMARY:Thirsty Thursday's at Sunsets Island Bar & Grill
DESCRIPTION:Enjoy a beautiful sunset and wine specials at Sunsets Island Bar & Grill every Thursday! \n$5 house wine\, 20% off bottles\, $5 corkage fee \n28200 CA-189 Suite R-210\, Lake Arrowhead\, CA 92352
URL:https://ilovelakearrowhead.com/event/thirsty-thursdays-at-sunsets-island-bar-grill/2026-04-30/
LOCATION:CA
CATEGORIES:Lake Arrowhead Village,Lake Arrowhead
ATTACH;FMTTYPE=image/avif:https://ilovelakearrowhead.com/wp-content/uploads/thirsty-thursday-v2.avif
END:VEVENT
BEGIN:VEVENT
DTSTART;TZID=America/Los_Angeles:20260501T160000
DTEND;TZID=America/Los_Angeles:20260501T210000
DTSTAMP:20260423T042531
CREATED:20260402T010709Z
LAST-MODIFIED:20260402T010709Z
UID:10008284-1777651200-1777669200@ilovelakearrowhead.com
SUMMARY:Fantasy Forest Nights: Roller Skate Edition
DESCRIPTION:Silver Bells Arena has transformed from ice skates to roller skating and rollerblading! Now with warmer evenings\, we can’t wait to skate under the stars and kick off the weekend with friends and family. Gather your crew and join us for Fantasy Forest Nights every Friday and Saturday from 4–9pm. \nFor just $25\, take your pick of complimentary skates or blades\, stroll the Fantasy Forest trail illuminated in lights\, test your skills at the Royal Games\, soar above the park on the B-Rail\, and receive free parking. \nGuests age 21+ can also book a reservation to sip secret cocktails in our hidden speakeasy\, The Reindeer Room Speakeasy (21+ by reservation only).Are you an Annual Passholder or already have a Day Pass ticket for Saturday? No additional ticket is needed for Fantasy Forest Nights.
URL:https://ilovelakearrowhead.com/event/fantasy-forest-nights-roller-skate-edition/2026-05-01/
LOCATION:CA
CATEGORIES:Skypark Santa's Village
ATTACH;FMTTYPE=image/jpeg:https://ilovelakearrowhead.com/wp-content/uploads/forestnight.jpg
END:VEVENT
BEGIN:VEVENT
DTSTART;TZID=America/Los_Angeles:20260501T190000
DTEND;TZID=America/Los_Angeles:20260501T220000
DTSTAMP:20260423T042531
CREATED:20250930T030232Z
LAST-MODIFIED:20260127T023233Z
UID:10007386-1777662000-1777672800@ilovelakearrowhead.com
SUMMARY:Aloha Fridays + Karaoke at Tiki Republik
DESCRIPTION:Fridays at Tiki Republik from 4PM–close for island vibes\, good eats\, and great tunes! \n🎶 Hosted by Just Carl – Live from 8PM to 10PM🍹 $2 OFF all food & drinks all night long🎟️ Get a raffle ticket with every purchase🎁 Hourly raffles all night—must be present to win! \nGrab your crew and come chill at Tiki Republik this Friday! 🌴🍍🔥
URL:https://ilovelakearrowhead.com/event/aloha-thursdays-karaoke-at-tiki-republik-2/2026-05-01/
LOCATION:Tiki Republik\, 28200 CA-189 Suite R-210\, Lake Arrowhead\, CA\, 92352\, United States
CATEGORIES:Lake Arrowhead Village
ATTACH;FMTTYPE=image/jpeg:https://ilovelakearrowhead.com/wp-content/uploads/karaokefridaysattikirepublik2.jpg
END:VEVENT
BEGIN:VEVENT
DTSTART;TZID=America/Los_Angeles:20260501T190000
DTEND;TZID=America/Los_Angeles:20260501T230000
DTSTAMP:20260423T042531
CREATED:20250515T053249Z
LAST-MODIFIED:20250610T041546Z
UID:10005061-1777662000-1777676400@ilovelakearrowhead.com
SUMMARY:Black Dog Social Club Live Music Every Weekend
DESCRIPTION:Stop by Black Dog Social Club for live music every weekend! Plus $5drafts happy hour Fridays from 5-7pm! \n📍 Black Dog Social Club🗓 Friday and Saturday 7pm\, Sunday 12 noon📍 33231 Green Valley Lake Rd\, Green Valley Lake\, CA 92341 \nhttps://blackdogsocialclub.com/
URL:https://ilovelakearrowhead.com/event/black-dog-social-club-live-music-every-weekend/2026-05-01/
LOCATION:CA
ATTACH;FMTTYPE=image/jpeg:https://ilovelakearrowhead.com/wp-content/uploads/Screenshot-2025-06-09-at-9.10.40 PM.jpg
END:VEVENT
BEGIN:VEVENT
DTSTART;TZID=America/Los_Angeles:20260502T100000
DTEND;TZID=America/Los_Angeles:20260502T123000
DTSTAMP:20260423T042531
CREATED:20260121T020235Z
LAST-MODIFIED:20260121T020235Z
UID:10006857-1777716000-1777725000@ilovelakearrowhead.com
SUMMARY:UCLA Craft Studio
DESCRIPTION:Relax\, create\, and learn new skills in our Art & Craft Studio! \nPerfect for kids\, teens\, and adults – no experience needed. \n  \nFor more information contact: \ntpattison@ha.ucla.edu  |  aturner@ha.ucla.edu
URL:https://ilovelakearrowhead.com/event/ucla-craft-studio/2026-05-02/
LOCATION:UCLA Lake Arrowhead Lodge\, 850 Willow Creek Road\, Lake Arrowhead\, CA\, 92352\, United States
ATTACH;FMTTYPE=image/jpeg:https://ilovelakearrowhead.com/wp-content/uploads/artcraftUCLA.jpg
END:VEVENT
BEGIN:VEVENT
DTSTART;TZID=America/Los_Angeles:20260502T100000
DTEND;TZID=America/Los_Angeles:20260502T140000
DTSTAMP:20260423T042531
CREATED:20260127T030332Z
LAST-MODIFIED:20260127T030530Z
UID:10008029-1777716000-1777730400@ilovelakearrowhead.com
SUMMARY:Weekend Brunch at Sunsets Island Bar & Grill
DESCRIPTION:IE FOODIES has named Sunsets Island Bar & Grill as Best Brunch & Best Cocktail in the IE. See for yourself every Saturday & Sunday 10a-2p.
URL:https://ilovelakearrowhead.com/event/weekend-brunch-at-sunsets-island-bar-grill/2026-05-02/
LOCATION:Sunsets Island Bar & Grill\, 28200 CA-189 Suite R-210\, Lake Arrowhead\, CA\, 92352\, United States
CATEGORIES:Lake Arrowhead Village
ATTACH;FMTTYPE=image/jpeg:https://ilovelakearrowhead.com/wp-content/uploads/weekendbrunch2.jpg
END:VEVENT
BEGIN:VEVENT
DTSTART;TZID=America/Los_Angeles:20260502T160000
DTEND;TZID=America/Los_Angeles:20260502T210000
DTSTAMP:20260423T042531
CREATED:20260402T010709Z
LAST-MODIFIED:20260402T010709Z
UID:10008285-1777737600-1777755600@ilovelakearrowhead.com
SUMMARY:Fantasy Forest Nights: Roller Skate Edition
DESCRIPTION:Silver Bells Arena has transformed from ice skates to roller skating and rollerblading! Now with warmer evenings\, we can’t wait to skate under the stars and kick off the weekend with friends and family. Gather your crew and join us for Fantasy Forest Nights every Friday and Saturday from 4–9pm. \nFor just $25\, take your pick of complimentary skates or blades\, stroll the Fantasy Forest trail illuminated in lights\, test your skills at the Royal Games\, soar above the park on the B-Rail\, and receive free parking. \nGuests age 21+ can also book a reservation to sip secret cocktails in our hidden speakeasy\, The Reindeer Room Speakeasy (21+ by reservation only).Are you an Annual Passholder or already have a Day Pass ticket for Saturday? No additional ticket is needed for Fantasy Forest Nights.
URL:https://ilovelakearrowhead.com/event/fantasy-forest-nights-roller-skate-edition/2026-05-02/
LOCATION:CA
CATEGORIES:Skypark Santa's Village
ATTACH;FMTTYPE=image/jpeg:https://ilovelakearrowhead.com/wp-content/uploads/forestnight.jpg
END:VEVENT
BEGIN:VEVENT
DTSTART;TZID=America/Los_Angeles:20260502T180000
DTEND;TZID=America/Los_Angeles:20260502T230000
DTSTAMP:20260423T042531
CREATED:20241206T030139Z
LAST-MODIFIED:20241206T030139Z
UID:10002622-1777744800-1777762800@ilovelakearrowhead.com
SUMMARY:Karaoke Every Saturday at RBs Steakhouse
DESCRIPTION:Karaoke Night Every Saturday at RBs Steakhouse in Cedar Glen starting at 6pm. \n29020 Oak Terrace\, Cedar Glen\, CA 92321
URL:https://ilovelakearrowhead.com/event/karaoke-every-saturday-at-rbs-steakhouse/2026-05-02/
LOCATION:CA
CATEGORIES:Lake Arrowhead Village,Lake Arrowhead
ATTACH;FMTTYPE=image/webp:https://ilovelakearrowhead.com/wp-content/uploads/pexels-photo-164879-1.webp
END:VEVENT
BEGIN:VEVENT
DTSTART;TZID=America/Los_Angeles:20260502T190000
DTEND;TZID=America/Los_Angeles:20260502T230000
DTSTAMP:20260423T042531
CREATED:20250515T053249Z
LAST-MODIFIED:20250610T041546Z
UID:10005062-1777748400-1777762800@ilovelakearrowhead.com
SUMMARY:Black Dog Social Club Live Music Every Weekend
DESCRIPTION:Stop by Black Dog Social Club for live music every weekend! Plus $5drafts happy hour Fridays from 5-7pm! \n📍 Black Dog Social Club🗓 Friday and Saturday 7pm\, Sunday 12 noon📍 33231 Green Valley Lake Rd\, Green Valley Lake\, CA 92341 \nhttps://blackdogsocialclub.com/
URL:https://ilovelakearrowhead.com/event/black-dog-social-club-live-music-every-weekend/2026-05-02/
LOCATION:CA
ATTACH;FMTTYPE=image/jpeg:https://ilovelakearrowhead.com/wp-content/uploads/Screenshot-2025-06-09-at-9.10.40 PM.jpg
END:VEVENT
BEGIN:VEVENT
DTSTART;TZID=America/Los_Angeles:20260503T100000
DTEND;TZID=America/Los_Angeles:20260503T123000
DTSTAMP:20260423T042531
CREATED:20260121T020235Z
LAST-MODIFIED:20260121T020235Z
UID:10006858-1777802400-1777811400@ilovelakearrowhead.com
SUMMARY:UCLA Craft Studio
DESCRIPTION:Relax\, create\, and learn new skills in our Art & Craft Studio! \nPerfect for kids\, teens\, and adults – no experience needed. \n  \nFor more information contact: \ntpattison@ha.ucla.edu  |  aturner@ha.ucla.edu
URL:https://ilovelakearrowhead.com/event/ucla-craft-studio/2026-05-03/
LOCATION:UCLA Lake Arrowhead Lodge\, 850 Willow Creek Road\, Lake Arrowhead\, CA\, 92352\, United States
ATTACH;FMTTYPE=image/jpeg:https://ilovelakearrowhead.com/wp-content/uploads/artcraftUCLA.jpg
END:VEVENT
BEGIN:VEVENT
DTSTART;TZID=America/Los_Angeles:20260503T100000
DTEND;TZID=America/Los_Angeles:20260503T140000
DTSTAMP:20260423T042531
CREATED:20260127T030332Z
LAST-MODIFIED:20260127T030530Z
UID:10008030-1777802400-1777816800@ilovelakearrowhead.com
SUMMARY:Weekend Brunch at Sunsets Island Bar & Grill
DESCRIPTION:IE FOODIES has named Sunsets Island Bar & Grill as Best Brunch & Best Cocktail in the IE. See for yourself every Saturday & Sunday 10a-2p.
URL:https://ilovelakearrowhead.com/event/weekend-brunch-at-sunsets-island-bar-grill/2026-05-03/
LOCATION:Sunsets Island Bar & Grill\, 28200 CA-189 Suite R-210\, Lake Arrowhead\, CA\, 92352\, United States
CATEGORIES:Lake Arrowhead Village
ATTACH;FMTTYPE=image/jpeg:https://ilovelakearrowhead.com/wp-content/uploads/weekendbrunch2.jpg
END:VEVENT
END:VCALENDAR