BEGIN:VCALENDAR
VERSION:2.0
PRODID:-//I Love Lake Arrowhead - ECPv6.15.20//NONSGML v1.0//EN
CALSCALE:GREGORIAN
METHOD:PUBLISH
X-WR-CALNAME:I Love Lake Arrowhead
X-ORIGINAL-URL:https://ilovelakearrowhead.com
X-WR-CALDESC:Events for I Love Lake Arrowhead
REFRESH-INTERVAL;VALUE=DURATION:PT1H
X-Robots-Tag:noindex
X-PUBLISHED-TTL:PT1H
BEGIN:VTIMEZONE
TZID:America/Los_Angeles
BEGIN:DAYLIGHT
TZOFFSETFROM:-0800
TZOFFSETTO:-0700
TZNAME:PDT
DTSTART:20250309T100000
END:DAYLIGHT
BEGIN:STANDARD
TZOFFSETFROM:-0700
TZOFFSETTO:-0800
TZNAME:PST
DTSTART:20251102T090000
END:STANDARD
BEGIN:DAYLIGHT
TZOFFSETFROM:-0800
TZOFFSETTO:-0700
TZNAME:PDT
DTSTART:20260308T100000
END:DAYLIGHT
BEGIN:STANDARD
TZOFFSETFROM:-0700
TZOFFSETTO:-0800
TZNAME:PST
DTSTART:20261101T090000
END:STANDARD
BEGIN:DAYLIGHT
TZOFFSETFROM:-0800
TZOFFSETTO:-0700
TZNAME:PDT
DTSTART:20270314T100000
END:DAYLIGHT
BEGIN:STANDARD
TZOFFSETFROM:-0700
TZOFFSETTO:-0800
TZNAME:PST
DTSTART:20271107T090000
END:STANDARD
END:VTIMEZONE
BEGIN:VEVENT
DTSTART;TZID=America/Los_Angeles:20260425T180000
DTEND;TZID=America/Los_Angeles:20260425T230000
DTSTAMP:20260424T031836
CREATED:20241206T030139Z
LAST-MODIFIED:20241206T030139Z
UID:10002621-1777140000-1777158000@ilovelakearrowhead.com
SUMMARY:Karaoke Every Saturday at RBs Steakhouse
DESCRIPTION:Karaoke Night Every Saturday at RBs Steakhouse in Cedar Glen starting at 6pm. \n29020 Oak Terrace\, Cedar Glen\, CA 92321
URL:https://ilovelakearrowhead.com/event/karaoke-every-saturday-at-rbs-steakhouse/2026-04-25/
LOCATION:CA
CATEGORIES:Lake Arrowhead Village,Lake Arrowhead
ATTACH;FMTTYPE=image/webp:https://ilovelakearrowhead.com/wp-content/uploads/pexels-photo-164879-1.webp
END:VEVENT
BEGIN:VEVENT
DTSTART;TZID=America/Los_Angeles:20260425T193000
DTEND;TZID=America/Los_Angeles:20260425T203000
DTSTAMP:20260424T031836
CREATED:20260203T021638Z
LAST-MODIFIED:20260415T012054Z
UID:10008112-1777145400-1777149000@ilovelakearrowhead.com
SUMMARY:First Dibs Comedy
DESCRIPTION:Hey babe\, add new First Dibs’ dates to the calendar — there’s more whimsy to be had!🪿🌸 \n• April 25 – We’re soooo back\, mixing locals with touring headliners!\n• May 16 – Mom’s Rule is the theme 💞\n• June 13 – With Father’s Day around the corner\, we’ll have a “Dad Joke” competition to kick off the show🏆 \nThis year is gonna be our best season yet\, join us! \nLocated at Lake Arrowhead Brewery\, 329 Villa Way🍺
URL:https://ilovelakearrowhead.com/event/first-dibs-comedy/2026-04-25/
LOCATION:Lake Arrowhead Brewing Co.\, 329 Villa Way\, Lake Arrowhead\, CA\, 92352\, United States
CATEGORIES:Lake Arrowhead
ATTACH;FMTTYPE=image/jpeg:https://ilovelakearrowhead.com/wp-content/uploads/firstdibscomedy2.jpg
END:VEVENT
BEGIN:VEVENT
DTSTART;TZID=America/Los_Angeles:20260425T200000
DTEND;TZID=America/Los_Angeles:20260425T220000
DTSTAMP:20260424T031836
CREATED:20260421T011724Z
LAST-MODIFIED:20260421T011925Z
UID:10008447-1777147200-1777154400@ilovelakearrowhead.com
SUMMARY:Comedy Show at the Tudor House
DESCRIPTION:Fritz Coleman is headlining a professional comedy show at the Tudor House in Lake Arrowhead. This event also features comedian Richard Weiss\, hosted by Donna Maine\, and special guest Darrell Goss Jr.. \nCheck HERE to get tickets.
URL:https://ilovelakearrowhead.com/event/comedy-show-at-the-tudor-house/
LOCATION:Tudor House\, 800 Arrowhead Villa Rd\, Lake Arrowhead\, CA\, 92352\, United States
CATEGORIES:Lake Arrowhead
ATTACH;FMTTYPE=image/jpeg:https://ilovelakearrowhead.com/wp-content/uploads/tudorhouse_comedyshow.jpg
END:VEVENT
BEGIN:VEVENT
DTSTART;TZID=America/Los_Angeles:20260425T203000
DTEND;TZID=America/Los_Angeles:20260425T213000
DTSTAMP:20260424T031836
CREATED:20260415T011927Z
LAST-MODIFIED:20260415T011928Z
UID:10008440-1777149000-1777152600@ilovelakearrowhead.com
SUMMARY:First Dibs Comedy
DESCRIPTION:Hey babe\, add new First Dibs’ dates to the calendar — there’s more whimsy to be had!🪿🌸 \n• April 25 – We’re soooo back\, mixing locals with touring headliners!\n• May 16 – Mom’s Rule is the theme 💞\n• June 13 – With Father’s Day around the corner\, we’ll have a “Dad Joke” competition to kick off the show🏆 \nThis year is gonna be our best season yet\, join us! \nLocated at Lake Arrowhead Brewery\, 329 Villa Way🍺
URL:https://ilovelakearrowhead.com/event/first-dibs-comedy-2/
LOCATION:Lake Arrowhead Brewing Co.\, 329 Villa Way\, Lake Arrowhead\, CA\, 92352\, United States
CATEGORIES:Lake Arrowhead
ATTACH;FMTTYPE=image/jpeg:https://ilovelakearrowhead.com/wp-content/uploads/firstdibscomedy2.jpg
END:VEVENT
BEGIN:VEVENT
DTSTART;TZID=America/Los_Angeles:20260426T130000
DTEND;TZID=America/Los_Angeles:20260426T150000
DTSTAMP:20260424T031836
CREATED:20260413T043151Z
LAST-MODIFIED:20260413T043151Z
UID:10008436-1777208400-1777215600@ilovelakearrowhead.com
SUMMARY:Volunteering at ROWHS Mountain Museum
DESCRIPTION:Interested in Volunteering with Rim of the World Historical Society Mountain Museum?\nCome to our Volunteer Orientation Event!\n📍At the museum: 27176 Peninsula Dr\, Lake Arrowhead \n**If you can’t make the event\, but are interested in volunteering\, email us at museum@mtnmuseum.org!
URL:https://ilovelakearrowhead.com/event/volunteering-at-rowhs-mountain-museum/
LOCATION:Mountain History Museum\, 27176 Peninsula Dr\, Lake Arrowhead\, CA\, 92352
CATEGORIES:Lake Arrowhead
ATTACH;FMTTYPE=image/jpeg:https://ilovelakearrowhead.com/wp-content/uploads/volunteeringRIM.jpg
END:VEVENT
BEGIN:VEVENT
DTSTART;TZID=America/Los_Angeles:20260426T160000
DTEND;TZID=America/Los_Angeles:20260426T210000
DTSTAMP:20260424T031836
CREATED:20241206T030811Z
LAST-MODIFIED:20260127T024922Z
UID:10007754-1777219200-1777237200@ilovelakearrowhead.com
SUMMARY:Happy Hour at Tiki Republik
DESCRIPTION:Happy Hour at Tiki Republik Thursday’s – 4-9pm \n$5 draft beers\, $2 off Tiki Drinks and Cocktails + fun raffle prizes every hour! \n\n\n\n\n\n\n 
URL:https://ilovelakearrowhead.com/event/happy-hour-at-tiki-republik/2026-04-26/
LOCATION:Tiki Republik\, 28200 CA-189 Suite R-210\, Lake Arrowhead\, CA\, 92352\, United States
CATEGORIES:Lake Arrowhead Village,Lake Arrowhead
ATTACH;FMTTYPE=image/png:https://ilovelakearrowhead.com/wp-content/uploads/tikialoha.png
END:VEVENT
BEGIN:VEVENT
DTSTART;TZID=America/Los_Angeles:20260428T183000
DTEND;TZID=America/Los_Angeles:20260428T210000
DTSTAMP:20260424T031837
CREATED:20260421T014323Z
LAST-MODIFIED:20260421T014323Z
UID:10008448-1777401000-1777410000@ilovelakearrowhead.com
SUMMARY:Trivia Night
DESCRIPTION:We are going to start doing trivia night\, every last Tuesday of the month.\n👉🏼 Come out next Tuesday the 28th and test your knowledge!\nLive host\, pizza\, beers\, good times.\n🍕🍻\nSee you there! \n 
URL:https://ilovelakearrowhead.com/event/trivia-night-2/2026-04-28/
LOCATION:Lake Arrowhead Village Pizza\, 28200 CA-189 #140\, Lake Arrowhead\, CA\, 92352
CATEGORIES:Lake Arrowhead
ATTACH;FMTTYPE=image/jpeg:https://ilovelakearrowhead.com/wp-content/uploads/trivianight_new.jpg
END:VEVENT
BEGIN:VEVENT
DTSTART;TZID=America/Los_Angeles:20260430T160000
DTEND;TZID=America/Los_Angeles:20260430T210000
DTSTAMP:20260424T031837
CREATED:20241206T030811Z
LAST-MODIFIED:20260127T024922Z
UID:10002957-1777564800-1777582800@ilovelakearrowhead.com
SUMMARY:Happy Hour at Tiki Republik
DESCRIPTION:Happy Hour at Tiki Republik Thursday’s – 4-9pm \n$5 draft beers\, $2 off Tiki Drinks and Cocktails + fun raffle prizes every hour! \n\n\n\n\n\n\n 
URL:https://ilovelakearrowhead.com/event/happy-hour-at-tiki-republik/2026-04-30/
LOCATION:Tiki Republik\, 28200 CA-189 Suite R-210\, Lake Arrowhead\, CA\, 92352\, United States
CATEGORIES:Lake Arrowhead Village,Lake Arrowhead
ATTACH;FMTTYPE=image/png:https://ilovelakearrowhead.com/wp-content/uploads/tikialoha.png
END:VEVENT
BEGIN:VEVENT
DTSTART;TZID=America/Los_Angeles:20260430T160000
DTEND;TZID=America/Los_Angeles:20260430T210000
DTSTAMP:20260424T031837
CREATED:20241206T031543Z
LAST-MODIFIED:20241206T031543Z
UID:10003406-1777564800-1777582800@ilovelakearrowhead.com
SUMMARY:Thirsty Thursday's at Sunsets Island Bar & Grill
DESCRIPTION:Enjoy a beautiful sunset and wine specials at Sunsets Island Bar & Grill every Thursday! \n$5 house wine\, 20% off bottles\, $5 corkage fee \n28200 CA-189 Suite R-210\, Lake Arrowhead\, CA 92352
URL:https://ilovelakearrowhead.com/event/thirsty-thursdays-at-sunsets-island-bar-grill/2026-04-30/
LOCATION:CA
CATEGORIES:Lake Arrowhead Village,Lake Arrowhead
ATTACH;FMTTYPE=image/avif:https://ilovelakearrowhead.com/wp-content/uploads/thirsty-thursday-v2.avif
END:VEVENT
BEGIN:VEVENT
DTSTART;TZID=America/Los_Angeles:20260502T180000
DTEND;TZID=America/Los_Angeles:20260502T230000
DTSTAMP:20260424T031837
CREATED:20241206T030139Z
LAST-MODIFIED:20241206T030139Z
UID:10002622-1777744800-1777762800@ilovelakearrowhead.com
SUMMARY:Karaoke Every Saturday at RBs Steakhouse
DESCRIPTION:Karaoke Night Every Saturday at RBs Steakhouse in Cedar Glen starting at 6pm. \n29020 Oak Terrace\, Cedar Glen\, CA 92321
URL:https://ilovelakearrowhead.com/event/karaoke-every-saturday-at-rbs-steakhouse/2026-05-02/
LOCATION:CA
CATEGORIES:Lake Arrowhead Village,Lake Arrowhead
ATTACH;FMTTYPE=image/webp:https://ilovelakearrowhead.com/wp-content/uploads/pexels-photo-164879-1.webp
END:VEVENT
BEGIN:VEVENT
DTSTART;TZID=America/Los_Angeles:20260503T160000
DTEND;TZID=America/Los_Angeles:20260503T210000
DTSTAMP:20260424T031837
CREATED:20241206T030811Z
LAST-MODIFIED:20260127T024922Z
UID:10007755-1777824000-1777842000@ilovelakearrowhead.com
SUMMARY:Happy Hour at Tiki Republik
DESCRIPTION:Happy Hour at Tiki Republik Thursday’s – 4-9pm \n$5 draft beers\, $2 off Tiki Drinks and Cocktails + fun raffle prizes every hour! \n\n\n\n\n\n\n 
URL:https://ilovelakearrowhead.com/event/happy-hour-at-tiki-republik/2026-05-03/
LOCATION:Tiki Republik\, 28200 CA-189 Suite R-210\, Lake Arrowhead\, CA\, 92352\, United States
CATEGORIES:Lake Arrowhead Village,Lake Arrowhead
ATTACH;FMTTYPE=image/png:https://ilovelakearrowhead.com/wp-content/uploads/tikialoha.png
END:VEVENT
BEGIN:VEVENT
DTSTART;TZID=America/Los_Angeles:20260505T180000
DTEND;TZID=America/Los_Angeles:20260505T190000
DTSTAMP:20260424T031837
CREATED:20241019T072809Z
LAST-MODIFIED:20241206T024716Z
UID:10001445-1778004000-1778007600@ilovelakearrowhead.com
SUMMARY:Trivia Night at the Lakefront Tap Room
DESCRIPTION:First Tuesday of every month you can brush off your knowledge bank at the Lakefront Taprrom next Trivia Night\, Nov 5th – 6-7pm! Free event + prizes. Trivia Night is the first Tuesday of every month. \n28200 CA-189 E-200\, Lake Arrowhead\, CA 92352
URL:https://ilovelakearrowhead.com/event/trivia-night-at-the-lakefront-tap-room/2026-05-05/
LOCATION:CA
CATEGORIES:Lake Arrowhead
ATTACH;FMTTYPE=image/jpeg:https://ilovelakearrowhead.com/wp-content/uploads/IMG_4248-2.jpg
END:VEVENT
BEGIN:VEVENT
DTSTART;TZID=America/Los_Angeles:20260506T143000
DTEND;TZID=America/Los_Angeles:20260506T180000
DTSTAMP:20260424T031837
CREATED:20260418T015355Z
LAST-MODIFIED:20260418T015849Z
UID:10008444-1778077800-1778090400@ilovelakearrowhead.com
SUMMARY:Mountain Health & Resource Fair
DESCRIPTION:Stronger Together ❤️: Let’s Strengthen our Community from ages 0-99+ \n🩺 Free Dental Screenings\, Sports Physicals and Vision Screenings and more! \n  \nLearn more ➡️ Mountain Health Fair
URL:https://ilovelakearrowhead.com/event/mountain-health-resource-fair/
LOCATION:Rim of the World High School\, 27400 CA-18\, Lake Arrowhead\, CA\, 92352
CATEGORIES:Lake Arrowhead
ATTACH;FMTTYPE=image/jpeg:https://ilovelakearrowhead.com/wp-content/uploads/mountain_healthresource_fair.jpg
END:VEVENT
BEGIN:VEVENT
DTSTART;TZID=America/Los_Angeles:20260507T160000
DTEND;TZID=America/Los_Angeles:20260507T210000
DTSTAMP:20260424T031837
CREATED:20241206T030811Z
LAST-MODIFIED:20260127T024922Z
UID:10002959-1778169600-1778187600@ilovelakearrowhead.com
SUMMARY:Happy Hour at Tiki Republik
DESCRIPTION:Happy Hour at Tiki Republik Thursday’s – 4-9pm \n$5 draft beers\, $2 off Tiki Drinks and Cocktails + fun raffle prizes every hour! \n\n\n\n\n\n\n 
URL:https://ilovelakearrowhead.com/event/happy-hour-at-tiki-republik/2026-05-07/
LOCATION:Tiki Republik\, 28200 CA-189 Suite R-210\, Lake Arrowhead\, CA\, 92352\, United States
CATEGORIES:Lake Arrowhead Village,Lake Arrowhead
ATTACH;FMTTYPE=image/png:https://ilovelakearrowhead.com/wp-content/uploads/tikialoha.png
END:VEVENT
BEGIN:VEVENT
DTSTART;TZID=America/Los_Angeles:20260507T160000
DTEND;TZID=America/Los_Angeles:20260507T210000
DTSTAMP:20260424T031837
CREATED:20241206T031543Z
LAST-MODIFIED:20241206T031543Z
UID:10003407-1778169600-1778187600@ilovelakearrowhead.com
SUMMARY:Thirsty Thursday's at Sunsets Island Bar & Grill
DESCRIPTION:Enjoy a beautiful sunset and wine specials at Sunsets Island Bar & Grill every Thursday! \n$5 house wine\, 20% off bottles\, $5 corkage fee \n28200 CA-189 Suite R-210\, Lake Arrowhead\, CA 92352
URL:https://ilovelakearrowhead.com/event/thirsty-thursdays-at-sunsets-island-bar-grill/2026-05-07/
LOCATION:CA
CATEGORIES:Lake Arrowhead Village,Lake Arrowhead
ATTACH;FMTTYPE=image/avif:https://ilovelakearrowhead.com/wp-content/uploads/thirsty-thursday-v2.avif
END:VEVENT
BEGIN:VEVENT
DTSTART;TZID=America/Los_Angeles:20260509T100000
DTEND;TZID=America/Los_Angeles:20260509T110000
DTSTAMP:20260424T031837
CREATED:20260418T173436Z
LAST-MODIFIED:20260418T174017Z
UID:10008445-1778320800-1778324400@ilovelakearrowhead.com
SUMMARY:Mother's Day Tea Party
DESCRIPTION:Celebrate Mom with something truly special 💐✨ \nJoin us for a charming Mother’s Day Tea Party the day before Mother’s Day! Enjoy a delightful experience filled with tea\, sweet treats\, and beautiful vintage teacups and plates. \n🫖 Seatings available at 10 AM & 1 PM🌸 Limited spots available — reservations required \nMake it a moment she’ll always remember 💕 \nReserve your table at www.sunsetsislandbarandgrill.com
URL:https://ilovelakearrowhead.com/event/mothers-day-tea-party/2026-05-09/1/
LOCATION:Sunsets Island Bar & Grill\, 28200 CA-189 Suite R-210\, Lake Arrowhead\, CA\, 92352\, United States
CATEGORIES:Lake Arrowhead
ATTACH;FMTTYPE=image/jpeg:https://ilovelakearrowhead.com/wp-content/uploads/mothersday_sunsetsislanadbargrill.jpg
END:VEVENT
BEGIN:VEVENT
DTSTART;TZID=America/Los_Angeles:20260509T130000
DTEND;TZID=America/Los_Angeles:20260509T140000
DTSTAMP:20260424T031837
CREATED:20260418T173436Z
LAST-MODIFIED:20260418T174017Z
UID:10008446-1778331600-1778335200@ilovelakearrowhead.com
SUMMARY:Mother's Day Tea Party
DESCRIPTION:Celebrate Mom with something truly special 💐✨ \nJoin us for a charming Mother’s Day Tea Party the day before Mother’s Day! Enjoy a delightful experience filled with tea\, sweet treats\, and beautiful vintage teacups and plates. \n🫖 Seatings available at 10 AM & 1 PM🌸 Limited spots available — reservations required \nMake it a moment she’ll always remember 💕 \nReserve your table at www.sunsetsislandbarandgrill.com
URL:https://ilovelakearrowhead.com/event/mothers-day-tea-party/2026-05-09/2/
LOCATION:Sunsets Island Bar & Grill\, 28200 CA-189 Suite R-210\, Lake Arrowhead\, CA\, 92352\, United States
CATEGORIES:Lake Arrowhead
ATTACH;FMTTYPE=image/jpeg:https://ilovelakearrowhead.com/wp-content/uploads/mothersday_sunsetsislanadbargrill.jpg
END:VEVENT
BEGIN:VEVENT
DTSTART;TZID=America/Los_Angeles:20260509T180000
DTEND;TZID=America/Los_Angeles:20260509T230000
DTSTAMP:20260424T031837
CREATED:20241206T030139Z
LAST-MODIFIED:20241206T030139Z
UID:10002623-1778349600-1778367600@ilovelakearrowhead.com
SUMMARY:Karaoke Every Saturday at RBs Steakhouse
DESCRIPTION:Karaoke Night Every Saturday at RBs Steakhouse in Cedar Glen starting at 6pm. \n29020 Oak Terrace\, Cedar Glen\, CA 92321
URL:https://ilovelakearrowhead.com/event/karaoke-every-saturday-at-rbs-steakhouse/2026-05-09/
LOCATION:CA
CATEGORIES:Lake Arrowhead Village,Lake Arrowhead
ATTACH;FMTTYPE=image/webp:https://ilovelakearrowhead.com/wp-content/uploads/pexels-photo-164879-1.webp
END:VEVENT
BEGIN:VEVENT
DTSTART;TZID=America/Los_Angeles:20260510T160000
DTEND;TZID=America/Los_Angeles:20260510T210000
DTSTAMP:20260424T031837
CREATED:20241206T030811Z
LAST-MODIFIED:20260127T024922Z
UID:10007756-1778428800-1778446800@ilovelakearrowhead.com
SUMMARY:Happy Hour at Tiki Republik
DESCRIPTION:Happy Hour at Tiki Republik Thursday’s – 4-9pm \n$5 draft beers\, $2 off Tiki Drinks and Cocktails + fun raffle prizes every hour! \n\n\n\n\n\n\n 
URL:https://ilovelakearrowhead.com/event/happy-hour-at-tiki-republik/2026-05-10/
LOCATION:Tiki Republik\, 28200 CA-189 Suite R-210\, Lake Arrowhead\, CA\, 92352\, United States
CATEGORIES:Lake Arrowhead Village,Lake Arrowhead
ATTACH;FMTTYPE=image/png:https://ilovelakearrowhead.com/wp-content/uploads/tikialoha.png
END:VEVENT
BEGIN:VEVENT
DTSTART;TZID=America/Los_Angeles:20260514T160000
DTEND;TZID=America/Los_Angeles:20260514T210000
DTSTAMP:20260424T031837
CREATED:20241206T030811Z
LAST-MODIFIED:20260127T024922Z
UID:10002961-1778774400-1778792400@ilovelakearrowhead.com
SUMMARY:Happy Hour at Tiki Republik
DESCRIPTION:Happy Hour at Tiki Republik Thursday’s – 4-9pm \n$5 draft beers\, $2 off Tiki Drinks and Cocktails + fun raffle prizes every hour! \n\n\n\n\n\n\n 
URL:https://ilovelakearrowhead.com/event/happy-hour-at-tiki-republik/2026-05-14/
LOCATION:Tiki Republik\, 28200 CA-189 Suite R-210\, Lake Arrowhead\, CA\, 92352\, United States
CATEGORIES:Lake Arrowhead Village,Lake Arrowhead
ATTACH;FMTTYPE=image/png:https://ilovelakearrowhead.com/wp-content/uploads/tikialoha.png
END:VEVENT
BEGIN:VEVENT
DTSTART;TZID=America/Los_Angeles:20260514T160000
DTEND;TZID=America/Los_Angeles:20260514T210000
DTSTAMP:20260424T031837
CREATED:20241206T031543Z
LAST-MODIFIED:20241206T031543Z
UID:10003408-1778774400-1778792400@ilovelakearrowhead.com
SUMMARY:Thirsty Thursday's at Sunsets Island Bar & Grill
DESCRIPTION:Enjoy a beautiful sunset and wine specials at Sunsets Island Bar & Grill every Thursday! \n$5 house wine\, 20% off bottles\, $5 corkage fee \n28200 CA-189 Suite R-210\, Lake Arrowhead\, CA 92352
URL:https://ilovelakearrowhead.com/event/thirsty-thursdays-at-sunsets-island-bar-grill/2026-05-14/
LOCATION:CA
CATEGORIES:Lake Arrowhead Village,Lake Arrowhead
ATTACH;FMTTYPE=image/avif:https://ilovelakearrowhead.com/wp-content/uploads/thirsty-thursday-v2.avif
END:VEVENT
BEGIN:VEVENT
DTSTART;TZID=America/Los_Angeles:20260516T180000
DTEND;TZID=America/Los_Angeles:20260516T230000
DTSTAMP:20260424T031837
CREATED:20241206T030139Z
LAST-MODIFIED:20241206T030139Z
UID:10002624-1778954400-1778972400@ilovelakearrowhead.com
SUMMARY:Karaoke Every Saturday at RBs Steakhouse
DESCRIPTION:Karaoke Night Every Saturday at RBs Steakhouse in Cedar Glen starting at 6pm. \n29020 Oak Terrace\, Cedar Glen\, CA 92321
URL:https://ilovelakearrowhead.com/event/karaoke-every-saturday-at-rbs-steakhouse/2026-05-16/
LOCATION:CA
CATEGORIES:Lake Arrowhead Village,Lake Arrowhead
ATTACH;FMTTYPE=image/webp:https://ilovelakearrowhead.com/wp-content/uploads/pexels-photo-164879-1.webp
END:VEVENT
BEGIN:VEVENT
DTSTART;TZID=America/Los_Angeles:20260516T203000
DTEND;TZID=America/Los_Angeles:20260516T213000
DTSTAMP:20260424T031837
CREATED:20260203T021638Z
LAST-MODIFIED:20260415T012054Z
UID:10008439-1778963400-1778967000@ilovelakearrowhead.com
SUMMARY:First Dibs Comedy
DESCRIPTION:Hey babe\, add new First Dibs’ dates to the calendar — there’s more whimsy to be had!🪿🌸 \n• April 25 – We’re soooo back\, mixing locals with touring headliners!\n• May 16 – Mom’s Rule is the theme 💞\n• June 13 – With Father’s Day around the corner\, we’ll have a “Dad Joke” competition to kick off the show🏆 \nThis year is gonna be our best season yet\, join us! \nLocated at Lake Arrowhead Brewery\, 329 Villa Way🍺
URL:https://ilovelakearrowhead.com/event/first-dibs-comedy/2026-05-16/
LOCATION:Lake Arrowhead Brewing Co.\, 329 Villa Way\, Lake Arrowhead\, CA\, 92352\, United States
CATEGORIES:Lake Arrowhead
ATTACH;FMTTYPE=image/jpeg:https://ilovelakearrowhead.com/wp-content/uploads/firstdibscomedy2.jpg
END:VEVENT
BEGIN:VEVENT
DTSTART;TZID=America/Los_Angeles:20260517T110000
DTEND;TZID=America/Los_Angeles:20260517T160000
DTSTAMP:20260424T031837
CREATED:20260328T010750Z
LAST-MODIFIED:20260328T010750Z
UID:10008191-1779015600-1779033600@ilovelakearrowhead.com
SUMMARY:AAA Auxiliary Purse Auction
DESCRIPTION:Join us for the AAA Auxiliary Purse Auction: Mama’s Got a Brand New Bag! 👜🎶\nBid on a curated selection of purses and accessories both in silent and live auctions while you connect with friends and have a wonderful lunch at the Burnt Mill Beach Club from 11 am to 4 pm. We will also have a musical performance our student musicians. \nFor tickets Click Here  \nQuestions: Email Leah at : vintagemoments@charter.net or call (949) 510-5776
URL:https://ilovelakearrowhead.com/event/aaa-auxiliary-purse-auction/
LOCATION:Burnt Mill Beach Club\, 277910 Lakes Edge Road\, Lake Arrowhead\, CA\, 92352\, United States
CATEGORIES:Lake Arrowhead
ATTACH;FMTTYPE=image/jpeg:https://ilovelakearrowhead.com/wp-content/uploads/LAmamabag.jpg
END:VEVENT
BEGIN:VEVENT
DTSTART;TZID=America/Los_Angeles:20260517T160000
DTEND;TZID=America/Los_Angeles:20260517T210000
DTSTAMP:20260424T031837
CREATED:20241206T030811Z
LAST-MODIFIED:20260127T024922Z
UID:10007757-1779033600-1779051600@ilovelakearrowhead.com
SUMMARY:Happy Hour at Tiki Republik
DESCRIPTION:Happy Hour at Tiki Republik Thursday’s – 4-9pm \n$5 draft beers\, $2 off Tiki Drinks and Cocktails + fun raffle prizes every hour! \n\n\n\n\n\n\n 
URL:https://ilovelakearrowhead.com/event/happy-hour-at-tiki-republik/2026-05-17/
LOCATION:Tiki Republik\, 28200 CA-189 Suite R-210\, Lake Arrowhead\, CA\, 92352\, United States
CATEGORIES:Lake Arrowhead Village,Lake Arrowhead
ATTACH;FMTTYPE=image/png:https://ilovelakearrowhead.com/wp-content/uploads/tikialoha.png
END:VEVENT
BEGIN:VEVENT
DTSTART;TZID=America/Los_Angeles:20260521T160000
DTEND;TZID=America/Los_Angeles:20260521T210000
DTSTAMP:20260424T031837
CREATED:20241206T030811Z
LAST-MODIFIED:20260127T024922Z
UID:10002963-1779379200-1779397200@ilovelakearrowhead.com
SUMMARY:Happy Hour at Tiki Republik
DESCRIPTION:Happy Hour at Tiki Republik Thursday’s – 4-9pm \n$5 draft beers\, $2 off Tiki Drinks and Cocktails + fun raffle prizes every hour! \n\n\n\n\n\n\n 
URL:https://ilovelakearrowhead.com/event/happy-hour-at-tiki-republik/2026-05-21/
LOCATION:Tiki Republik\, 28200 CA-189 Suite R-210\, Lake Arrowhead\, CA\, 92352\, United States
CATEGORIES:Lake Arrowhead Village,Lake Arrowhead
ATTACH;FMTTYPE=image/png:https://ilovelakearrowhead.com/wp-content/uploads/tikialoha.png
END:VEVENT
BEGIN:VEVENT
DTSTART;TZID=America/Los_Angeles:20260521T160000
DTEND;TZID=America/Los_Angeles:20260521T210000
DTSTAMP:20260424T031837
CREATED:20241206T031543Z
LAST-MODIFIED:20241206T031543Z
UID:10003409-1779379200-1779397200@ilovelakearrowhead.com
SUMMARY:Thirsty Thursday's at Sunsets Island Bar & Grill
DESCRIPTION:Enjoy a beautiful sunset and wine specials at Sunsets Island Bar & Grill every Thursday! \n$5 house wine\, 20% off bottles\, $5 corkage fee \n28200 CA-189 Suite R-210\, Lake Arrowhead\, CA 92352
URL:https://ilovelakearrowhead.com/event/thirsty-thursdays-at-sunsets-island-bar-grill/2026-05-21/
LOCATION:CA
CATEGORIES:Lake Arrowhead Village,Lake Arrowhead
ATTACH;FMTTYPE=image/avif:https://ilovelakearrowhead.com/wp-content/uploads/thirsty-thursday-v2.avif
END:VEVENT
BEGIN:VEVENT
DTSTART;TZID=America/Los_Angeles:20260523T180000
DTEND;TZID=America/Los_Angeles:20260523T230000
DTSTAMP:20260424T031837
CREATED:20241206T030139Z
LAST-MODIFIED:20241206T030139Z
UID:10002625-1779559200-1779577200@ilovelakearrowhead.com
SUMMARY:Karaoke Every Saturday at RBs Steakhouse
DESCRIPTION:Karaoke Night Every Saturday at RBs Steakhouse in Cedar Glen starting at 6pm. \n29020 Oak Terrace\, Cedar Glen\, CA 92321
URL:https://ilovelakearrowhead.com/event/karaoke-every-saturday-at-rbs-steakhouse/2026-05-23/
LOCATION:CA
CATEGORIES:Lake Arrowhead Village,Lake Arrowhead
ATTACH;FMTTYPE=image/webp:https://ilovelakearrowhead.com/wp-content/uploads/pexels-photo-164879-1.webp
END:VEVENT
BEGIN:VEVENT
DTSTART;TZID=America/Los_Angeles:20260524T160000
DTEND;TZID=America/Los_Angeles:20260524T210000
DTSTAMP:20260424T031837
CREATED:20241206T030811Z
LAST-MODIFIED:20260127T024922Z
UID:10007758-1779638400-1779656400@ilovelakearrowhead.com
SUMMARY:Happy Hour at Tiki Republik
DESCRIPTION:Happy Hour at Tiki Republik Thursday’s – 4-9pm \n$5 draft beers\, $2 off Tiki Drinks and Cocktails + fun raffle prizes every hour! \n\n\n\n\n\n\n 
URL:https://ilovelakearrowhead.com/event/happy-hour-at-tiki-republik/2026-05-24/
LOCATION:Tiki Republik\, 28200 CA-189 Suite R-210\, Lake Arrowhead\, CA\, 92352\, United States
CATEGORIES:Lake Arrowhead Village,Lake Arrowhead
ATTACH;FMTTYPE=image/png:https://ilovelakearrowhead.com/wp-content/uploads/tikialoha.png
END:VEVENT
BEGIN:VEVENT
DTSTART;TZID=America/Los_Angeles:20260526T183000
DTEND;TZID=America/Los_Angeles:20260526T210000
DTSTAMP:20260424T031837
CREATED:20260421T014323Z
LAST-MODIFIED:20260421T014323Z
UID:10008449-1779820200-1779829200@ilovelakearrowhead.com
SUMMARY:Trivia Night
DESCRIPTION:We are going to start doing trivia night\, every last Tuesday of the month.\n👉🏼 Come out next Tuesday the 28th and test your knowledge!\nLive host\, pizza\, beers\, good times.\n🍕🍻\nSee you there! \n 
URL:https://ilovelakearrowhead.com/event/trivia-night-2/2026-05-26/
LOCATION:Lake Arrowhead Village Pizza\, 28200 CA-189 #140\, Lake Arrowhead\, CA\, 92352
CATEGORIES:Lake Arrowhead
ATTACH;FMTTYPE=image/jpeg:https://ilovelakearrowhead.com/wp-content/uploads/trivianight_new.jpg
END:VEVENT
END:VCALENDAR