BEGIN:VCALENDAR
VERSION:2.0
PRODID:-//I Love Lake Arrowhead - ECPv6.15.20//NONSGML v1.0//EN
CALSCALE:GREGORIAN
METHOD:PUBLISH
X-ORIGINAL-URL:https://ilovelakearrowhead.com
X-WR-CALDESC:Events for I Love Lake Arrowhead
REFRESH-INTERVAL;VALUE=DURATION:PT1H
X-Robots-Tag:noindex
X-PUBLISHED-TTL:PT1H
BEGIN:VTIMEZONE
TZID:America/Los_Angeles
BEGIN:DAYLIGHT
TZOFFSETFROM:-0800
TZOFFSETTO:-0700
TZNAME:PDT
DTSTART:20250309T100000
END:DAYLIGHT
BEGIN:STANDARD
TZOFFSETFROM:-0700
TZOFFSETTO:-0800
TZNAME:PST
DTSTART:20251102T090000
END:STANDARD
BEGIN:DAYLIGHT
TZOFFSETFROM:-0800
TZOFFSETTO:-0700
TZNAME:PDT
DTSTART:20260308T100000
END:DAYLIGHT
BEGIN:STANDARD
TZOFFSETFROM:-0700
TZOFFSETTO:-0800
TZNAME:PST
DTSTART:20261101T090000
END:STANDARD
BEGIN:DAYLIGHT
TZOFFSETFROM:-0800
TZOFFSETTO:-0700
TZNAME:PDT
DTSTART:20270314T100000
END:DAYLIGHT
BEGIN:STANDARD
TZOFFSETFROM:-0700
TZOFFSETTO:-0800
TZNAME:PST
DTSTART:20271107T090000
END:STANDARD
END:VTIMEZONE
BEGIN:VEVENT
DTSTART;TZID=America/Los_Angeles:20260329T110000
DTEND;TZID=America/Los_Angeles:20260329T160000
DTSTAMP:20260422T055514
CREATED:20260219T043735Z
LAST-MODIFIED:20260219T043735Z
UID:10008151-1774782000-1774800000@ilovelakearrowhead.com
SUMMARY:Mountain History Museum Special Opening
DESCRIPTION:Join us for some Bunny Business at the Mountain History Museum—fun for families\, friends\, and anyone ready to celebrate the season.   **Weather Permitting** \nEvent Highlight \n\nPhotos with the Easter Bunny: 11:30 AM – 3:30 PM\nFree treats: hot chocolate\, coffee\, popcorn\, and cookies\nScavenger Hunt throughout the museum\nSneak peek at this year’s upcoming exhibits\nNew treasures in the Gift Store
URL:https://ilovelakearrowhead.com/event/mountain-history-museum-special-opening/
LOCATION:The Mountain History Museum\, 27176 Peninsula Dr.\, Lake Arrowhead\, CA\, 92352
CATEGORIES:Lake Arrowhead
ATTACH;FMTTYPE=image/jpeg:https://ilovelakearrowhead.com/wp-content/uploads/historymuseum.jpg
END:VEVENT
BEGIN:VEVENT
DTSTART;TZID=America/Los_Angeles:20260329T160000
DTEND;TZID=America/Los_Angeles:20260329T210000
DTSTAMP:20260422T055514
CREATED:20241206T030811Z
LAST-MODIFIED:20260127T024922Z
UID:10007750-1774800000-1774818000@ilovelakearrowhead.com
SUMMARY:Happy Hour at Tiki Republik
DESCRIPTION:Happy Hour at Tiki Republik Thursday’s – 4-9pm \n$5 draft beers\, $2 off Tiki Drinks and Cocktails + fun raffle prizes every hour! \n\n\n\n\n\n\n 
URL:https://ilovelakearrowhead.com/event/happy-hour-at-tiki-republik/2026-03-29/
LOCATION:Tiki Republik\, 28200 CA-189 Suite R-210\, Lake Arrowhead\, CA\, 92352\, United States
CATEGORIES:Lake Arrowhead Village,Lake Arrowhead
ATTACH;FMTTYPE=image/png:https://ilovelakearrowhead.com/wp-content/uploads/tikialoha.png
END:VEVENT
BEGIN:VEVENT
DTSTART;TZID=America/Los_Angeles:20260330T120000
DTEND;TZID=America/Los_Angeles:20260330T130000
DTSTAMP:20260422T055514
CREATED:20260318T013400Z
LAST-MODIFIED:20260318T013400Z
UID:10008165-1774872000-1774875600@ilovelakearrowhead.com
SUMMARY:Networking Event
DESCRIPTION:Lake Arrowhead Communities Chamber of Commerce invite you to join us to our networking lunch at the The Lake Arrowhead Sports Grille.
URL:https://ilovelakearrowhead.com/event/networking-event/
LOCATION:Lake Arrowhead Sports Grille\, 27200 State Hwy 189\, Blue Jay\, CA\, 92317\, United States
CATEGORIES:Lake Arrowhead
ATTACH;FMTTYPE=image/jpeg:https://ilovelakearrowhead.com/wp-content/uploads/lunchmob.jpg
END:VEVENT
BEGIN:VEVENT
DTSTART;TZID=America/Los_Angeles:20260402T160000
DTEND;TZID=America/Los_Angeles:20260402T210000
DTSTAMP:20260422T055514
CREATED:20241206T030811Z
LAST-MODIFIED:20260127T024922Z
UID:10002949-1775145600-1775163600@ilovelakearrowhead.com
SUMMARY:Happy Hour at Tiki Republik
DESCRIPTION:Happy Hour at Tiki Republik Thursday’s – 4-9pm \n$5 draft beers\, $2 off Tiki Drinks and Cocktails + fun raffle prizes every hour! \n\n\n\n\n\n\n 
URL:https://ilovelakearrowhead.com/event/happy-hour-at-tiki-republik/2026-04-02/
LOCATION:Tiki Republik\, 28200 CA-189 Suite R-210\, Lake Arrowhead\, CA\, 92352\, United States
CATEGORIES:Lake Arrowhead Village,Lake Arrowhead
ATTACH;FMTTYPE=image/png:https://ilovelakearrowhead.com/wp-content/uploads/tikialoha.png
END:VEVENT
BEGIN:VEVENT
DTSTART;TZID=America/Los_Angeles:20260402T160000
DTEND;TZID=America/Los_Angeles:20260402T210000
DTSTAMP:20260422T055514
CREATED:20241206T031543Z
LAST-MODIFIED:20241206T031543Z
UID:10003402-1775145600-1775163600@ilovelakearrowhead.com
SUMMARY:Thirsty Thursday's at Sunsets Island Bar & Grill
DESCRIPTION:Enjoy a beautiful sunset and wine specials at Sunsets Island Bar & Grill every Thursday! \n$5 house wine\, 20% off bottles\, $5 corkage fee \n28200 CA-189 Suite R-210\, Lake Arrowhead\, CA 92352
URL:https://ilovelakearrowhead.com/event/thirsty-thursdays-at-sunsets-island-bar-grill/2026-04-02/
LOCATION:CA
CATEGORIES:Lake Arrowhead Village,Lake Arrowhead
ATTACH;FMTTYPE=image/avif:https://ilovelakearrowhead.com/wp-content/uploads/thirsty-thursday-v2.avif
END:VEVENT
BEGIN:VEVENT
DTSTART;TZID=America/Los_Angeles:20260402T180000
DTEND;TZID=America/Los_Angeles:20260402T200000
DTSTAMP:20260422T055514
CREATED:20260205T203724Z
LAST-MODIFIED:20260402T014251Z
UID:10008114-1775152800-1775160000@ilovelakearrowhead.com
SUMMARY:Lip Sync Battle Family Fundraising Event
DESCRIPTION:Perform your heart out to your favorite songs! \nO p e n  t o  a l l  a g e s ! Every performance helps raise funds to support Mountain Counseling & Training’s vital programs. \n\nEvent Date: April 2nd\, 2026\nLocation: The Tudor House in Lake Arrowhead (this may change based on capacity)\nSign-Up Deadline: January 30th\, 2026\nCostume & Song Approval: Please keep performances family-friendly. Songs (3 minutes or less) must be pre-approved by the event team.\nPerformance Fee: $5/individual or $25/groups of 5 or more\n\nFor more info click here
URL:https://ilovelakearrowhead.com/event/lip-sync-battle-family-fundraising-event/
LOCATION:Tudor House\, 800 Arrowhead Villa Rd\, Lake Arrowhead\, CA\, 92352\, United States
CATEGORIES:Lake Arrowhead
ATTACH;FMTTYPE=image/jpeg:https://ilovelakearrowhead.com/wp-content/uploads/tudorhouse.jpeg
END:VEVENT
BEGIN:VEVENT
DTSTART;TZID=America/Los_Angeles:20260404T180000
DTEND;TZID=America/Los_Angeles:20260404T230000
DTSTAMP:20260422T055514
CREATED:20241206T030139Z
LAST-MODIFIED:20241206T030139Z
UID:10002618-1775325600-1775343600@ilovelakearrowhead.com
SUMMARY:Karaoke Every Saturday at RBs Steakhouse
DESCRIPTION:Karaoke Night Every Saturday at RBs Steakhouse in Cedar Glen starting at 6pm. \n29020 Oak Terrace\, Cedar Glen\, CA 92321
URL:https://ilovelakearrowhead.com/event/karaoke-every-saturday-at-rbs-steakhouse/2026-04-04/
LOCATION:CA
CATEGORIES:Lake Arrowhead Village,Lake Arrowhead
ATTACH;FMTTYPE=image/webp:https://ilovelakearrowhead.com/wp-content/uploads/pexels-photo-164879-1.webp
END:VEVENT
BEGIN:VEVENT
DTSTART;TZID=America/Los_Angeles:20260405T160000
DTEND;TZID=America/Los_Angeles:20260405T210000
DTSTAMP:20260422T055514
CREATED:20241206T030811Z
LAST-MODIFIED:20260127T024922Z
UID:10007751-1775404800-1775422800@ilovelakearrowhead.com
SUMMARY:Happy Hour at Tiki Republik
DESCRIPTION:Happy Hour at Tiki Republik Thursday’s – 4-9pm \n$5 draft beers\, $2 off Tiki Drinks and Cocktails + fun raffle prizes every hour! \n\n\n\n\n\n\n 
URL:https://ilovelakearrowhead.com/event/happy-hour-at-tiki-republik/2026-04-05/
LOCATION:Tiki Republik\, 28200 CA-189 Suite R-210\, Lake Arrowhead\, CA\, 92352\, United States
CATEGORIES:Lake Arrowhead Village,Lake Arrowhead
ATTACH;FMTTYPE=image/png:https://ilovelakearrowhead.com/wp-content/uploads/tikialoha.png
END:VEVENT
BEGIN:VEVENT
DTSTART;TZID=America/Los_Angeles:20260407T180000
DTEND;TZID=America/Los_Angeles:20260407T190000
DTSTAMP:20260422T055514
CREATED:20241019T072809Z
LAST-MODIFIED:20241206T024716Z
UID:10001444-1775584800-1775588400@ilovelakearrowhead.com
SUMMARY:Trivia Night at the Lakefront Tap Room
DESCRIPTION:First Tuesday of every month you can brush off your knowledge bank at the Lakefront Taprrom next Trivia Night\, Nov 5th – 6-7pm! Free event + prizes. Trivia Night is the first Tuesday of every month. \n28200 CA-189 E-200\, Lake Arrowhead\, CA 92352
URL:https://ilovelakearrowhead.com/event/trivia-night-at-the-lakefront-tap-room/2026-04-07/
LOCATION:CA
CATEGORIES:Lake Arrowhead
ATTACH;FMTTYPE=image/jpeg:https://ilovelakearrowhead.com/wp-content/uploads/IMG_4248-2.jpg
END:VEVENT
BEGIN:VEVENT
DTSTART;TZID=America/Los_Angeles:20260409T160000
DTEND;TZID=America/Los_Angeles:20260409T210000
DTSTAMP:20260422T055514
CREATED:20241206T030811Z
LAST-MODIFIED:20260127T024922Z
UID:10002951-1775750400-1775768400@ilovelakearrowhead.com
SUMMARY:Happy Hour at Tiki Republik
DESCRIPTION:Happy Hour at Tiki Republik Thursday’s – 4-9pm \n$5 draft beers\, $2 off Tiki Drinks and Cocktails + fun raffle prizes every hour! \n\n\n\n\n\n\n 
URL:https://ilovelakearrowhead.com/event/happy-hour-at-tiki-republik/2026-04-09/
LOCATION:Tiki Republik\, 28200 CA-189 Suite R-210\, Lake Arrowhead\, CA\, 92352\, United States
CATEGORIES:Lake Arrowhead Village,Lake Arrowhead
ATTACH;FMTTYPE=image/png:https://ilovelakearrowhead.com/wp-content/uploads/tikialoha.png
END:VEVENT
BEGIN:VEVENT
DTSTART;TZID=America/Los_Angeles:20260409T160000
DTEND;TZID=America/Los_Angeles:20260409T210000
DTSTAMP:20260422T055514
CREATED:20241206T031543Z
LAST-MODIFIED:20241206T031543Z
UID:10003403-1775750400-1775768400@ilovelakearrowhead.com
SUMMARY:Thirsty Thursday's at Sunsets Island Bar & Grill
DESCRIPTION:Enjoy a beautiful sunset and wine specials at Sunsets Island Bar & Grill every Thursday! \n$5 house wine\, 20% off bottles\, $5 corkage fee \n28200 CA-189 Suite R-210\, Lake Arrowhead\, CA 92352
URL:https://ilovelakearrowhead.com/event/thirsty-thursdays-at-sunsets-island-bar-grill/2026-04-09/
LOCATION:CA
CATEGORIES:Lake Arrowhead Village,Lake Arrowhead
ATTACH;FMTTYPE=image/avif:https://ilovelakearrowhead.com/wp-content/uploads/thirsty-thursday-v2.avif
END:VEVENT
BEGIN:VEVENT
DTSTART;TZID=America/Los_Angeles:20260411T180000
DTEND;TZID=America/Los_Angeles:20260411T230000
DTSTAMP:20260422T055514
CREATED:20241206T030139Z
LAST-MODIFIED:20241206T030139Z
UID:10002619-1775930400-1775948400@ilovelakearrowhead.com
SUMMARY:Karaoke Every Saturday at RBs Steakhouse
DESCRIPTION:Karaoke Night Every Saturday at RBs Steakhouse in Cedar Glen starting at 6pm. \n29020 Oak Terrace\, Cedar Glen\, CA 92321
URL:https://ilovelakearrowhead.com/event/karaoke-every-saturday-at-rbs-steakhouse/2026-04-11/
LOCATION:CA
CATEGORIES:Lake Arrowhead Village,Lake Arrowhead
ATTACH;FMTTYPE=image/webp:https://ilovelakearrowhead.com/wp-content/uploads/pexels-photo-164879-1.webp
END:VEVENT
BEGIN:VEVENT
DTSTART;TZID=America/Los_Angeles:20260412T160000
DTEND;TZID=America/Los_Angeles:20260412T210000
DTSTAMP:20260422T055514
CREATED:20241206T030811Z
LAST-MODIFIED:20260127T024922Z
UID:10007752-1776009600-1776027600@ilovelakearrowhead.com
SUMMARY:Happy Hour at Tiki Republik
DESCRIPTION:Happy Hour at Tiki Republik Thursday’s – 4-9pm \n$5 draft beers\, $2 off Tiki Drinks and Cocktails + fun raffle prizes every hour! \n\n\n\n\n\n\n 
URL:https://ilovelakearrowhead.com/event/happy-hour-at-tiki-republik/2026-04-12/
LOCATION:Tiki Republik\, 28200 CA-189 Suite R-210\, Lake Arrowhead\, CA\, 92352\, United States
CATEGORIES:Lake Arrowhead Village,Lake Arrowhead
ATTACH;FMTTYPE=image/png:https://ilovelakearrowhead.com/wp-content/uploads/tikialoha.png
END:VEVENT
BEGIN:VEVENT
DTSTART;TZID=America/Los_Angeles:20260416T160000
DTEND;TZID=America/Los_Angeles:20260416T210000
DTSTAMP:20260422T055514
CREATED:20241206T030811Z
LAST-MODIFIED:20260127T024922Z
UID:10002953-1776355200-1776373200@ilovelakearrowhead.com
SUMMARY:Happy Hour at Tiki Republik
DESCRIPTION:Happy Hour at Tiki Republik Thursday’s – 4-9pm \n$5 draft beers\, $2 off Tiki Drinks and Cocktails + fun raffle prizes every hour! \n\n\n\n\n\n\n 
URL:https://ilovelakearrowhead.com/event/happy-hour-at-tiki-republik/2026-04-16/
LOCATION:Tiki Republik\, 28200 CA-189 Suite R-210\, Lake Arrowhead\, CA\, 92352\, United States
CATEGORIES:Lake Arrowhead Village,Lake Arrowhead
ATTACH;FMTTYPE=image/png:https://ilovelakearrowhead.com/wp-content/uploads/tikialoha.png
END:VEVENT
BEGIN:VEVENT
DTSTART;TZID=America/Los_Angeles:20260416T160000
DTEND;TZID=America/Los_Angeles:20260416T210000
DTSTAMP:20260422T055514
CREATED:20241206T031543Z
LAST-MODIFIED:20241206T031543Z
UID:10003404-1776355200-1776373200@ilovelakearrowhead.com
SUMMARY:Thirsty Thursday's at Sunsets Island Bar & Grill
DESCRIPTION:Enjoy a beautiful sunset and wine specials at Sunsets Island Bar & Grill every Thursday! \n$5 house wine\, 20% off bottles\, $5 corkage fee \n28200 CA-189 Suite R-210\, Lake Arrowhead\, CA 92352
URL:https://ilovelakearrowhead.com/event/thirsty-thursdays-at-sunsets-island-bar-grill/2026-04-16/
LOCATION:CA
CATEGORIES:Lake Arrowhead Village,Lake Arrowhead
ATTACH;FMTTYPE=image/avif:https://ilovelakearrowhead.com/wp-content/uploads/thirsty-thursday-v2.avif
END:VEVENT
BEGIN:VEVENT
DTSTART;TZID=America/Los_Angeles:20260418T180000
DTEND;TZID=America/Los_Angeles:20260418T230000
DTSTAMP:20260422T055514
CREATED:20241206T030139Z
LAST-MODIFIED:20241206T030139Z
UID:10002620-1776535200-1776553200@ilovelakearrowhead.com
SUMMARY:Karaoke Every Saturday at RBs Steakhouse
DESCRIPTION:Karaoke Night Every Saturday at RBs Steakhouse in Cedar Glen starting at 6pm. \n29020 Oak Terrace\, Cedar Glen\, CA 92321
URL:https://ilovelakearrowhead.com/event/karaoke-every-saturday-at-rbs-steakhouse/2026-04-18/
LOCATION:CA
CATEGORIES:Lake Arrowhead Village,Lake Arrowhead
ATTACH;FMTTYPE=image/webp:https://ilovelakearrowhead.com/wp-content/uploads/pexels-photo-164879-1.webp
END:VEVENT
BEGIN:VEVENT
DTSTART;TZID=America/Los_Angeles:20260419T160000
DTEND;TZID=America/Los_Angeles:20260419T210000
DTSTAMP:20260422T055514
CREATED:20241206T030811Z
LAST-MODIFIED:20260127T024922Z
UID:10007753-1776614400-1776632400@ilovelakearrowhead.com
SUMMARY:Happy Hour at Tiki Republik
DESCRIPTION:Happy Hour at Tiki Republik Thursday’s – 4-9pm \n$5 draft beers\, $2 off Tiki Drinks and Cocktails + fun raffle prizes every hour! \n\n\n\n\n\n\n 
URL:https://ilovelakearrowhead.com/event/happy-hour-at-tiki-republik/2026-04-19/
LOCATION:Tiki Republik\, 28200 CA-189 Suite R-210\, Lake Arrowhead\, CA\, 92352\, United States
CATEGORIES:Lake Arrowhead Village,Lake Arrowhead
ATTACH;FMTTYPE=image/png:https://ilovelakearrowhead.com/wp-content/uploads/tikialoha.png
END:VEVENT
BEGIN:VEVENT
DTSTART;TZID=America/Los_Angeles:20260423T160000
DTEND;TZID=America/Los_Angeles:20260423T210000
DTSTAMP:20260422T055514
CREATED:20241206T030811Z
LAST-MODIFIED:20260127T024922Z
UID:10002955-1776960000-1776978000@ilovelakearrowhead.com
SUMMARY:Happy Hour at Tiki Republik
DESCRIPTION:Happy Hour at Tiki Republik Thursday’s – 4-9pm \n$5 draft beers\, $2 off Tiki Drinks and Cocktails + fun raffle prizes every hour! \n\n\n\n\n\n\n 
URL:https://ilovelakearrowhead.com/event/happy-hour-at-tiki-republik/2026-04-23/
LOCATION:Tiki Republik\, 28200 CA-189 Suite R-210\, Lake Arrowhead\, CA\, 92352\, United States
CATEGORIES:Lake Arrowhead Village,Lake Arrowhead
ATTACH;FMTTYPE=image/png:https://ilovelakearrowhead.com/wp-content/uploads/tikialoha.png
END:VEVENT
BEGIN:VEVENT
DTSTART;TZID=America/Los_Angeles:20260423T160000
DTEND;TZID=America/Los_Angeles:20260423T210000
DTSTAMP:20260422T055514
CREATED:20241206T031543Z
LAST-MODIFIED:20241206T031543Z
UID:10003405-1776960000-1776978000@ilovelakearrowhead.com
SUMMARY:Thirsty Thursday's at Sunsets Island Bar & Grill
DESCRIPTION:Enjoy a beautiful sunset and wine specials at Sunsets Island Bar & Grill every Thursday! \n$5 house wine\, 20% off bottles\, $5 corkage fee \n28200 CA-189 Suite R-210\, Lake Arrowhead\, CA 92352
URL:https://ilovelakearrowhead.com/event/thirsty-thursdays-at-sunsets-island-bar-grill/2026-04-23/
LOCATION:CA
CATEGORIES:Lake Arrowhead Village,Lake Arrowhead
ATTACH;FMTTYPE=image/avif:https://ilovelakearrowhead.com/wp-content/uploads/thirsty-thursday-v2.avif
END:VEVENT
BEGIN:VEVENT
DTSTART;TZID=America/Los_Angeles:20260425T180000
DTEND;TZID=America/Los_Angeles:20260425T230000
DTSTAMP:20260422T055514
CREATED:20241206T030139Z
LAST-MODIFIED:20241206T030139Z
UID:10002621-1777140000-1777158000@ilovelakearrowhead.com
SUMMARY:Karaoke Every Saturday at RBs Steakhouse
DESCRIPTION:Karaoke Night Every Saturday at RBs Steakhouse in Cedar Glen starting at 6pm. \n29020 Oak Terrace\, Cedar Glen\, CA 92321
URL:https://ilovelakearrowhead.com/event/karaoke-every-saturday-at-rbs-steakhouse/2026-04-25/
LOCATION:CA
CATEGORIES:Lake Arrowhead Village,Lake Arrowhead
ATTACH;FMTTYPE=image/webp:https://ilovelakearrowhead.com/wp-content/uploads/pexels-photo-164879-1.webp
END:VEVENT
BEGIN:VEVENT
DTSTART;TZID=America/Los_Angeles:20260425T193000
DTEND;TZID=America/Los_Angeles:20260425T203000
DTSTAMP:20260422T055514
CREATED:20260203T021638Z
LAST-MODIFIED:20260415T012054Z
UID:10008112-1777145400-1777149000@ilovelakearrowhead.com
SUMMARY:First Dibs Comedy
DESCRIPTION:Hey babe\, add new First Dibs’ dates to the calendar — there’s more whimsy to be had!🪿🌸 \n• April 25 – We’re soooo back\, mixing locals with touring headliners!\n• May 16 – Mom’s Rule is the theme 💞\n• June 13 – With Father’s Day around the corner\, we’ll have a “Dad Joke” competition to kick off the show🏆 \nThis year is gonna be our best season yet\, join us! \nLocated at Lake Arrowhead Brewery\, 329 Villa Way🍺
URL:https://ilovelakearrowhead.com/event/first-dibs-comedy/2026-04-25/
LOCATION:Lake Arrowhead Brewing Co.\, 329 Villa Way\, Lake Arrowhead\, CA\, 92352\, United States
CATEGORIES:Lake Arrowhead
ATTACH;FMTTYPE=image/jpeg:https://ilovelakearrowhead.com/wp-content/uploads/firstdibscomedy2.jpg
END:VEVENT
BEGIN:VEVENT
DTSTART;TZID=America/Los_Angeles:20260425T200000
DTEND;TZID=America/Los_Angeles:20260425T220000
DTSTAMP:20260422T055514
CREATED:20260421T011724Z
LAST-MODIFIED:20260421T011925Z
UID:10008447-1777147200-1777154400@ilovelakearrowhead.com
SUMMARY:Comedy Show at the Tudor House
DESCRIPTION:Fritz Coleman is headlining a professional comedy show at the Tudor House in Lake Arrowhead. This event also features comedian Richard Weiss\, hosted by Donna Maine\, and special guest Darrell Goss Jr.. \nCheck HERE to get tickets.
URL:https://ilovelakearrowhead.com/event/comedy-show-at-the-tudor-house/
LOCATION:Tudor House\, 800 Arrowhead Villa Rd\, Lake Arrowhead\, CA\, 92352\, United States
CATEGORIES:Lake Arrowhead
ATTACH;FMTTYPE=image/jpeg:https://ilovelakearrowhead.com/wp-content/uploads/tudorhouse_comedyshow.jpg
END:VEVENT
BEGIN:VEVENT
DTSTART;TZID=America/Los_Angeles:20260425T203000
DTEND;TZID=America/Los_Angeles:20260425T213000
DTSTAMP:20260422T055514
CREATED:20260415T011927Z
LAST-MODIFIED:20260415T011928Z
UID:10008440-1777149000-1777152600@ilovelakearrowhead.com
SUMMARY:First Dibs Comedy
DESCRIPTION:Hey babe\, add new First Dibs’ dates to the calendar — there’s more whimsy to be had!🪿🌸 \n• April 25 – We’re soooo back\, mixing locals with touring headliners!\n• May 16 – Mom’s Rule is the theme 💞\n• June 13 – With Father’s Day around the corner\, we’ll have a “Dad Joke” competition to kick off the show🏆 \nThis year is gonna be our best season yet\, join us! \nLocated at Lake Arrowhead Brewery\, 329 Villa Way🍺
URL:https://ilovelakearrowhead.com/event/first-dibs-comedy-2/
LOCATION:Lake Arrowhead Brewing Co.\, 329 Villa Way\, Lake Arrowhead\, CA\, 92352\, United States
CATEGORIES:Lake Arrowhead
ATTACH;FMTTYPE=image/jpeg:https://ilovelakearrowhead.com/wp-content/uploads/firstdibscomedy2.jpg
END:VEVENT
BEGIN:VEVENT
DTSTART;TZID=America/Los_Angeles:20260426T130000
DTEND;TZID=America/Los_Angeles:20260426T150000
DTSTAMP:20260422T055514
CREATED:20260413T043151Z
LAST-MODIFIED:20260413T043151Z
UID:10008436-1777208400-1777215600@ilovelakearrowhead.com
SUMMARY:Volunteering at ROWHS Mountain Museum
DESCRIPTION:Interested in Volunteering with Rim of the World Historical Society Mountain Museum?\nCome to our Volunteer Orientation Event!\n📍At the museum: 27176 Peninsula Dr\, Lake Arrowhead \n**If you can’t make the event\, but are interested in volunteering\, email us at museum@mtnmuseum.org!
URL:https://ilovelakearrowhead.com/event/volunteering-at-rowhs-mountain-museum/
LOCATION:Mountain History Museum\, 27176 Peninsula Dr\, Lake Arrowhead\, CA\, 92352
CATEGORIES:Lake Arrowhead
ATTACH;FMTTYPE=image/jpeg:https://ilovelakearrowhead.com/wp-content/uploads/volunteeringRIM.jpg
END:VEVENT
BEGIN:VEVENT
DTSTART;TZID=America/Los_Angeles:20260426T160000
DTEND;TZID=America/Los_Angeles:20260426T210000
DTSTAMP:20260422T055514
CREATED:20241206T030811Z
LAST-MODIFIED:20260127T024922Z
UID:10007754-1777219200-1777237200@ilovelakearrowhead.com
SUMMARY:Happy Hour at Tiki Republik
DESCRIPTION:Happy Hour at Tiki Republik Thursday’s – 4-9pm \n$5 draft beers\, $2 off Tiki Drinks and Cocktails + fun raffle prizes every hour! \n\n\n\n\n\n\n 
URL:https://ilovelakearrowhead.com/event/happy-hour-at-tiki-republik/2026-04-26/
LOCATION:Tiki Republik\, 28200 CA-189 Suite R-210\, Lake Arrowhead\, CA\, 92352\, United States
CATEGORIES:Lake Arrowhead Village,Lake Arrowhead
ATTACH;FMTTYPE=image/png:https://ilovelakearrowhead.com/wp-content/uploads/tikialoha.png
END:VEVENT
BEGIN:VEVENT
DTSTART;TZID=America/Los_Angeles:20260428T183000
DTEND;TZID=America/Los_Angeles:20260428T210000
DTSTAMP:20260422T055514
CREATED:20260421T014323Z
LAST-MODIFIED:20260421T014323Z
UID:10008448-1777401000-1777410000@ilovelakearrowhead.com
SUMMARY:Trivia Night
DESCRIPTION:We are going to start doing trivia night\, every last Tuesday of the month.\n👉🏼 Come out next Tuesday the 28th and test your knowledge!\nLive host\, pizza\, beers\, good times.\n🍕🍻\nSee you there! \n 
URL:https://ilovelakearrowhead.com/event/trivia-night-2/2026-04-28/
LOCATION:Lake Arrowhead Village Pizza\, 28200 CA-189 #140\, Lake Arrowhead\, CA\, 92352
CATEGORIES:Lake Arrowhead
ATTACH;FMTTYPE=image/jpeg:https://ilovelakearrowhead.com/wp-content/uploads/trivianight_new.jpg
END:VEVENT
BEGIN:VEVENT
DTSTART;TZID=America/Los_Angeles:20260430T160000
DTEND;TZID=America/Los_Angeles:20260430T210000
DTSTAMP:20260422T055514
CREATED:20241206T030811Z
LAST-MODIFIED:20260127T024922Z
UID:10002957-1777564800-1777582800@ilovelakearrowhead.com
SUMMARY:Happy Hour at Tiki Republik
DESCRIPTION:Happy Hour at Tiki Republik Thursday’s – 4-9pm \n$5 draft beers\, $2 off Tiki Drinks and Cocktails + fun raffle prizes every hour! \n\n\n\n\n\n\n 
URL:https://ilovelakearrowhead.com/event/happy-hour-at-tiki-republik/2026-04-30/
LOCATION:Tiki Republik\, 28200 CA-189 Suite R-210\, Lake Arrowhead\, CA\, 92352\, United States
CATEGORIES:Lake Arrowhead Village,Lake Arrowhead
ATTACH;FMTTYPE=image/png:https://ilovelakearrowhead.com/wp-content/uploads/tikialoha.png
END:VEVENT
BEGIN:VEVENT
DTSTART;TZID=America/Los_Angeles:20260430T160000
DTEND;TZID=America/Los_Angeles:20260430T210000
DTSTAMP:20260422T055514
CREATED:20241206T031543Z
LAST-MODIFIED:20241206T031543Z
UID:10003406-1777564800-1777582800@ilovelakearrowhead.com
SUMMARY:Thirsty Thursday's at Sunsets Island Bar & Grill
DESCRIPTION:Enjoy a beautiful sunset and wine specials at Sunsets Island Bar & Grill every Thursday! \n$5 house wine\, 20% off bottles\, $5 corkage fee \n28200 CA-189 Suite R-210\, Lake Arrowhead\, CA 92352
URL:https://ilovelakearrowhead.com/event/thirsty-thursdays-at-sunsets-island-bar-grill/2026-04-30/
LOCATION:CA
CATEGORIES:Lake Arrowhead Village,Lake Arrowhead
ATTACH;FMTTYPE=image/avif:https://ilovelakearrowhead.com/wp-content/uploads/thirsty-thursday-v2.avif
END:VEVENT
BEGIN:VEVENT
DTSTART;TZID=America/Los_Angeles:20260502T180000
DTEND;TZID=America/Los_Angeles:20260502T230000
DTSTAMP:20260422T055514
CREATED:20241206T030139Z
LAST-MODIFIED:20241206T030139Z
UID:10002622-1777744800-1777762800@ilovelakearrowhead.com
SUMMARY:Karaoke Every Saturday at RBs Steakhouse
DESCRIPTION:Karaoke Night Every Saturday at RBs Steakhouse in Cedar Glen starting at 6pm. \n29020 Oak Terrace\, Cedar Glen\, CA 92321
URL:https://ilovelakearrowhead.com/event/karaoke-every-saturday-at-rbs-steakhouse/2026-05-02/
LOCATION:CA
CATEGORIES:Lake Arrowhead Village,Lake Arrowhead
ATTACH;FMTTYPE=image/webp:https://ilovelakearrowhead.com/wp-content/uploads/pexels-photo-164879-1.webp
END:VEVENT
BEGIN:VEVENT
DTSTART;TZID=America/Los_Angeles:20260503T160000
DTEND;TZID=America/Los_Angeles:20260503T210000
DTSTAMP:20260422T055514
CREATED:20241206T030811Z
LAST-MODIFIED:20260127T024922Z
UID:10007755-1777824000-1777842000@ilovelakearrowhead.com
SUMMARY:Happy Hour at Tiki Republik
DESCRIPTION:Happy Hour at Tiki Republik Thursday’s – 4-9pm \n$5 draft beers\, $2 off Tiki Drinks and Cocktails + fun raffle prizes every hour! \n\n\n\n\n\n\n 
URL:https://ilovelakearrowhead.com/event/happy-hour-at-tiki-republik/2026-05-03/
LOCATION:Tiki Republik\, 28200 CA-189 Suite R-210\, Lake Arrowhead\, CA\, 92352\, United States
CATEGORIES:Lake Arrowhead Village,Lake Arrowhead
ATTACH;FMTTYPE=image/png:https://ilovelakearrowhead.com/wp-content/uploads/tikialoha.png
END:VEVENT
END:VCALENDAR