BEGIN:VCALENDAR
VERSION:2.0
PRODID:-//I Love Lake Arrowhead - ECPv6.15.20//NONSGML v1.0//EN
CALSCALE:GREGORIAN
METHOD:PUBLISH
X-ORIGINAL-URL:https://ilovelakearrowhead.com
X-WR-CALDESC:Events for I Love Lake Arrowhead
REFRESH-INTERVAL;VALUE=DURATION:PT1H
X-Robots-Tag:noindex
X-PUBLISHED-TTL:PT1H
BEGIN:VTIMEZONE
TZID:America/Los_Angeles
BEGIN:DAYLIGHT
TZOFFSETFROM:-0800
TZOFFSETTO:-0700
TZNAME:PDT
DTSTART:20260308T100000
END:DAYLIGHT
BEGIN:STANDARD
TZOFFSETFROM:-0700
TZOFFSETTO:-0800
TZNAME:PST
DTSTART:20261101T090000
END:STANDARD
BEGIN:DAYLIGHT
TZOFFSETFROM:-0800
TZOFFSETTO:-0700
TZNAME:PDT
DTSTART:20270314T100000
END:DAYLIGHT
BEGIN:STANDARD
TZOFFSETFROM:-0700
TZOFFSETTO:-0800
TZNAME:PST
DTSTART:20271107T090000
END:STANDARD
BEGIN:DAYLIGHT
TZOFFSETFROM:-0800
TZOFFSETTO:-0700
TZNAME:PDT
DTSTART:20280312T100000
END:DAYLIGHT
BEGIN:STANDARD
TZOFFSETFROM:-0700
TZOFFSETTO:-0800
TZNAME:PST
DTSTART:20281105T090000
END:STANDARD
BEGIN:DAYLIGHT
TZOFFSETFROM:-0800
TZOFFSETTO:-0700
TZNAME:PDT
DTSTART:20290311T100000
END:DAYLIGHT
BEGIN:STANDARD
TZOFFSETFROM:-0700
TZOFFSETTO:-0800
TZNAME:PST
DTSTART:20291104T090000
END:STANDARD
END:VTIMEZONE
BEGIN:VEVENT
DTSTART;TZID=America/Los_Angeles:20270825T150000
DTEND;TZID=America/Los_Angeles:20270825T150000
DTSTAMP:20260424T062923
CREATED:20241206T025343Z
LAST-MODIFIED:20241206T025436Z
UID:10001632-1819206000-1819206000@ilovelakearrowhead.com
SUMMARY:Prime Rib Wednesdays at RB's Steakhouse
DESCRIPTION:Indulge in Prime Rib Wednesdays at RB’s Steakhouse! 12 ounces prime rib with side option every Wednesday while supplies last\, 3-9pm. \n29020 Oak Terrace\, Cedar Glen
URL:https://ilovelakearrowhead.com/event/prime-rib-wednesdays-at-rbs-steakhouse-2/2027-08-25/
CATEGORIES:Cedar Glen
ATTACH;FMTTYPE=image/jpeg:https://ilovelakearrowhead.com/wp-content/uploads/rb_steakhouse_ilovelakearrowhead-7516.jpg
END:VEVENT
BEGIN:VEVENT
DTSTART;TZID=America/Los_Angeles:20270901T150000
DTEND;TZID=America/Los_Angeles:20270901T150000
DTSTAMP:20260424T062923
CREATED:20241206T025343Z
LAST-MODIFIED:20241206T025436Z
UID:10001633-1819810800-1819810800@ilovelakearrowhead.com
SUMMARY:Prime Rib Wednesdays at RB's Steakhouse
DESCRIPTION:Indulge in Prime Rib Wednesdays at RB’s Steakhouse! 12 ounces prime rib with side option every Wednesday while supplies last\, 3-9pm. \n29020 Oak Terrace\, Cedar Glen
URL:https://ilovelakearrowhead.com/event/prime-rib-wednesdays-at-rbs-steakhouse-2/2027-09-01/
CATEGORIES:Cedar Glen
ATTACH;FMTTYPE=image/jpeg:https://ilovelakearrowhead.com/wp-content/uploads/rb_steakhouse_ilovelakearrowhead-7516.jpg
END:VEVENT
BEGIN:VEVENT
DTSTART;TZID=America/Los_Angeles:20270908T150000
DTEND;TZID=America/Los_Angeles:20270908T150000
DTSTAMP:20260424T062923
CREATED:20241206T025343Z
LAST-MODIFIED:20241206T025436Z
UID:10001634-1820415600-1820415600@ilovelakearrowhead.com
SUMMARY:Prime Rib Wednesdays at RB's Steakhouse
DESCRIPTION:Indulge in Prime Rib Wednesdays at RB’s Steakhouse! 12 ounces prime rib with side option every Wednesday while supplies last\, 3-9pm. \n29020 Oak Terrace\, Cedar Glen
URL:https://ilovelakearrowhead.com/event/prime-rib-wednesdays-at-rbs-steakhouse-2/2027-09-08/
CATEGORIES:Cedar Glen
ATTACH;FMTTYPE=image/jpeg:https://ilovelakearrowhead.com/wp-content/uploads/rb_steakhouse_ilovelakearrowhead-7516.jpg
END:VEVENT
BEGIN:VEVENT
DTSTART;TZID=America/Los_Angeles:20270915T150000
DTEND;TZID=America/Los_Angeles:20270915T150000
DTSTAMP:20260424T062923
CREATED:20241206T025343Z
LAST-MODIFIED:20241206T025436Z
UID:10001635-1821020400-1821020400@ilovelakearrowhead.com
SUMMARY:Prime Rib Wednesdays at RB's Steakhouse
DESCRIPTION:Indulge in Prime Rib Wednesdays at RB’s Steakhouse! 12 ounces prime rib with side option every Wednesday while supplies last\, 3-9pm. \n29020 Oak Terrace\, Cedar Glen
URL:https://ilovelakearrowhead.com/event/prime-rib-wednesdays-at-rbs-steakhouse-2/2027-09-15/
CATEGORIES:Cedar Glen
ATTACH;FMTTYPE=image/jpeg:https://ilovelakearrowhead.com/wp-content/uploads/rb_steakhouse_ilovelakearrowhead-7516.jpg
END:VEVENT
BEGIN:VEVENT
DTSTART;TZID=America/Los_Angeles:20270922T150000
DTEND;TZID=America/Los_Angeles:20270922T150000
DTSTAMP:20260424T062923
CREATED:20241206T025343Z
LAST-MODIFIED:20241206T025436Z
UID:10001636-1821625200-1821625200@ilovelakearrowhead.com
SUMMARY:Prime Rib Wednesdays at RB's Steakhouse
DESCRIPTION:Indulge in Prime Rib Wednesdays at RB’s Steakhouse! 12 ounces prime rib with side option every Wednesday while supplies last\, 3-9pm. \n29020 Oak Terrace\, Cedar Glen
URL:https://ilovelakearrowhead.com/event/prime-rib-wednesdays-at-rbs-steakhouse-2/2027-09-22/
CATEGORIES:Cedar Glen
ATTACH;FMTTYPE=image/jpeg:https://ilovelakearrowhead.com/wp-content/uploads/rb_steakhouse_ilovelakearrowhead-7516.jpg
END:VEVENT
BEGIN:VEVENT
DTSTART;TZID=America/Los_Angeles:20270929T150000
DTEND;TZID=America/Los_Angeles:20270929T150000
DTSTAMP:20260424T062923
CREATED:20241206T025343Z
LAST-MODIFIED:20241206T025436Z
UID:10001637-1822230000-1822230000@ilovelakearrowhead.com
SUMMARY:Prime Rib Wednesdays at RB's Steakhouse
DESCRIPTION:Indulge in Prime Rib Wednesdays at RB’s Steakhouse! 12 ounces prime rib with side option every Wednesday while supplies last\, 3-9pm. \n29020 Oak Terrace\, Cedar Glen
URL:https://ilovelakearrowhead.com/event/prime-rib-wednesdays-at-rbs-steakhouse-2/2027-09-29/
CATEGORIES:Cedar Glen
ATTACH;FMTTYPE=image/jpeg:https://ilovelakearrowhead.com/wp-content/uploads/rb_steakhouse_ilovelakearrowhead-7516.jpg
END:VEVENT
BEGIN:VEVENT
DTSTART;TZID=America/Los_Angeles:20271006T150000
DTEND;TZID=America/Los_Angeles:20271006T150000
DTSTAMP:20260424T062923
CREATED:20241206T025343Z
LAST-MODIFIED:20241206T025436Z
UID:10001638-1822834800-1822834800@ilovelakearrowhead.com
SUMMARY:Prime Rib Wednesdays at RB's Steakhouse
DESCRIPTION:Indulge in Prime Rib Wednesdays at RB’s Steakhouse! 12 ounces prime rib with side option every Wednesday while supplies last\, 3-9pm. \n29020 Oak Terrace\, Cedar Glen
URL:https://ilovelakearrowhead.com/event/prime-rib-wednesdays-at-rbs-steakhouse-2/2027-10-06/
CATEGORIES:Cedar Glen
ATTACH;FMTTYPE=image/jpeg:https://ilovelakearrowhead.com/wp-content/uploads/rb_steakhouse_ilovelakearrowhead-7516.jpg
END:VEVENT
BEGIN:VEVENT
DTSTART;TZID=America/Los_Angeles:20271013T150000
DTEND;TZID=America/Los_Angeles:20271013T150000
DTSTAMP:20260424T062923
CREATED:20241206T025343Z
LAST-MODIFIED:20241206T025436Z
UID:10001639-1823439600-1823439600@ilovelakearrowhead.com
SUMMARY:Prime Rib Wednesdays at RB's Steakhouse
DESCRIPTION:Indulge in Prime Rib Wednesdays at RB’s Steakhouse! 12 ounces prime rib with side option every Wednesday while supplies last\, 3-9pm. \n29020 Oak Terrace\, Cedar Glen
URL:https://ilovelakearrowhead.com/event/prime-rib-wednesdays-at-rbs-steakhouse-2/2027-10-13/
CATEGORIES:Cedar Glen
ATTACH;FMTTYPE=image/jpeg:https://ilovelakearrowhead.com/wp-content/uploads/rb_steakhouse_ilovelakearrowhead-7516.jpg
END:VEVENT
BEGIN:VEVENT
DTSTART;TZID=America/Los_Angeles:20271020T150000
DTEND;TZID=America/Los_Angeles:20271020T150000
DTSTAMP:20260424T062923
CREATED:20241206T025343Z
LAST-MODIFIED:20241206T025436Z
UID:10001640-1824044400-1824044400@ilovelakearrowhead.com
SUMMARY:Prime Rib Wednesdays at RB's Steakhouse
DESCRIPTION:Indulge in Prime Rib Wednesdays at RB’s Steakhouse! 12 ounces prime rib with side option every Wednesday while supplies last\, 3-9pm. \n29020 Oak Terrace\, Cedar Glen
URL:https://ilovelakearrowhead.com/event/prime-rib-wednesdays-at-rbs-steakhouse-2/2027-10-20/
CATEGORIES:Cedar Glen
ATTACH;FMTTYPE=image/jpeg:https://ilovelakearrowhead.com/wp-content/uploads/rb_steakhouse_ilovelakearrowhead-7516.jpg
END:VEVENT
BEGIN:VEVENT
DTSTART;TZID=America/Los_Angeles:20271027T150000
DTEND;TZID=America/Los_Angeles:20271027T150000
DTSTAMP:20260424T062923
CREATED:20241206T025343Z
LAST-MODIFIED:20241206T025436Z
UID:10001641-1824649200-1824649200@ilovelakearrowhead.com
SUMMARY:Prime Rib Wednesdays at RB's Steakhouse
DESCRIPTION:Indulge in Prime Rib Wednesdays at RB’s Steakhouse! 12 ounces prime rib with side option every Wednesday while supplies last\, 3-9pm. \n29020 Oak Terrace\, Cedar Glen
URL:https://ilovelakearrowhead.com/event/prime-rib-wednesdays-at-rbs-steakhouse-2/2027-10-27/
CATEGORIES:Cedar Glen
ATTACH;FMTTYPE=image/jpeg:https://ilovelakearrowhead.com/wp-content/uploads/rb_steakhouse_ilovelakearrowhead-7516.jpg
END:VEVENT
BEGIN:VEVENT
DTSTART;TZID=America/Los_Angeles:20271103T150000
DTEND;TZID=America/Los_Angeles:20271103T150000
DTSTAMP:20260424T062923
CREATED:20241206T025343Z
LAST-MODIFIED:20241206T025436Z
UID:10001642-1825254000-1825254000@ilovelakearrowhead.com
SUMMARY:Prime Rib Wednesdays at RB's Steakhouse
DESCRIPTION:Indulge in Prime Rib Wednesdays at RB’s Steakhouse! 12 ounces prime rib with side option every Wednesday while supplies last\, 3-9pm. \n29020 Oak Terrace\, Cedar Glen
URL:https://ilovelakearrowhead.com/event/prime-rib-wednesdays-at-rbs-steakhouse-2/2027-11-03/
CATEGORIES:Cedar Glen
ATTACH;FMTTYPE=image/jpeg:https://ilovelakearrowhead.com/wp-content/uploads/rb_steakhouse_ilovelakearrowhead-7516.jpg
END:VEVENT
BEGIN:VEVENT
DTSTART;TZID=America/Los_Angeles:20271110T150000
DTEND;TZID=America/Los_Angeles:20271110T150000
DTSTAMP:20260424T062923
CREATED:20241206T025343Z
LAST-MODIFIED:20241206T025436Z
UID:10001643-1825858800-1825858800@ilovelakearrowhead.com
SUMMARY:Prime Rib Wednesdays at RB's Steakhouse
DESCRIPTION:Indulge in Prime Rib Wednesdays at RB’s Steakhouse! 12 ounces prime rib with side option every Wednesday while supplies last\, 3-9pm. \n29020 Oak Terrace\, Cedar Glen
URL:https://ilovelakearrowhead.com/event/prime-rib-wednesdays-at-rbs-steakhouse-2/2027-11-10/
CATEGORIES:Cedar Glen
ATTACH;FMTTYPE=image/jpeg:https://ilovelakearrowhead.com/wp-content/uploads/rb_steakhouse_ilovelakearrowhead-7516.jpg
END:VEVENT
BEGIN:VEVENT
DTSTART;TZID=America/Los_Angeles:20271117T150000
DTEND;TZID=America/Los_Angeles:20271117T150000
DTSTAMP:20260424T062923
CREATED:20241206T025343Z
LAST-MODIFIED:20241206T025436Z
UID:10001644-1826463600-1826463600@ilovelakearrowhead.com
SUMMARY:Prime Rib Wednesdays at RB's Steakhouse
DESCRIPTION:Indulge in Prime Rib Wednesdays at RB’s Steakhouse! 12 ounces prime rib with side option every Wednesday while supplies last\, 3-9pm. \n29020 Oak Terrace\, Cedar Glen
URL:https://ilovelakearrowhead.com/event/prime-rib-wednesdays-at-rbs-steakhouse-2/2027-11-17/
CATEGORIES:Cedar Glen
ATTACH;FMTTYPE=image/jpeg:https://ilovelakearrowhead.com/wp-content/uploads/rb_steakhouse_ilovelakearrowhead-7516.jpg
END:VEVENT
BEGIN:VEVENT
DTSTART;TZID=America/Los_Angeles:20271124T150000
DTEND;TZID=America/Los_Angeles:20271124T150000
DTSTAMP:20260424T062924
CREATED:20241206T025343Z
LAST-MODIFIED:20241206T025436Z
UID:10001645-1827068400-1827068400@ilovelakearrowhead.com
SUMMARY:Prime Rib Wednesdays at RB's Steakhouse
DESCRIPTION:Indulge in Prime Rib Wednesdays at RB’s Steakhouse! 12 ounces prime rib with side option every Wednesday while supplies last\, 3-9pm. \n29020 Oak Terrace\, Cedar Glen
URL:https://ilovelakearrowhead.com/event/prime-rib-wednesdays-at-rbs-steakhouse-2/2027-11-24/
CATEGORIES:Cedar Glen
ATTACH;FMTTYPE=image/jpeg:https://ilovelakearrowhead.com/wp-content/uploads/rb_steakhouse_ilovelakearrowhead-7516.jpg
END:VEVENT
BEGIN:VEVENT
DTSTART;TZID=America/Los_Angeles:20271201T150000
DTEND;TZID=America/Los_Angeles:20271201T150000
DTSTAMP:20260424T062924
CREATED:20241206T025343Z
LAST-MODIFIED:20241206T025436Z
UID:10001646-1827673200-1827673200@ilovelakearrowhead.com
SUMMARY:Prime Rib Wednesdays at RB's Steakhouse
DESCRIPTION:Indulge in Prime Rib Wednesdays at RB’s Steakhouse! 12 ounces prime rib with side option every Wednesday while supplies last\, 3-9pm. \n29020 Oak Terrace\, Cedar Glen
URL:https://ilovelakearrowhead.com/event/prime-rib-wednesdays-at-rbs-steakhouse-2/2027-12-01/
CATEGORIES:Cedar Glen
ATTACH;FMTTYPE=image/jpeg:https://ilovelakearrowhead.com/wp-content/uploads/rb_steakhouse_ilovelakearrowhead-7516.jpg
END:VEVENT
BEGIN:VEVENT
DTSTART;TZID=America/Los_Angeles:20271208T150000
DTEND;TZID=America/Los_Angeles:20271208T150000
DTSTAMP:20260424T062924
CREATED:20241206T025343Z
LAST-MODIFIED:20241206T025436Z
UID:10001647-1828278000-1828278000@ilovelakearrowhead.com
SUMMARY:Prime Rib Wednesdays at RB's Steakhouse
DESCRIPTION:Indulge in Prime Rib Wednesdays at RB’s Steakhouse! 12 ounces prime rib with side option every Wednesday while supplies last\, 3-9pm. \n29020 Oak Terrace\, Cedar Glen
URL:https://ilovelakearrowhead.com/event/prime-rib-wednesdays-at-rbs-steakhouse-2/2027-12-08/
CATEGORIES:Cedar Glen
ATTACH;FMTTYPE=image/jpeg:https://ilovelakearrowhead.com/wp-content/uploads/rb_steakhouse_ilovelakearrowhead-7516.jpg
END:VEVENT
BEGIN:VEVENT
DTSTART;TZID=America/Los_Angeles:20271215T150000
DTEND;TZID=America/Los_Angeles:20271215T150000
DTSTAMP:20260424T062924
CREATED:20241206T025343Z
LAST-MODIFIED:20241206T025436Z
UID:10001648-1828882800-1828882800@ilovelakearrowhead.com
SUMMARY:Prime Rib Wednesdays at RB's Steakhouse
DESCRIPTION:Indulge in Prime Rib Wednesdays at RB’s Steakhouse! 12 ounces prime rib with side option every Wednesday while supplies last\, 3-9pm. \n29020 Oak Terrace\, Cedar Glen
URL:https://ilovelakearrowhead.com/event/prime-rib-wednesdays-at-rbs-steakhouse-2/2027-12-15/
CATEGORIES:Cedar Glen
ATTACH;FMTTYPE=image/jpeg:https://ilovelakearrowhead.com/wp-content/uploads/rb_steakhouse_ilovelakearrowhead-7516.jpg
END:VEVENT
BEGIN:VEVENT
DTSTART;TZID=America/Los_Angeles:20271222T150000
DTEND;TZID=America/Los_Angeles:20271222T150000
DTSTAMP:20260424T062924
CREATED:20241206T025343Z
LAST-MODIFIED:20241206T025436Z
UID:10001649-1829487600-1829487600@ilovelakearrowhead.com
SUMMARY:Prime Rib Wednesdays at RB's Steakhouse
DESCRIPTION:Indulge in Prime Rib Wednesdays at RB’s Steakhouse! 12 ounces prime rib with side option every Wednesday while supplies last\, 3-9pm. \n29020 Oak Terrace\, Cedar Glen
URL:https://ilovelakearrowhead.com/event/prime-rib-wednesdays-at-rbs-steakhouse-2/2027-12-22/
CATEGORIES:Cedar Glen
ATTACH;FMTTYPE=image/jpeg:https://ilovelakearrowhead.com/wp-content/uploads/rb_steakhouse_ilovelakearrowhead-7516.jpg
END:VEVENT
BEGIN:VEVENT
DTSTART;TZID=America/Los_Angeles:20271229T150000
DTEND;TZID=America/Los_Angeles:20271229T150000
DTSTAMP:20260424T062924
CREATED:20241206T025343Z
LAST-MODIFIED:20241206T025436Z
UID:10001650-1830092400-1830092400@ilovelakearrowhead.com
SUMMARY:Prime Rib Wednesdays at RB's Steakhouse
DESCRIPTION:Indulge in Prime Rib Wednesdays at RB’s Steakhouse! 12 ounces prime rib with side option every Wednesday while supplies last\, 3-9pm. \n29020 Oak Terrace\, Cedar Glen
URL:https://ilovelakearrowhead.com/event/prime-rib-wednesdays-at-rbs-steakhouse-2/2027-12-29/
CATEGORIES:Cedar Glen
ATTACH;FMTTYPE=image/jpeg:https://ilovelakearrowhead.com/wp-content/uploads/rb_steakhouse_ilovelakearrowhead-7516.jpg
END:VEVENT
BEGIN:VEVENT
DTSTART;TZID=America/Los_Angeles:20280105T150000
DTEND;TZID=America/Los_Angeles:20280105T150000
DTSTAMP:20260424T062924
CREATED:20241206T025343Z
LAST-MODIFIED:20241206T025436Z
UID:10001651-1830697200-1830697200@ilovelakearrowhead.com
SUMMARY:Prime Rib Wednesdays at RB's Steakhouse
DESCRIPTION:Indulge in Prime Rib Wednesdays at RB’s Steakhouse! 12 ounces prime rib with side option every Wednesday while supplies last\, 3-9pm. \n29020 Oak Terrace\, Cedar Glen
URL:https://ilovelakearrowhead.com/event/prime-rib-wednesdays-at-rbs-steakhouse-2/2028-01-05/
CATEGORIES:Cedar Glen
ATTACH;FMTTYPE=image/jpeg:https://ilovelakearrowhead.com/wp-content/uploads/rb_steakhouse_ilovelakearrowhead-7516.jpg
END:VEVENT
BEGIN:VEVENT
DTSTART;TZID=America/Los_Angeles:20280112T150000
DTEND;TZID=America/Los_Angeles:20280112T150000
DTSTAMP:20260424T062924
CREATED:20241206T025343Z
LAST-MODIFIED:20241206T025436Z
UID:10001652-1831302000-1831302000@ilovelakearrowhead.com
SUMMARY:Prime Rib Wednesdays at RB's Steakhouse
DESCRIPTION:Indulge in Prime Rib Wednesdays at RB’s Steakhouse! 12 ounces prime rib with side option every Wednesday while supplies last\, 3-9pm. \n29020 Oak Terrace\, Cedar Glen
URL:https://ilovelakearrowhead.com/event/prime-rib-wednesdays-at-rbs-steakhouse-2/2028-01-12/
CATEGORIES:Cedar Glen
ATTACH;FMTTYPE=image/jpeg:https://ilovelakearrowhead.com/wp-content/uploads/rb_steakhouse_ilovelakearrowhead-7516.jpg
END:VEVENT
BEGIN:VEVENT
DTSTART;TZID=America/Los_Angeles:20280119T150000
DTEND;TZID=America/Los_Angeles:20280119T150000
DTSTAMP:20260424T062924
CREATED:20241206T025343Z
LAST-MODIFIED:20241206T025436Z
UID:10001653-1831906800-1831906800@ilovelakearrowhead.com
SUMMARY:Prime Rib Wednesdays at RB's Steakhouse
DESCRIPTION:Indulge in Prime Rib Wednesdays at RB’s Steakhouse! 12 ounces prime rib with side option every Wednesday while supplies last\, 3-9pm. \n29020 Oak Terrace\, Cedar Glen
URL:https://ilovelakearrowhead.com/event/prime-rib-wednesdays-at-rbs-steakhouse-2/2028-01-19/
CATEGORIES:Cedar Glen
ATTACH;FMTTYPE=image/jpeg:https://ilovelakearrowhead.com/wp-content/uploads/rb_steakhouse_ilovelakearrowhead-7516.jpg
END:VEVENT
BEGIN:VEVENT
DTSTART;TZID=America/Los_Angeles:20280126T150000
DTEND;TZID=America/Los_Angeles:20280126T150000
DTSTAMP:20260424T062924
CREATED:20241206T025343Z
LAST-MODIFIED:20241206T025436Z
UID:10001654-1832511600-1832511600@ilovelakearrowhead.com
SUMMARY:Prime Rib Wednesdays at RB's Steakhouse
DESCRIPTION:Indulge in Prime Rib Wednesdays at RB’s Steakhouse! 12 ounces prime rib with side option every Wednesday while supplies last\, 3-9pm. \n29020 Oak Terrace\, Cedar Glen
URL:https://ilovelakearrowhead.com/event/prime-rib-wednesdays-at-rbs-steakhouse-2/2028-01-26/
CATEGORIES:Cedar Glen
ATTACH;FMTTYPE=image/jpeg:https://ilovelakearrowhead.com/wp-content/uploads/rb_steakhouse_ilovelakearrowhead-7516.jpg
END:VEVENT
BEGIN:VEVENT
DTSTART;TZID=America/Los_Angeles:20280202T150000
DTEND;TZID=America/Los_Angeles:20280202T150000
DTSTAMP:20260424T062924
CREATED:20241206T025343Z
LAST-MODIFIED:20241206T025436Z
UID:10001655-1833116400-1833116400@ilovelakearrowhead.com
SUMMARY:Prime Rib Wednesdays at RB's Steakhouse
DESCRIPTION:Indulge in Prime Rib Wednesdays at RB’s Steakhouse! 12 ounces prime rib with side option every Wednesday while supplies last\, 3-9pm. \n29020 Oak Terrace\, Cedar Glen
URL:https://ilovelakearrowhead.com/event/prime-rib-wednesdays-at-rbs-steakhouse-2/2028-02-02/
CATEGORIES:Cedar Glen
ATTACH;FMTTYPE=image/jpeg:https://ilovelakearrowhead.com/wp-content/uploads/rb_steakhouse_ilovelakearrowhead-7516.jpg
END:VEVENT
BEGIN:VEVENT
DTSTART;TZID=America/Los_Angeles:20280209T150000
DTEND;TZID=America/Los_Angeles:20280209T150000
DTSTAMP:20260424T062924
CREATED:20241206T025343Z
LAST-MODIFIED:20241206T025436Z
UID:10001656-1833721200-1833721200@ilovelakearrowhead.com
SUMMARY:Prime Rib Wednesdays at RB's Steakhouse
DESCRIPTION:Indulge in Prime Rib Wednesdays at RB’s Steakhouse! 12 ounces prime rib with side option every Wednesday while supplies last\, 3-9pm. \n29020 Oak Terrace\, Cedar Glen
URL:https://ilovelakearrowhead.com/event/prime-rib-wednesdays-at-rbs-steakhouse-2/2028-02-09/
CATEGORIES:Cedar Glen
ATTACH;FMTTYPE=image/jpeg:https://ilovelakearrowhead.com/wp-content/uploads/rb_steakhouse_ilovelakearrowhead-7516.jpg
END:VEVENT
BEGIN:VEVENT
DTSTART;TZID=America/Los_Angeles:20280216T150000
DTEND;TZID=America/Los_Angeles:20280216T150000
DTSTAMP:20260424T062924
CREATED:20241206T025343Z
LAST-MODIFIED:20241206T025436Z
UID:10001657-1834326000-1834326000@ilovelakearrowhead.com
SUMMARY:Prime Rib Wednesdays at RB's Steakhouse
DESCRIPTION:Indulge in Prime Rib Wednesdays at RB’s Steakhouse! 12 ounces prime rib with side option every Wednesday while supplies last\, 3-9pm. \n29020 Oak Terrace\, Cedar Glen
URL:https://ilovelakearrowhead.com/event/prime-rib-wednesdays-at-rbs-steakhouse-2/2028-02-16/
CATEGORIES:Cedar Glen
ATTACH;FMTTYPE=image/jpeg:https://ilovelakearrowhead.com/wp-content/uploads/rb_steakhouse_ilovelakearrowhead-7516.jpg
END:VEVENT
BEGIN:VEVENT
DTSTART;TZID=America/Los_Angeles:20280223T150000
DTEND;TZID=America/Los_Angeles:20280223T150000
DTSTAMP:20260424T062924
CREATED:20241206T025343Z
LAST-MODIFIED:20241206T025436Z
UID:10001658-1834930800-1834930800@ilovelakearrowhead.com
SUMMARY:Prime Rib Wednesdays at RB's Steakhouse
DESCRIPTION:Indulge in Prime Rib Wednesdays at RB’s Steakhouse! 12 ounces prime rib with side option every Wednesday while supplies last\, 3-9pm. \n29020 Oak Terrace\, Cedar Glen
URL:https://ilovelakearrowhead.com/event/prime-rib-wednesdays-at-rbs-steakhouse-2/2028-02-23/
CATEGORIES:Cedar Glen
ATTACH;FMTTYPE=image/jpeg:https://ilovelakearrowhead.com/wp-content/uploads/rb_steakhouse_ilovelakearrowhead-7516.jpg
END:VEVENT
BEGIN:VEVENT
DTSTART;TZID=America/Los_Angeles:20280301T150000
DTEND;TZID=America/Los_Angeles:20280301T150000
DTSTAMP:20260424T062924
CREATED:20241206T025343Z
LAST-MODIFIED:20241206T025436Z
UID:10001659-1835535600-1835535600@ilovelakearrowhead.com
SUMMARY:Prime Rib Wednesdays at RB's Steakhouse
DESCRIPTION:Indulge in Prime Rib Wednesdays at RB’s Steakhouse! 12 ounces prime rib with side option every Wednesday while supplies last\, 3-9pm. \n29020 Oak Terrace\, Cedar Glen
URL:https://ilovelakearrowhead.com/event/prime-rib-wednesdays-at-rbs-steakhouse-2/2028-03-01/
CATEGORIES:Cedar Glen
ATTACH;FMTTYPE=image/jpeg:https://ilovelakearrowhead.com/wp-content/uploads/rb_steakhouse_ilovelakearrowhead-7516.jpg
END:VEVENT
BEGIN:VEVENT
DTSTART;TZID=America/Los_Angeles:20280308T150000
DTEND;TZID=America/Los_Angeles:20280308T150000
DTSTAMP:20260424T062924
CREATED:20241206T025343Z
LAST-MODIFIED:20241206T025436Z
UID:10001660-1836140400-1836140400@ilovelakearrowhead.com
SUMMARY:Prime Rib Wednesdays at RB's Steakhouse
DESCRIPTION:Indulge in Prime Rib Wednesdays at RB’s Steakhouse! 12 ounces prime rib with side option every Wednesday while supplies last\, 3-9pm. \n29020 Oak Terrace\, Cedar Glen
URL:https://ilovelakearrowhead.com/event/prime-rib-wednesdays-at-rbs-steakhouse-2/2028-03-08/
CATEGORIES:Cedar Glen
ATTACH;FMTTYPE=image/jpeg:https://ilovelakearrowhead.com/wp-content/uploads/rb_steakhouse_ilovelakearrowhead-7516.jpg
END:VEVENT
BEGIN:VEVENT
DTSTART;TZID=America/Los_Angeles:20280315T150000
DTEND;TZID=America/Los_Angeles:20280315T150000
DTSTAMP:20260424T062924
CREATED:20241206T025343Z
LAST-MODIFIED:20241206T025436Z
UID:10001661-1836745200-1836745200@ilovelakearrowhead.com
SUMMARY:Prime Rib Wednesdays at RB's Steakhouse
DESCRIPTION:Indulge in Prime Rib Wednesdays at RB’s Steakhouse! 12 ounces prime rib with side option every Wednesday while supplies last\, 3-9pm. \n29020 Oak Terrace\, Cedar Glen
URL:https://ilovelakearrowhead.com/event/prime-rib-wednesdays-at-rbs-steakhouse-2/2028-03-15/
CATEGORIES:Cedar Glen
ATTACH;FMTTYPE=image/jpeg:https://ilovelakearrowhead.com/wp-content/uploads/rb_steakhouse_ilovelakearrowhead-7516.jpg
END:VEVENT
END:VCALENDAR