BEGIN:VCALENDAR
VERSION:2.0
PRODID:-//I Love Lake Arrowhead - ECPv6.15.20//NONSGML v1.0//EN
CALSCALE:GREGORIAN
METHOD:PUBLISH
X-ORIGINAL-URL:https://ilovelakearrowhead.com
X-WR-CALDESC:Events for I Love Lake Arrowhead
REFRESH-INTERVAL;VALUE=DURATION:PT1H
X-Robots-Tag:noindex
X-PUBLISHED-TTL:PT1H
BEGIN:VTIMEZONE
TZID:America/Los_Angeles
BEGIN:DAYLIGHT
TZOFFSETFROM:-0800
TZOFFSETTO:-0700
TZNAME:PDT
DTSTART:20270314T100000
END:DAYLIGHT
BEGIN:STANDARD
TZOFFSETFROM:-0700
TZOFFSETTO:-0800
TZNAME:PST
DTSTART:20271107T090000
END:STANDARD
BEGIN:DAYLIGHT
TZOFFSETFROM:-0800
TZOFFSETTO:-0700
TZNAME:PDT
DTSTART:20280312T100000
END:DAYLIGHT
BEGIN:STANDARD
TZOFFSETFROM:-0700
TZOFFSETTO:-0800
TZNAME:PST
DTSTART:20281105T090000
END:STANDARD
BEGIN:DAYLIGHT
TZOFFSETFROM:-0800
TZOFFSETTO:-0700
TZNAME:PDT
DTSTART:20290311T100000
END:DAYLIGHT
BEGIN:STANDARD
TZOFFSETFROM:-0700
TZOFFSETTO:-0800
TZNAME:PST
DTSTART:20291104T090000
END:STANDARD
END:VTIMEZONE
BEGIN:VEVENT
DTSTART;TZID=America/Los_Angeles:20280524T150000
DTEND;TZID=America/Los_Angeles:20280524T150000
DTSTAMP:20260424T142226
CREATED:20241206T025343Z
LAST-MODIFIED:20241206T025436Z
UID:10001671-1842793200-1842793200@ilovelakearrowhead.com
SUMMARY:Prime Rib Wednesdays at RB's Steakhouse
DESCRIPTION:Indulge in Prime Rib Wednesdays at RB’s Steakhouse! 12 ounces prime rib with side option every Wednesday while supplies last\, 3-9pm. \n29020 Oak Terrace\, Cedar Glen
URL:https://ilovelakearrowhead.com/event/prime-rib-wednesdays-at-rbs-steakhouse-2/2028-05-24/
CATEGORIES:Cedar Glen
ATTACH;FMTTYPE=image/jpeg:https://ilovelakearrowhead.com/wp-content/uploads/rb_steakhouse_ilovelakearrowhead-7516.jpg
END:VEVENT
BEGIN:VEVENT
DTSTART;TZID=America/Los_Angeles:20280531T150000
DTEND;TZID=America/Los_Angeles:20280531T150000
DTSTAMP:20260424T142226
CREATED:20241206T025343Z
LAST-MODIFIED:20241206T025436Z
UID:10001672-1843398000-1843398000@ilovelakearrowhead.com
SUMMARY:Prime Rib Wednesdays at RB's Steakhouse
DESCRIPTION:Indulge in Prime Rib Wednesdays at RB’s Steakhouse! 12 ounces prime rib with side option every Wednesday while supplies last\, 3-9pm. \n29020 Oak Terrace\, Cedar Glen
URL:https://ilovelakearrowhead.com/event/prime-rib-wednesdays-at-rbs-steakhouse-2/2028-05-31/
CATEGORIES:Cedar Glen
ATTACH;FMTTYPE=image/jpeg:https://ilovelakearrowhead.com/wp-content/uploads/rb_steakhouse_ilovelakearrowhead-7516.jpg
END:VEVENT
BEGIN:VEVENT
DTSTART;TZID=America/Los_Angeles:20280607T150000
DTEND;TZID=America/Los_Angeles:20280607T150000
DTSTAMP:20260424T142226
CREATED:20241206T025343Z
LAST-MODIFIED:20241206T025436Z
UID:10001673-1844002800-1844002800@ilovelakearrowhead.com
SUMMARY:Prime Rib Wednesdays at RB's Steakhouse
DESCRIPTION:Indulge in Prime Rib Wednesdays at RB’s Steakhouse! 12 ounces prime rib with side option every Wednesday while supplies last\, 3-9pm. \n29020 Oak Terrace\, Cedar Glen
URL:https://ilovelakearrowhead.com/event/prime-rib-wednesdays-at-rbs-steakhouse-2/2028-06-07/
CATEGORIES:Cedar Glen
ATTACH;FMTTYPE=image/jpeg:https://ilovelakearrowhead.com/wp-content/uploads/rb_steakhouse_ilovelakearrowhead-7516.jpg
END:VEVENT
BEGIN:VEVENT
DTSTART;TZID=America/Los_Angeles:20280614T150000
DTEND;TZID=America/Los_Angeles:20280614T150000
DTSTAMP:20260424T142226
CREATED:20241206T025343Z
LAST-MODIFIED:20241206T025436Z
UID:10001674-1844607600-1844607600@ilovelakearrowhead.com
SUMMARY:Prime Rib Wednesdays at RB's Steakhouse
DESCRIPTION:Indulge in Prime Rib Wednesdays at RB’s Steakhouse! 12 ounces prime rib with side option every Wednesday while supplies last\, 3-9pm. \n29020 Oak Terrace\, Cedar Glen
URL:https://ilovelakearrowhead.com/event/prime-rib-wednesdays-at-rbs-steakhouse-2/2028-06-14/
CATEGORIES:Cedar Glen
ATTACH;FMTTYPE=image/jpeg:https://ilovelakearrowhead.com/wp-content/uploads/rb_steakhouse_ilovelakearrowhead-7516.jpg
END:VEVENT
BEGIN:VEVENT
DTSTART;TZID=America/Los_Angeles:20280621T150000
DTEND;TZID=America/Los_Angeles:20280621T150000
DTSTAMP:20260424T142226
CREATED:20241206T025343Z
LAST-MODIFIED:20241206T025436Z
UID:10001675-1845212400-1845212400@ilovelakearrowhead.com
SUMMARY:Prime Rib Wednesdays at RB's Steakhouse
DESCRIPTION:Indulge in Prime Rib Wednesdays at RB’s Steakhouse! 12 ounces prime rib with side option every Wednesday while supplies last\, 3-9pm. \n29020 Oak Terrace\, Cedar Glen
URL:https://ilovelakearrowhead.com/event/prime-rib-wednesdays-at-rbs-steakhouse-2/2028-06-21/
CATEGORIES:Cedar Glen
ATTACH;FMTTYPE=image/jpeg:https://ilovelakearrowhead.com/wp-content/uploads/rb_steakhouse_ilovelakearrowhead-7516.jpg
END:VEVENT
BEGIN:VEVENT
DTSTART;TZID=America/Los_Angeles:20280628T150000
DTEND;TZID=America/Los_Angeles:20280628T150000
DTSTAMP:20260424T142226
CREATED:20241206T025343Z
LAST-MODIFIED:20241206T025436Z
UID:10001676-1845817200-1845817200@ilovelakearrowhead.com
SUMMARY:Prime Rib Wednesdays at RB's Steakhouse
DESCRIPTION:Indulge in Prime Rib Wednesdays at RB’s Steakhouse! 12 ounces prime rib with side option every Wednesday while supplies last\, 3-9pm. \n29020 Oak Terrace\, Cedar Glen
URL:https://ilovelakearrowhead.com/event/prime-rib-wednesdays-at-rbs-steakhouse-2/2028-06-28/
CATEGORIES:Cedar Glen
ATTACH;FMTTYPE=image/jpeg:https://ilovelakearrowhead.com/wp-content/uploads/rb_steakhouse_ilovelakearrowhead-7516.jpg
END:VEVENT
BEGIN:VEVENT
DTSTART;TZID=America/Los_Angeles:20280705T150000
DTEND;TZID=America/Los_Angeles:20280705T150000
DTSTAMP:20260424T142226
CREATED:20241206T025343Z
LAST-MODIFIED:20241206T025436Z
UID:10001677-1846422000-1846422000@ilovelakearrowhead.com
SUMMARY:Prime Rib Wednesdays at RB's Steakhouse
DESCRIPTION:Indulge in Prime Rib Wednesdays at RB’s Steakhouse! 12 ounces prime rib with side option every Wednesday while supplies last\, 3-9pm. \n29020 Oak Terrace\, Cedar Glen
URL:https://ilovelakearrowhead.com/event/prime-rib-wednesdays-at-rbs-steakhouse-2/2028-07-05/
CATEGORIES:Cedar Glen
ATTACH;FMTTYPE=image/jpeg:https://ilovelakearrowhead.com/wp-content/uploads/rb_steakhouse_ilovelakearrowhead-7516.jpg
END:VEVENT
BEGIN:VEVENT
DTSTART;TZID=America/Los_Angeles:20280712T150000
DTEND;TZID=America/Los_Angeles:20280712T150000
DTSTAMP:20260424T142226
CREATED:20241206T025343Z
LAST-MODIFIED:20241206T025436Z
UID:10001678-1847026800-1847026800@ilovelakearrowhead.com
SUMMARY:Prime Rib Wednesdays at RB's Steakhouse
DESCRIPTION:Indulge in Prime Rib Wednesdays at RB’s Steakhouse! 12 ounces prime rib with side option every Wednesday while supplies last\, 3-9pm. \n29020 Oak Terrace\, Cedar Glen
URL:https://ilovelakearrowhead.com/event/prime-rib-wednesdays-at-rbs-steakhouse-2/2028-07-12/
CATEGORIES:Cedar Glen
ATTACH;FMTTYPE=image/jpeg:https://ilovelakearrowhead.com/wp-content/uploads/rb_steakhouse_ilovelakearrowhead-7516.jpg
END:VEVENT
BEGIN:VEVENT
DTSTART;TZID=America/Los_Angeles:20280719T150000
DTEND;TZID=America/Los_Angeles:20280719T150000
DTSTAMP:20260424T142226
CREATED:20241206T025343Z
LAST-MODIFIED:20241206T025436Z
UID:10001679-1847631600-1847631600@ilovelakearrowhead.com
SUMMARY:Prime Rib Wednesdays at RB's Steakhouse
DESCRIPTION:Indulge in Prime Rib Wednesdays at RB’s Steakhouse! 12 ounces prime rib with side option every Wednesday while supplies last\, 3-9pm. \n29020 Oak Terrace\, Cedar Glen
URL:https://ilovelakearrowhead.com/event/prime-rib-wednesdays-at-rbs-steakhouse-2/2028-07-19/
CATEGORIES:Cedar Glen
ATTACH;FMTTYPE=image/jpeg:https://ilovelakearrowhead.com/wp-content/uploads/rb_steakhouse_ilovelakearrowhead-7516.jpg
END:VEVENT
BEGIN:VEVENT
DTSTART;TZID=America/Los_Angeles:20280726T150000
DTEND;TZID=America/Los_Angeles:20280726T150000
DTSTAMP:20260424T142226
CREATED:20241206T025343Z
LAST-MODIFIED:20241206T025436Z
UID:10001680-1848236400-1848236400@ilovelakearrowhead.com
SUMMARY:Prime Rib Wednesdays at RB's Steakhouse
DESCRIPTION:Indulge in Prime Rib Wednesdays at RB’s Steakhouse! 12 ounces prime rib with side option every Wednesday while supplies last\, 3-9pm. \n29020 Oak Terrace\, Cedar Glen
URL:https://ilovelakearrowhead.com/event/prime-rib-wednesdays-at-rbs-steakhouse-2/2028-07-26/
CATEGORIES:Cedar Glen
ATTACH;FMTTYPE=image/jpeg:https://ilovelakearrowhead.com/wp-content/uploads/rb_steakhouse_ilovelakearrowhead-7516.jpg
END:VEVENT
BEGIN:VEVENT
DTSTART;TZID=America/Los_Angeles:20280802T150000
DTEND;TZID=America/Los_Angeles:20280802T150000
DTSTAMP:20260424T142226
CREATED:20241206T025343Z
LAST-MODIFIED:20241206T025436Z
UID:10001681-1848841200-1848841200@ilovelakearrowhead.com
SUMMARY:Prime Rib Wednesdays at RB's Steakhouse
DESCRIPTION:Indulge in Prime Rib Wednesdays at RB’s Steakhouse! 12 ounces prime rib with side option every Wednesday while supplies last\, 3-9pm. \n29020 Oak Terrace\, Cedar Glen
URL:https://ilovelakearrowhead.com/event/prime-rib-wednesdays-at-rbs-steakhouse-2/2028-08-02/
CATEGORIES:Cedar Glen
ATTACH;FMTTYPE=image/jpeg:https://ilovelakearrowhead.com/wp-content/uploads/rb_steakhouse_ilovelakearrowhead-7516.jpg
END:VEVENT
BEGIN:VEVENT
DTSTART;TZID=America/Los_Angeles:20280809T150000
DTEND;TZID=America/Los_Angeles:20280809T150000
DTSTAMP:20260424T142226
CREATED:20241206T025343Z
LAST-MODIFIED:20241206T025436Z
UID:10001682-1849446000-1849446000@ilovelakearrowhead.com
SUMMARY:Prime Rib Wednesdays at RB's Steakhouse
DESCRIPTION:Indulge in Prime Rib Wednesdays at RB’s Steakhouse! 12 ounces prime rib with side option every Wednesday while supplies last\, 3-9pm. \n29020 Oak Terrace\, Cedar Glen
URL:https://ilovelakearrowhead.com/event/prime-rib-wednesdays-at-rbs-steakhouse-2/2028-08-09/
CATEGORIES:Cedar Glen
ATTACH;FMTTYPE=image/jpeg:https://ilovelakearrowhead.com/wp-content/uploads/rb_steakhouse_ilovelakearrowhead-7516.jpg
END:VEVENT
BEGIN:VEVENT
DTSTART;TZID=America/Los_Angeles:20280816T150000
DTEND;TZID=America/Los_Angeles:20280816T150000
DTSTAMP:20260424T142226
CREATED:20241206T025343Z
LAST-MODIFIED:20241206T025436Z
UID:10001683-1850050800-1850050800@ilovelakearrowhead.com
SUMMARY:Prime Rib Wednesdays at RB's Steakhouse
DESCRIPTION:Indulge in Prime Rib Wednesdays at RB’s Steakhouse! 12 ounces prime rib with side option every Wednesday while supplies last\, 3-9pm. \n29020 Oak Terrace\, Cedar Glen
URL:https://ilovelakearrowhead.com/event/prime-rib-wednesdays-at-rbs-steakhouse-2/2028-08-16/
CATEGORIES:Cedar Glen
ATTACH;FMTTYPE=image/jpeg:https://ilovelakearrowhead.com/wp-content/uploads/rb_steakhouse_ilovelakearrowhead-7516.jpg
END:VEVENT
BEGIN:VEVENT
DTSTART;TZID=America/Los_Angeles:20280823T150000
DTEND;TZID=America/Los_Angeles:20280823T150000
DTSTAMP:20260424T142226
CREATED:20241206T025343Z
LAST-MODIFIED:20241206T025436Z
UID:10001684-1850655600-1850655600@ilovelakearrowhead.com
SUMMARY:Prime Rib Wednesdays at RB's Steakhouse
DESCRIPTION:Indulge in Prime Rib Wednesdays at RB’s Steakhouse! 12 ounces prime rib with side option every Wednesday while supplies last\, 3-9pm. \n29020 Oak Terrace\, Cedar Glen
URL:https://ilovelakearrowhead.com/event/prime-rib-wednesdays-at-rbs-steakhouse-2/2028-08-23/
CATEGORIES:Cedar Glen
ATTACH;FMTTYPE=image/jpeg:https://ilovelakearrowhead.com/wp-content/uploads/rb_steakhouse_ilovelakearrowhead-7516.jpg
END:VEVENT
BEGIN:VEVENT
DTSTART;TZID=America/Los_Angeles:20280830T150000
DTEND;TZID=America/Los_Angeles:20280830T150000
DTSTAMP:20260424T142226
CREATED:20241206T025343Z
LAST-MODIFIED:20241206T025436Z
UID:10001685-1851260400-1851260400@ilovelakearrowhead.com
SUMMARY:Prime Rib Wednesdays at RB's Steakhouse
DESCRIPTION:Indulge in Prime Rib Wednesdays at RB’s Steakhouse! 12 ounces prime rib with side option every Wednesday while supplies last\, 3-9pm. \n29020 Oak Terrace\, Cedar Glen
URL:https://ilovelakearrowhead.com/event/prime-rib-wednesdays-at-rbs-steakhouse-2/2028-08-30/
CATEGORIES:Cedar Glen
ATTACH;FMTTYPE=image/jpeg:https://ilovelakearrowhead.com/wp-content/uploads/rb_steakhouse_ilovelakearrowhead-7516.jpg
END:VEVENT
BEGIN:VEVENT
DTSTART;TZID=America/Los_Angeles:20280906T150000
DTEND;TZID=America/Los_Angeles:20280906T150000
DTSTAMP:20260424T142226
CREATED:20241206T025343Z
LAST-MODIFIED:20241206T025436Z
UID:10001686-1851865200-1851865200@ilovelakearrowhead.com
SUMMARY:Prime Rib Wednesdays at RB's Steakhouse
DESCRIPTION:Indulge in Prime Rib Wednesdays at RB’s Steakhouse! 12 ounces prime rib with side option every Wednesday while supplies last\, 3-9pm. \n29020 Oak Terrace\, Cedar Glen
URL:https://ilovelakearrowhead.com/event/prime-rib-wednesdays-at-rbs-steakhouse-2/2028-09-06/
CATEGORIES:Cedar Glen
ATTACH;FMTTYPE=image/jpeg:https://ilovelakearrowhead.com/wp-content/uploads/rb_steakhouse_ilovelakearrowhead-7516.jpg
END:VEVENT
BEGIN:VEVENT
DTSTART;TZID=America/Los_Angeles:20280913T150000
DTEND;TZID=America/Los_Angeles:20280913T150000
DTSTAMP:20260424T142226
CREATED:20241206T025343Z
LAST-MODIFIED:20241206T025436Z
UID:10001687-1852470000-1852470000@ilovelakearrowhead.com
SUMMARY:Prime Rib Wednesdays at RB's Steakhouse
DESCRIPTION:Indulge in Prime Rib Wednesdays at RB’s Steakhouse! 12 ounces prime rib with side option every Wednesday while supplies last\, 3-9pm. \n29020 Oak Terrace\, Cedar Glen
URL:https://ilovelakearrowhead.com/event/prime-rib-wednesdays-at-rbs-steakhouse-2/2028-09-13/
CATEGORIES:Cedar Glen
ATTACH;FMTTYPE=image/jpeg:https://ilovelakearrowhead.com/wp-content/uploads/rb_steakhouse_ilovelakearrowhead-7516.jpg
END:VEVENT
BEGIN:VEVENT
DTSTART;TZID=America/Los_Angeles:20280920T150000
DTEND;TZID=America/Los_Angeles:20280920T150000
DTSTAMP:20260424T142226
CREATED:20241206T025343Z
LAST-MODIFIED:20241206T025436Z
UID:10001688-1853074800-1853074800@ilovelakearrowhead.com
SUMMARY:Prime Rib Wednesdays at RB's Steakhouse
DESCRIPTION:Indulge in Prime Rib Wednesdays at RB’s Steakhouse! 12 ounces prime rib with side option every Wednesday while supplies last\, 3-9pm. \n29020 Oak Terrace\, Cedar Glen
URL:https://ilovelakearrowhead.com/event/prime-rib-wednesdays-at-rbs-steakhouse-2/2028-09-20/
CATEGORIES:Cedar Glen
ATTACH;FMTTYPE=image/jpeg:https://ilovelakearrowhead.com/wp-content/uploads/rb_steakhouse_ilovelakearrowhead-7516.jpg
END:VEVENT
BEGIN:VEVENT
DTSTART;TZID=America/Los_Angeles:20280927T150000
DTEND;TZID=America/Los_Angeles:20280927T150000
DTSTAMP:20260424T142226
CREATED:20241206T025343Z
LAST-MODIFIED:20241206T025436Z
UID:10001689-1853679600-1853679600@ilovelakearrowhead.com
SUMMARY:Prime Rib Wednesdays at RB's Steakhouse
DESCRIPTION:Indulge in Prime Rib Wednesdays at RB’s Steakhouse! 12 ounces prime rib with side option every Wednesday while supplies last\, 3-9pm. \n29020 Oak Terrace\, Cedar Glen
URL:https://ilovelakearrowhead.com/event/prime-rib-wednesdays-at-rbs-steakhouse-2/2028-09-27/
CATEGORIES:Cedar Glen
ATTACH;FMTTYPE=image/jpeg:https://ilovelakearrowhead.com/wp-content/uploads/rb_steakhouse_ilovelakearrowhead-7516.jpg
END:VEVENT
BEGIN:VEVENT
DTSTART;TZID=America/Los_Angeles:20281004T150000
DTEND;TZID=America/Los_Angeles:20281004T150000
DTSTAMP:20260424T142226
CREATED:20241206T025343Z
LAST-MODIFIED:20241206T025436Z
UID:10001690-1854284400-1854284400@ilovelakearrowhead.com
SUMMARY:Prime Rib Wednesdays at RB's Steakhouse
DESCRIPTION:Indulge in Prime Rib Wednesdays at RB’s Steakhouse! 12 ounces prime rib with side option every Wednesday while supplies last\, 3-9pm. \n29020 Oak Terrace\, Cedar Glen
URL:https://ilovelakearrowhead.com/event/prime-rib-wednesdays-at-rbs-steakhouse-2/2028-10-04/
CATEGORIES:Cedar Glen
ATTACH;FMTTYPE=image/jpeg:https://ilovelakearrowhead.com/wp-content/uploads/rb_steakhouse_ilovelakearrowhead-7516.jpg
END:VEVENT
BEGIN:VEVENT
DTSTART;TZID=America/Los_Angeles:20281011T150000
DTEND;TZID=America/Los_Angeles:20281011T150000
DTSTAMP:20260424T142226
CREATED:20241206T025343Z
LAST-MODIFIED:20241206T025436Z
UID:10001691-1854889200-1854889200@ilovelakearrowhead.com
SUMMARY:Prime Rib Wednesdays at RB's Steakhouse
DESCRIPTION:Indulge in Prime Rib Wednesdays at RB’s Steakhouse! 12 ounces prime rib with side option every Wednesday while supplies last\, 3-9pm. \n29020 Oak Terrace\, Cedar Glen
URL:https://ilovelakearrowhead.com/event/prime-rib-wednesdays-at-rbs-steakhouse-2/2028-10-11/
CATEGORIES:Cedar Glen
ATTACH;FMTTYPE=image/jpeg:https://ilovelakearrowhead.com/wp-content/uploads/rb_steakhouse_ilovelakearrowhead-7516.jpg
END:VEVENT
BEGIN:VEVENT
DTSTART;TZID=America/Los_Angeles:20281018T150000
DTEND;TZID=America/Los_Angeles:20281018T150000
DTSTAMP:20260424T142227
CREATED:20241206T025343Z
LAST-MODIFIED:20241206T025436Z
UID:10001692-1855494000-1855494000@ilovelakearrowhead.com
SUMMARY:Prime Rib Wednesdays at RB's Steakhouse
DESCRIPTION:Indulge in Prime Rib Wednesdays at RB’s Steakhouse! 12 ounces prime rib with side option every Wednesday while supplies last\, 3-9pm. \n29020 Oak Terrace\, Cedar Glen
URL:https://ilovelakearrowhead.com/event/prime-rib-wednesdays-at-rbs-steakhouse-2/2028-10-18/
CATEGORIES:Cedar Glen
ATTACH;FMTTYPE=image/jpeg:https://ilovelakearrowhead.com/wp-content/uploads/rb_steakhouse_ilovelakearrowhead-7516.jpg
END:VEVENT
BEGIN:VEVENT
DTSTART;TZID=America/Los_Angeles:20281025T150000
DTEND;TZID=America/Los_Angeles:20281025T150000
DTSTAMP:20260424T142227
CREATED:20241206T025343Z
LAST-MODIFIED:20241206T025436Z
UID:10001693-1856098800-1856098800@ilovelakearrowhead.com
SUMMARY:Prime Rib Wednesdays at RB's Steakhouse
DESCRIPTION:Indulge in Prime Rib Wednesdays at RB’s Steakhouse! 12 ounces prime rib with side option every Wednesday while supplies last\, 3-9pm. \n29020 Oak Terrace\, Cedar Glen
URL:https://ilovelakearrowhead.com/event/prime-rib-wednesdays-at-rbs-steakhouse-2/2028-10-25/
CATEGORIES:Cedar Glen
ATTACH;FMTTYPE=image/jpeg:https://ilovelakearrowhead.com/wp-content/uploads/rb_steakhouse_ilovelakearrowhead-7516.jpg
END:VEVENT
BEGIN:VEVENT
DTSTART;TZID=America/Los_Angeles:20281101T150000
DTEND;TZID=America/Los_Angeles:20281101T150000
DTSTAMP:20260424T142227
CREATED:20241206T025343Z
LAST-MODIFIED:20241206T025436Z
UID:10001694-1856703600-1856703600@ilovelakearrowhead.com
SUMMARY:Prime Rib Wednesdays at RB's Steakhouse
DESCRIPTION:Indulge in Prime Rib Wednesdays at RB’s Steakhouse! 12 ounces prime rib with side option every Wednesday while supplies last\, 3-9pm. \n29020 Oak Terrace\, Cedar Glen
URL:https://ilovelakearrowhead.com/event/prime-rib-wednesdays-at-rbs-steakhouse-2/2028-11-01/
CATEGORIES:Cedar Glen
ATTACH;FMTTYPE=image/jpeg:https://ilovelakearrowhead.com/wp-content/uploads/rb_steakhouse_ilovelakearrowhead-7516.jpg
END:VEVENT
BEGIN:VEVENT
DTSTART;TZID=America/Los_Angeles:20281108T150000
DTEND;TZID=America/Los_Angeles:20281108T150000
DTSTAMP:20260424T142227
CREATED:20241206T025343Z
LAST-MODIFIED:20241206T025436Z
UID:10001695-1857308400-1857308400@ilovelakearrowhead.com
SUMMARY:Prime Rib Wednesdays at RB's Steakhouse
DESCRIPTION:Indulge in Prime Rib Wednesdays at RB’s Steakhouse! 12 ounces prime rib with side option every Wednesday while supplies last\, 3-9pm. \n29020 Oak Terrace\, Cedar Glen
URL:https://ilovelakearrowhead.com/event/prime-rib-wednesdays-at-rbs-steakhouse-2/2028-11-08/
CATEGORIES:Cedar Glen
ATTACH;FMTTYPE=image/jpeg:https://ilovelakearrowhead.com/wp-content/uploads/rb_steakhouse_ilovelakearrowhead-7516.jpg
END:VEVENT
BEGIN:VEVENT
DTSTART;TZID=America/Los_Angeles:20281115T150000
DTEND;TZID=America/Los_Angeles:20281115T150000
DTSTAMP:20260424T142227
CREATED:20241206T025343Z
LAST-MODIFIED:20241206T025436Z
UID:10001696-1857913200-1857913200@ilovelakearrowhead.com
SUMMARY:Prime Rib Wednesdays at RB's Steakhouse
DESCRIPTION:Indulge in Prime Rib Wednesdays at RB’s Steakhouse! 12 ounces prime rib with side option every Wednesday while supplies last\, 3-9pm. \n29020 Oak Terrace\, Cedar Glen
URL:https://ilovelakearrowhead.com/event/prime-rib-wednesdays-at-rbs-steakhouse-2/2028-11-15/
CATEGORIES:Cedar Glen
ATTACH;FMTTYPE=image/jpeg:https://ilovelakearrowhead.com/wp-content/uploads/rb_steakhouse_ilovelakearrowhead-7516.jpg
END:VEVENT
BEGIN:VEVENT
DTSTART;TZID=America/Los_Angeles:20281122T150000
DTEND;TZID=America/Los_Angeles:20281122T150000
DTSTAMP:20260424T142227
CREATED:20241206T025343Z
LAST-MODIFIED:20241206T025436Z
UID:10001697-1858518000-1858518000@ilovelakearrowhead.com
SUMMARY:Prime Rib Wednesdays at RB's Steakhouse
DESCRIPTION:Indulge in Prime Rib Wednesdays at RB’s Steakhouse! 12 ounces prime rib with side option every Wednesday while supplies last\, 3-9pm. \n29020 Oak Terrace\, Cedar Glen
URL:https://ilovelakearrowhead.com/event/prime-rib-wednesdays-at-rbs-steakhouse-2/2028-11-22/
CATEGORIES:Cedar Glen
ATTACH;FMTTYPE=image/jpeg:https://ilovelakearrowhead.com/wp-content/uploads/rb_steakhouse_ilovelakearrowhead-7516.jpg
END:VEVENT
BEGIN:VEVENT
DTSTART;TZID=America/Los_Angeles:20281129T150000
DTEND;TZID=America/Los_Angeles:20281129T150000
DTSTAMP:20260424T142227
CREATED:20241206T025343Z
LAST-MODIFIED:20241206T025436Z
UID:10001698-1859122800-1859122800@ilovelakearrowhead.com
SUMMARY:Prime Rib Wednesdays at RB's Steakhouse
DESCRIPTION:Indulge in Prime Rib Wednesdays at RB’s Steakhouse! 12 ounces prime rib with side option every Wednesday while supplies last\, 3-9pm. \n29020 Oak Terrace\, Cedar Glen
URL:https://ilovelakearrowhead.com/event/prime-rib-wednesdays-at-rbs-steakhouse-2/2028-11-29/
CATEGORIES:Cedar Glen
ATTACH;FMTTYPE=image/jpeg:https://ilovelakearrowhead.com/wp-content/uploads/rb_steakhouse_ilovelakearrowhead-7516.jpg
END:VEVENT
BEGIN:VEVENT
DTSTART;TZID=America/Los_Angeles:20281206T150000
DTEND;TZID=America/Los_Angeles:20281206T150000
DTSTAMP:20260424T142227
CREATED:20241206T025343Z
LAST-MODIFIED:20241206T025436Z
UID:10001699-1859727600-1859727600@ilovelakearrowhead.com
SUMMARY:Prime Rib Wednesdays at RB's Steakhouse
DESCRIPTION:Indulge in Prime Rib Wednesdays at RB’s Steakhouse! 12 ounces prime rib with side option every Wednesday while supplies last\, 3-9pm. \n29020 Oak Terrace\, Cedar Glen
URL:https://ilovelakearrowhead.com/event/prime-rib-wednesdays-at-rbs-steakhouse-2/2028-12-06/
CATEGORIES:Cedar Glen
ATTACH;FMTTYPE=image/jpeg:https://ilovelakearrowhead.com/wp-content/uploads/rb_steakhouse_ilovelakearrowhead-7516.jpg
END:VEVENT
BEGIN:VEVENT
DTSTART;TZID=America/Los_Angeles:20281213T150000
DTEND;TZID=America/Los_Angeles:20281213T150000
DTSTAMP:20260424T142227
CREATED:20241206T025343Z
LAST-MODIFIED:20241206T025436Z
UID:10001700-1860332400-1860332400@ilovelakearrowhead.com
SUMMARY:Prime Rib Wednesdays at RB's Steakhouse
DESCRIPTION:Indulge in Prime Rib Wednesdays at RB’s Steakhouse! 12 ounces prime rib with side option every Wednesday while supplies last\, 3-9pm. \n29020 Oak Terrace\, Cedar Glen
URL:https://ilovelakearrowhead.com/event/prime-rib-wednesdays-at-rbs-steakhouse-2/2028-12-13/
CATEGORIES:Cedar Glen
ATTACH;FMTTYPE=image/jpeg:https://ilovelakearrowhead.com/wp-content/uploads/rb_steakhouse_ilovelakearrowhead-7516.jpg
END:VEVENT
END:VCALENDAR