BEGIN:VCALENDAR
VERSION:2.0
PRODID:-//I Love Lake Arrowhead - ECPv6.15.20//NONSGML v1.0//EN
CALSCALE:GREGORIAN
METHOD:PUBLISH
X-WR-CALNAME:I Love Lake Arrowhead
X-ORIGINAL-URL:https://ilovelakearrowhead.com
X-WR-CALDESC:Events for I Love Lake Arrowhead
REFRESH-INTERVAL;VALUE=DURATION:PT1H
X-Robots-Tag:noindex
X-PUBLISHED-TTL:PT1H
BEGIN:VTIMEZONE
TZID:America/Los_Angeles
BEGIN:DAYLIGHT
TZOFFSETFROM:-0800
TZOFFSETTO:-0700
TZNAME:PDT
DTSTART:20250309T100000
END:DAYLIGHT
BEGIN:STANDARD
TZOFFSETFROM:-0700
TZOFFSETTO:-0800
TZNAME:PST
DTSTART:20251102T090000
END:STANDARD
BEGIN:DAYLIGHT
TZOFFSETFROM:-0800
TZOFFSETTO:-0700
TZNAME:PDT
DTSTART:20260308T100000
END:DAYLIGHT
BEGIN:STANDARD
TZOFFSETFROM:-0700
TZOFFSETTO:-0800
TZNAME:PST
DTSTART:20261101T090000
END:STANDARD
BEGIN:DAYLIGHT
TZOFFSETFROM:-0800
TZOFFSETTO:-0700
TZNAME:PDT
DTSTART:20270314T100000
END:DAYLIGHT
BEGIN:STANDARD
TZOFFSETFROM:-0700
TZOFFSETTO:-0800
TZNAME:PST
DTSTART:20271107T090000
END:STANDARD
END:VTIMEZONE
BEGIN:VEVENT
DTSTART;TZID=America/Los_Angeles:20260415T080000
DTEND;TZID=America/Los_Angeles:20260415T170000
DTSTAMP:20260421T115153
CREATED:20250122T183719Z
LAST-MODIFIED:20250122T183719Z
UID:10003799-1776240000-1776272400@ilovelakearrowhead.com
SUMMARY:Live Music at Saddleback Inn
DESCRIPTION:Live music Monday’s and Wednesday’s at Saddleback Inn in Lake Arrowhead from 4:30-7:30pm! Take advantage of happy hour pricing before 6pm. All ages welcome. \nLocation: Saddleback Inn | 300 CA-173\, Lake Arrowhead\, CA 92352 \ntime: 4:30-7:30pm \ndays: Monday and Wednesday’s
URL:https://ilovelakearrowhead.com/event/live-music-at-saddleback-inn/2026-04-15/
ATTACH;FMTTYPE=image/jpeg:https://ilovelakearrowhead.com/wp-content/uploads/IMG_7074.jpg
END:VEVENT
BEGIN:VEVENT
DTSTART;TZID=America/Los_Angeles:20260415T150000
DTEND;TZID=America/Los_Angeles:20260415T150000
DTSTAMP:20260421T115153
CREATED:20241206T025343Z
LAST-MODIFIED:20241206T025436Z
UID:10001561-1776265200-1776265200@ilovelakearrowhead.com
SUMMARY:Prime Rib Wednesdays at RB's Steakhouse
DESCRIPTION:Indulge in Prime Rib Wednesdays at RB’s Steakhouse! 12 ounces prime rib with side option every Wednesday while supplies last\, 3-9pm. \n29020 Oak Terrace\, Cedar Glen
URL:https://ilovelakearrowhead.com/event/prime-rib-wednesdays-at-rbs-steakhouse-2/2026-04-15/
CATEGORIES:Cedar Glen
ATTACH;FMTTYPE=image/jpeg:https://ilovelakearrowhead.com/wp-content/uploads/rb_steakhouse_ilovelakearrowhead-7516.jpg
END:VEVENT
END:VCALENDAR