BEGIN:VCALENDAR
VERSION:2.0
PRODID:-//I Love Lake Arrowhead - ECPv6.15.20//NONSGML v1.0//EN
CALSCALE:GREGORIAN
METHOD:PUBLISH
X-WR-CALNAME:I Love Lake Arrowhead
X-ORIGINAL-URL:https://ilovelakearrowhead.com
X-WR-CALDESC:Events for I Love Lake Arrowhead
REFRESH-INTERVAL;VALUE=DURATION:PT1H
X-Robots-Tag:noindex
X-PUBLISHED-TTL:PT1H
BEGIN:VTIMEZONE
TZID:America/Los_Angeles
BEGIN:DAYLIGHT
TZOFFSETFROM:-0800
TZOFFSETTO:-0700
TZNAME:PDT
DTSTART:20250309T100000
END:DAYLIGHT
BEGIN:STANDARD
TZOFFSETFROM:-0700
TZOFFSETTO:-0800
TZNAME:PST
DTSTART:20251102T090000
END:STANDARD
BEGIN:DAYLIGHT
TZOFFSETFROM:-0800
TZOFFSETTO:-0700
TZNAME:PDT
DTSTART:20260308T100000
END:DAYLIGHT
BEGIN:STANDARD
TZOFFSETFROM:-0700
TZOFFSETTO:-0800
TZNAME:PST
DTSTART:20261101T090000
END:STANDARD
BEGIN:DAYLIGHT
TZOFFSETFROM:-0800
TZOFFSETTO:-0700
TZNAME:PDT
DTSTART:20270314T100000
END:DAYLIGHT
BEGIN:STANDARD
TZOFFSETFROM:-0700
TZOFFSETTO:-0800
TZNAME:PST
DTSTART:20271107T090000
END:STANDARD
END:VTIMEZONE
BEGIN:VEVENT
DTSTART;TZID=America/Los_Angeles:20260206T190000
DTEND;TZID=America/Los_Angeles:20260206T220000
DTSTAMP:20260425T075034
CREATED:20250930T030232Z
LAST-MODIFIED:20260127T023233Z
UID:10007374-1770404400-1770415200@ilovelakearrowhead.com
SUMMARY:Aloha Fridays + Karaoke at Tiki Republik
DESCRIPTION:Fridays at Tiki Republik from 4PM–close for island vibes\, good eats\, and great tunes! \n🎶 Hosted by Just Carl – Live from 8PM to 10PM🍹 $2 OFF all food & drinks all night long🎟️ Get a raffle ticket with every purchase🎁 Hourly raffles all night—must be present to win! \nGrab your crew and come chill at Tiki Republik this Friday! 🌴🍍🔥
URL:https://ilovelakearrowhead.com/event/aloha-thursdays-karaoke-at-tiki-republik-2/2026-02-06/
LOCATION:Tiki Republik\, 28200 CA-189 Suite R-210\, Lake Arrowhead\, CA\, 92352\, United States
CATEGORIES:Lake Arrowhead Village
ATTACH;FMTTYPE=image/jpeg:https://ilovelakearrowhead.com/wp-content/uploads/karaokefridaysattikirepublik2.jpg
END:VEVENT
BEGIN:VEVENT
DTSTART;TZID=America/Los_Angeles:20260206T190000
DTEND;TZID=America/Los_Angeles:20260206T230000
DTSTAMP:20260425T075034
CREATED:20250515T053249Z
LAST-MODIFIED:20250610T041546Z
UID:10005025-1770404400-1770418800@ilovelakearrowhead.com
SUMMARY:Black Dog Social Club Live Music Every Weekend
DESCRIPTION:Stop by Black Dog Social Club for live music every weekend! Plus $5drafts happy hour Fridays from 5-7pm! \n📍 Black Dog Social Club🗓 Friday and Saturday 7pm\, Sunday 12 noon📍 33231 Green Valley Lake Rd\, Green Valley Lake\, CA 92341 \nhttps://blackdogsocialclub.com/
URL:https://ilovelakearrowhead.com/event/black-dog-social-club-live-music-every-weekend/2026-02-06/
ATTACH;FMTTYPE=image/jpeg:https://ilovelakearrowhead.com/wp-content/uploads/Screenshot-2025-06-09-at-9.10.40 PM.jpg
END:VEVENT
END:VCALENDAR