BEGIN:VCALENDAR
VERSION:2.0
PRODID:-//I Love Lake Arrowhead - ECPv6.15.20//NONSGML v1.0//EN
CALSCALE:GREGORIAN
METHOD:PUBLISH
X-ORIGINAL-URL:https://ilovelakearrowhead.com
X-WR-CALDESC:Events for I Love Lake Arrowhead
REFRESH-INTERVAL;VALUE=DURATION:PT1H
X-Robots-Tag:noindex
X-PUBLISHED-TTL:PT1H
BEGIN:VTIMEZONE
TZID:America/Los_Angeles
BEGIN:DAYLIGHT
TZOFFSETFROM:-0800
TZOFFSETTO:-0700
TZNAME:PDT
DTSTART:20250309T100000
END:DAYLIGHT
BEGIN:STANDARD
TZOFFSETFROM:-0700
TZOFFSETTO:-0800
TZNAME:PST
DTSTART:20251102T090000
END:STANDARD
BEGIN:DAYLIGHT
TZOFFSETFROM:-0800
TZOFFSETTO:-0700
TZNAME:PDT
DTSTART:20260308T100000
END:DAYLIGHT
BEGIN:STANDARD
TZOFFSETFROM:-0700
TZOFFSETTO:-0800
TZNAME:PST
DTSTART:20261101T090000
END:STANDARD
BEGIN:DAYLIGHT
TZOFFSETFROM:-0800
TZOFFSETTO:-0700
TZNAME:PDT
DTSTART:20270314T100000
END:DAYLIGHT
BEGIN:STANDARD
TZOFFSETFROM:-0700
TZOFFSETTO:-0800
TZNAME:PST
DTSTART:20271107T090000
END:STANDARD
END:VTIMEZONE
BEGIN:VEVENT
DTSTART;TZID=America/Los_Angeles:20260131T100000
DTEND;TZID=America/Los_Angeles:20260131T123000
DTSTAMP:20260423T133927
CREATED:20260121T020235Z
LAST-MODIFIED:20260121T020235Z
UID:10006831-1769853600-1769862600@ilovelakearrowhead.com
SUMMARY:UCLA Craft Studio
DESCRIPTION:Relax\, create\, and learn new skills in our Art & Craft Studio! \nPerfect for kids\, teens\, and adults – no experience needed. \n  \nFor more information contact: \ntpattison@ha.ucla.edu  |  aturner@ha.ucla.edu
URL:https://ilovelakearrowhead.com/event/ucla-craft-studio/2026-01-31/
LOCATION:UCLA Lake Arrowhead Lodge\, 850 Willow Creek Road\, Lake Arrowhead\, CA\, 92352\, United States
ATTACH;FMTTYPE=image/jpeg:https://ilovelakearrowhead.com/wp-content/uploads/artcraftUCLA.jpg
END:VEVENT
BEGIN:VEVENT
DTSTART;TZID=America/Los_Angeles:20260131T100000
DTEND;TZID=America/Los_Angeles:20260131T140000
DTSTAMP:20260423T133927
CREATED:20260127T030332Z
LAST-MODIFIED:20260127T030530Z
UID:10008003-1769853600-1769868000@ilovelakearrowhead.com
SUMMARY:Weekend Brunch at Sunsets Island Bar & Grill
DESCRIPTION:IE FOODIES has named Sunsets Island Bar & Grill as Best Brunch & Best Cocktail in the IE. See for yourself every Saturday & Sunday 10a-2p.
URL:https://ilovelakearrowhead.com/event/weekend-brunch-at-sunsets-island-bar-grill/2026-01-31/
LOCATION:Sunsets Island Bar & Grill\, 28200 CA-189 Suite R-210\, Lake Arrowhead\, CA\, 92352\, United States
CATEGORIES:Lake Arrowhead Village
ATTACH;FMTTYPE=image/jpeg:https://ilovelakearrowhead.com/wp-content/uploads/weekendbrunch2.jpg
END:VEVENT
BEGIN:VEVENT
DTSTART;TZID=America/Los_Angeles:20260131T180000
DTEND;TZID=America/Los_Angeles:20260131T230000
DTSTAMP:20260423T133927
CREATED:20241206T030139Z
LAST-MODIFIED:20241206T030139Z
UID:10002609-1769882400-1769900400@ilovelakearrowhead.com
SUMMARY:Karaoke Every Saturday at RBs Steakhouse
DESCRIPTION:Karaoke Night Every Saturday at RBs Steakhouse in Cedar Glen starting at 6pm. \n29020 Oak Terrace\, Cedar Glen\, CA 92321
URL:https://ilovelakearrowhead.com/event/karaoke-every-saturday-at-rbs-steakhouse/2026-01-31/
CATEGORIES:Lake Arrowhead Village,Lake Arrowhead
ATTACH;FMTTYPE=image/webp:https://ilovelakearrowhead.com/wp-content/uploads/pexels-photo-164879-1.webp
END:VEVENT
BEGIN:VEVENT
DTSTART;TZID=America/Los_Angeles:20260131T190000
DTEND;TZID=America/Los_Angeles:20260131T230000
DTSTAMP:20260423T133927
CREATED:20250515T053249Z
LAST-MODIFIED:20250610T041546Z
UID:10005023-1769886000-1769900400@ilovelakearrowhead.com
SUMMARY:Black Dog Social Club Live Music Every Weekend
DESCRIPTION:Stop by Black Dog Social Club for live music every weekend! Plus $5drafts happy hour Fridays from 5-7pm! \n📍 Black Dog Social Club🗓 Friday and Saturday 7pm\, Sunday 12 noon📍 33231 Green Valley Lake Rd\, Green Valley Lake\, CA 92341 \nhttps://blackdogsocialclub.com/
URL:https://ilovelakearrowhead.com/event/black-dog-social-club-live-music-every-weekend/2026-01-31/
ATTACH;FMTTYPE=image/jpeg:https://ilovelakearrowhead.com/wp-content/uploads/Screenshot-2025-06-09-at-9.10.40 PM.jpg
END:VEVENT
END:VCALENDAR